BEGIN:VCALENDAR
VERSION:2.0
PRODID:-//Kadena Air Base - ECPv6.15.20//NONSGML v1.0//EN
CALSCALE:GREGORIAN
METHOD:PUBLISH
X-ORIGINAL-URL:https://kadenafss.com
X-WR-CALDESC:Events for Kadena Air Base
REFRESH-INTERVAL;VALUE=DURATION:PT1H
X-Robots-Tag:noindex
X-PUBLISHED-TTL:PT1H
BEGIN:VTIMEZONE
TZID:Asia/Tokyo
BEGIN:STANDARD
TZOFFSETFROM:+0900
TZOFFSETTO:+0900
TZNAME:JST
DTSTART:20260101T000000
END:STANDARD
END:VTIMEZONE
BEGIN:VEVENT
DTSTART;TZID=Asia/Tokyo:20270401T190000
DTEND;TZID=Asia/Tokyo:20270401T220000
DTSTAMP:20260426T042009
CREATED:20260316T062616Z
LAST-MODIFIED:20260316T062616Z
UID:10033312-1806606000-1806616800@kadenafss.com
SUMMARY:Karaoke
DESCRIPTION:Step up to the mic and show us what you’ve got at Karaoke Night at The Rocker Club! Whether you’re a powerhouse vocalist\, a shower singer\, or just here for the fun\, it’s your time to shine.
URL:https://kadenafss.com/event/karaoke/2027-04-01
LOCATION:The Rocker Club\, Building #622\, The Rocker Club\, Building #622\, Kadena AB\, Okinawa\, 904-0000\, Japan
CATEGORIES:Fun Events,The Rocker
ATTACH;FMTTYPE=image/png:https://kadenafss.com/wp-content/uploads/2025/09/Japanese-Grocery-Shopping-Bus-Tour-13-1.png
END:VEVENT
BEGIN:VEVENT
DTSTART;TZID=Asia/Tokyo:20270408T190000
DTEND;TZID=Asia/Tokyo:20270408T220000
DTSTAMP:20260426T042009
CREATED:20260316T062616Z
LAST-MODIFIED:20260316T062616Z
UID:10033313-1807210800-1807221600@kadenafss.com
SUMMARY:Karaoke
DESCRIPTION:Step up to the mic and show us what you’ve got at Karaoke Night at The Rocker Club! Whether you’re a powerhouse vocalist\, a shower singer\, or just here for the fun\, it’s your time to shine.
URL:https://kadenafss.com/event/karaoke/2027-04-08
LOCATION:The Rocker Club\, Building #622\, The Rocker Club\, Building #622\, Kadena AB\, Okinawa\, 904-0000\, Japan
CATEGORIES:Fun Events,The Rocker
ATTACH;FMTTYPE=image/png:https://kadenafss.com/wp-content/uploads/2025/09/Japanese-Grocery-Shopping-Bus-Tour-13-1.png
END:VEVENT
BEGIN:VEVENT
DTSTART;TZID=Asia/Tokyo:20270415T190000
DTEND;TZID=Asia/Tokyo:20270415T220000
DTSTAMP:20260426T042009
CREATED:20260316T062616Z
LAST-MODIFIED:20260316T062616Z
UID:10033314-1807815600-1807826400@kadenafss.com
SUMMARY:Karaoke
DESCRIPTION:Step up to the mic and show us what you’ve got at Karaoke Night at The Rocker Club! Whether you’re a powerhouse vocalist\, a shower singer\, or just here for the fun\, it’s your time to shine.
URL:https://kadenafss.com/event/karaoke/2027-04-15
LOCATION:The Rocker Club\, Building #622\, The Rocker Club\, Building #622\, Kadena AB\, Okinawa\, 904-0000\, Japan
CATEGORIES:Fun Events,The Rocker
ATTACH;FMTTYPE=image/png:https://kadenafss.com/wp-content/uploads/2025/09/Japanese-Grocery-Shopping-Bus-Tour-13-1.png
END:VEVENT
BEGIN:VEVENT
DTSTART;TZID=Asia/Tokyo:20270422T190000
DTEND;TZID=Asia/Tokyo:20270422T220000
DTSTAMP:20260426T042009
CREATED:20260316T062616Z
LAST-MODIFIED:20260316T062616Z
UID:10033315-1808420400-1808431200@kadenafss.com
SUMMARY:Karaoke
DESCRIPTION:Step up to the mic and show us what you’ve got at Karaoke Night at The Rocker Club! Whether you’re a powerhouse vocalist\, a shower singer\, or just here for the fun\, it’s your time to shine.
URL:https://kadenafss.com/event/karaoke/2027-04-22
LOCATION:The Rocker Club\, Building #622\, The Rocker Club\, Building #622\, Kadena AB\, Okinawa\, 904-0000\, Japan
CATEGORIES:Fun Events,The Rocker
ATTACH;FMTTYPE=image/png:https://kadenafss.com/wp-content/uploads/2025/09/Japanese-Grocery-Shopping-Bus-Tour-13-1.png
END:VEVENT
BEGIN:VEVENT
DTSTART;TZID=Asia/Tokyo:20270429T190000
DTEND;TZID=Asia/Tokyo:20270429T220000
DTSTAMP:20260426T042009
CREATED:20260316T062616Z
LAST-MODIFIED:20260316T062616Z
UID:10033316-1809025200-1809036000@kadenafss.com
SUMMARY:Karaoke
DESCRIPTION:Step up to the mic and show us what you’ve got at Karaoke Night at The Rocker Club! Whether you’re a powerhouse vocalist\, a shower singer\, or just here for the fun\, it’s your time to shine.
URL:https://kadenafss.com/event/karaoke/2027-04-29
LOCATION:The Rocker Club\, Building #622\, The Rocker Club\, Building #622\, Kadena AB\, Okinawa\, 904-0000\, Japan
CATEGORIES:Fun Events,The Rocker
ATTACH;FMTTYPE=image/png:https://kadenafss.com/wp-content/uploads/2025/09/Japanese-Grocery-Shopping-Bus-Tour-13-1.png
END:VEVENT
END:VCALENDAR