BEGIN:VCALENDAR
VERSION:2.0
PRODID:-//Kadena Air Base - ECPv6.15.20//NONSGML v1.0//EN
CALSCALE:GREGORIAN
METHOD:PUBLISH
X-ORIGINAL-URL:https://kadenafss.com
X-WR-CALDESC:Events for Kadena Air Base
REFRESH-INTERVAL;VALUE=DURATION:PT1H
X-Robots-Tag:noindex
X-PUBLISHED-TTL:PT1H
BEGIN:VTIMEZONE
TZID:Asia/Tokyo
BEGIN:STANDARD
TZOFFSETFROM:+0900
TZOFFSETTO:+0900
TZNAME:JST
DTSTART:20250101T000000
END:STANDARD
END:VTIMEZONE
BEGIN:VEVENT
DTSTART;TZID=Asia/Tokyo:20260721T190000
DTEND;TZID=Asia/Tokyo:20260721T220000
DTSTAMP:20260426T131122
CREATED:20260316T061009Z
LAST-MODIFIED:20260330T044407Z
UID:10033750-1784660400-1784671200@kadenafss.com
SUMMARY:Smartphone Trivia
DESCRIPTION:Free for members | $5 per nonmember \nTeams of two | minimum of eight participants \nThink you’ve got what it takes to be the trivia champ? Put your knowledge to the test at Smartphone Trivia Night at The Rocker Club! Gather your friends\, bring your phone\, and get ready for a fast-paced night of fun questions\, friendly competition\, and plenty of laughs.
URL:https://kadenafss.com/event/smartphone-trivia/2026-07-21
CATEGORIES:Fun Events,The Rocker
ATTACH;FMTTYPE=image/png:https://kadenafss.com/wp-content/uploads/2025/04/Smartphone-Trivia.png
END:VEVENT
BEGIN:VEVENT
DTSTART;TZID=Asia/Tokyo:20260728T190000
DTEND;TZID=Asia/Tokyo:20260728T220000
DTSTAMP:20260426T131122
CREATED:20260316T061009Z
LAST-MODIFIED:20260330T044407Z
UID:10033751-1785265200-1785276000@kadenafss.com
SUMMARY:Smartphone Trivia
DESCRIPTION:Free for members | $5 per nonmember \nTeams of two | minimum of eight participants \nThink you’ve got what it takes to be the trivia champ? Put your knowledge to the test at Smartphone Trivia Night at The Rocker Club! Gather your friends\, bring your phone\, and get ready for a fast-paced night of fun questions\, friendly competition\, and plenty of laughs.
URL:https://kadenafss.com/event/smartphone-trivia/2026-07-28
CATEGORIES:Fun Events,The Rocker
ATTACH;FMTTYPE=image/png:https://kadenafss.com/wp-content/uploads/2025/04/Smartphone-Trivia.png
END:VEVENT
BEGIN:VEVENT
DTSTART;TZID=Asia/Tokyo:20260804T190000
DTEND;TZID=Asia/Tokyo:20260804T220000
DTSTAMP:20260426T131122
CREATED:20260316T061009Z
LAST-MODIFIED:20260330T044407Z
UID:10033752-1785870000-1785880800@kadenafss.com
SUMMARY:Smartphone Trivia
DESCRIPTION:Free for members | $5 per nonmember \nTeams of two | minimum of eight participants \nThink you’ve got what it takes to be the trivia champ? Put your knowledge to the test at Smartphone Trivia Night at The Rocker Club! Gather your friends\, bring your phone\, and get ready for a fast-paced night of fun questions\, friendly competition\, and plenty of laughs.
URL:https://kadenafss.com/event/smartphone-trivia/2026-08-04
CATEGORIES:Fun Events,The Rocker
ATTACH;FMTTYPE=image/png:https://kadenafss.com/wp-content/uploads/2025/04/Smartphone-Trivia.png
END:VEVENT
BEGIN:VEVENT
DTSTART;TZID=Asia/Tokyo:20260811T190000
DTEND;TZID=Asia/Tokyo:20260811T220000
DTSTAMP:20260426T131122
CREATED:20260316T061009Z
LAST-MODIFIED:20260330T044407Z
UID:10033753-1786474800-1786485600@kadenafss.com
SUMMARY:Smartphone Trivia
DESCRIPTION:Free for members | $5 per nonmember \nTeams of two | minimum of eight participants \nThink you’ve got what it takes to be the trivia champ? Put your knowledge to the test at Smartphone Trivia Night at The Rocker Club! Gather your friends\, bring your phone\, and get ready for a fast-paced night of fun questions\, friendly competition\, and plenty of laughs.
URL:https://kadenafss.com/event/smartphone-trivia/2026-08-11
CATEGORIES:Fun Events,The Rocker
ATTACH;FMTTYPE=image/png:https://kadenafss.com/wp-content/uploads/2025/04/Smartphone-Trivia.png
END:VEVENT
BEGIN:VEVENT
DTSTART;TZID=Asia/Tokyo:20260818T190000
DTEND;TZID=Asia/Tokyo:20260818T220000
DTSTAMP:20260426T131122
CREATED:20260316T061009Z
LAST-MODIFIED:20260330T044407Z
UID:10033754-1787079600-1787090400@kadenafss.com
SUMMARY:Smartphone Trivia
DESCRIPTION:Free for members | $5 per nonmember \nTeams of two | minimum of eight participants \nThink you’ve got what it takes to be the trivia champ? Put your knowledge to the test at Smartphone Trivia Night at The Rocker Club! Gather your friends\, bring your phone\, and get ready for a fast-paced night of fun questions\, friendly competition\, and plenty of laughs.
URL:https://kadenafss.com/event/smartphone-trivia/2026-08-18
CATEGORIES:Fun Events,The Rocker
ATTACH;FMTTYPE=image/png:https://kadenafss.com/wp-content/uploads/2025/04/Smartphone-Trivia.png
END:VEVENT
BEGIN:VEVENT
DTSTART;TZID=Asia/Tokyo:20260825T190000
DTEND;TZID=Asia/Tokyo:20260825T220000
DTSTAMP:20260426T131122
CREATED:20260316T061009Z
LAST-MODIFIED:20260330T044407Z
UID:10033755-1787684400-1787695200@kadenafss.com
SUMMARY:Smartphone Trivia
DESCRIPTION:Free for members | $5 per nonmember \nTeams of two | minimum of eight participants \nThink you’ve got what it takes to be the trivia champ? Put your knowledge to the test at Smartphone Trivia Night at The Rocker Club! Gather your friends\, bring your phone\, and get ready for a fast-paced night of fun questions\, friendly competition\, and plenty of laughs.
URL:https://kadenafss.com/event/smartphone-trivia/2026-08-25
CATEGORIES:Fun Events,The Rocker
ATTACH;FMTTYPE=image/png:https://kadenafss.com/wp-content/uploads/2025/04/Smartphone-Trivia.png
END:VEVENT
BEGIN:VEVENT
DTSTART;TZID=Asia/Tokyo:20260901T190000
DTEND;TZID=Asia/Tokyo:20260901T220000
DTSTAMP:20260426T131122
CREATED:20260316T061009Z
LAST-MODIFIED:20260330T044407Z
UID:10033756-1788289200-1788300000@kadenafss.com
SUMMARY:Smartphone Trivia
DESCRIPTION:Free for members | $5 per nonmember \nTeams of two | minimum of eight participants \nThink you’ve got what it takes to be the trivia champ? Put your knowledge to the test at Smartphone Trivia Night at The Rocker Club! Gather your friends\, bring your phone\, and get ready for a fast-paced night of fun questions\, friendly competition\, and plenty of laughs.
URL:https://kadenafss.com/event/smartphone-trivia/2026-09-01
CATEGORIES:Fun Events,The Rocker
ATTACH;FMTTYPE=image/png:https://kadenafss.com/wp-content/uploads/2025/04/Smartphone-Trivia.png
END:VEVENT
BEGIN:VEVENT
DTSTART;TZID=Asia/Tokyo:20260908T190000
DTEND;TZID=Asia/Tokyo:20260908T220000
DTSTAMP:20260426T131122
CREATED:20260316T061009Z
LAST-MODIFIED:20260330T044407Z
UID:10033757-1788894000-1788904800@kadenafss.com
SUMMARY:Smartphone Trivia
DESCRIPTION:Free for members | $5 per nonmember \nTeams of two | minimum of eight participants \nThink you’ve got what it takes to be the trivia champ? Put your knowledge to the test at Smartphone Trivia Night at The Rocker Club! Gather your friends\, bring your phone\, and get ready for a fast-paced night of fun questions\, friendly competition\, and plenty of laughs.
URL:https://kadenafss.com/event/smartphone-trivia/2026-09-08
CATEGORIES:Fun Events,The Rocker
ATTACH;FMTTYPE=image/png:https://kadenafss.com/wp-content/uploads/2025/04/Smartphone-Trivia.png
END:VEVENT
BEGIN:VEVENT
DTSTART;TZID=Asia/Tokyo:20260915T190000
DTEND;TZID=Asia/Tokyo:20260915T220000
DTSTAMP:20260426T131122
CREATED:20260316T061009Z
LAST-MODIFIED:20260330T044407Z
UID:10033758-1789498800-1789509600@kadenafss.com
SUMMARY:Smartphone Trivia
DESCRIPTION:Free for members | $5 per nonmember \nTeams of two | minimum of eight participants \nThink you’ve got what it takes to be the trivia champ? Put your knowledge to the test at Smartphone Trivia Night at The Rocker Club! Gather your friends\, bring your phone\, and get ready for a fast-paced night of fun questions\, friendly competition\, and plenty of laughs.
URL:https://kadenafss.com/event/smartphone-trivia/2026-09-15
CATEGORIES:Fun Events,The Rocker
ATTACH;FMTTYPE=image/png:https://kadenafss.com/wp-content/uploads/2025/04/Smartphone-Trivia.png
END:VEVENT
BEGIN:VEVENT
DTSTART;TZID=Asia/Tokyo:20260922T190000
DTEND;TZID=Asia/Tokyo:20260922T220000
DTSTAMP:20260426T131122
CREATED:20260316T061009Z
LAST-MODIFIED:20260330T044407Z
UID:10033759-1790103600-1790114400@kadenafss.com
SUMMARY:Smartphone Trivia
DESCRIPTION:Free for members | $5 per nonmember \nTeams of two | minimum of eight participants \nThink you’ve got what it takes to be the trivia champ? Put your knowledge to the test at Smartphone Trivia Night at The Rocker Club! Gather your friends\, bring your phone\, and get ready for a fast-paced night of fun questions\, friendly competition\, and plenty of laughs.
URL:https://kadenafss.com/event/smartphone-trivia/2026-09-22
CATEGORIES:Fun Events,The Rocker
ATTACH;FMTTYPE=image/png:https://kadenafss.com/wp-content/uploads/2025/04/Smartphone-Trivia.png
END:VEVENT
BEGIN:VEVENT
DTSTART;TZID=Asia/Tokyo:20260929T190000
DTEND;TZID=Asia/Tokyo:20260929T220000
DTSTAMP:20260426T131122
CREATED:20260316T061009Z
LAST-MODIFIED:20260330T044407Z
UID:10033760-1790708400-1790719200@kadenafss.com
SUMMARY:Smartphone Trivia
DESCRIPTION:Free for members | $5 per nonmember \nTeams of two | minimum of eight participants \nThink you’ve got what it takes to be the trivia champ? Put your knowledge to the test at Smartphone Trivia Night at The Rocker Club! Gather your friends\, bring your phone\, and get ready for a fast-paced night of fun questions\, friendly competition\, and plenty of laughs.
URL:https://kadenafss.com/event/smartphone-trivia/2026-09-29
CATEGORIES:Fun Events,The Rocker
ATTACH;FMTTYPE=image/png:https://kadenafss.com/wp-content/uploads/2025/04/Smartphone-Trivia.png
END:VEVENT
BEGIN:VEVENT
DTSTART;TZID=Asia/Tokyo:20261006T190000
DTEND;TZID=Asia/Tokyo:20261006T220000
DTSTAMP:20260426T131122
CREATED:20260316T061009Z
LAST-MODIFIED:20260330T044407Z
UID:10033761-1791313200-1791324000@kadenafss.com
SUMMARY:Smartphone Trivia
DESCRIPTION:Free for members | $5 per nonmember \nTeams of two | minimum of eight participants \nThink you’ve got what it takes to be the trivia champ? Put your knowledge to the test at Smartphone Trivia Night at The Rocker Club! Gather your friends\, bring your phone\, and get ready for a fast-paced night of fun questions\, friendly competition\, and plenty of laughs.
URL:https://kadenafss.com/event/smartphone-trivia/2026-10-06
CATEGORIES:Fun Events,The Rocker
ATTACH;FMTTYPE=image/png:https://kadenafss.com/wp-content/uploads/2025/04/Smartphone-Trivia.png
END:VEVENT
BEGIN:VEVENT
DTSTART;TZID=Asia/Tokyo:20261013T190000
DTEND;TZID=Asia/Tokyo:20261013T220000
DTSTAMP:20260426T131122
CREATED:20260316T061009Z
LAST-MODIFIED:20260330T044407Z
UID:10033762-1791918000-1791928800@kadenafss.com
SUMMARY:Smartphone Trivia
DESCRIPTION:Free for members | $5 per nonmember \nTeams of two | minimum of eight participants \nThink you’ve got what it takes to be the trivia champ? Put your knowledge to the test at Smartphone Trivia Night at The Rocker Club! Gather your friends\, bring your phone\, and get ready for a fast-paced night of fun questions\, friendly competition\, and plenty of laughs.
URL:https://kadenafss.com/event/smartphone-trivia/2026-10-13
CATEGORIES:Fun Events,The Rocker
ATTACH;FMTTYPE=image/png:https://kadenafss.com/wp-content/uploads/2025/04/Smartphone-Trivia.png
END:VEVENT
BEGIN:VEVENT
DTSTART;TZID=Asia/Tokyo:20261020T190000
DTEND;TZID=Asia/Tokyo:20261020T220000
DTSTAMP:20260426T131122
CREATED:20260316T061009Z
LAST-MODIFIED:20260330T044407Z
UID:10033763-1792522800-1792533600@kadenafss.com
SUMMARY:Smartphone Trivia
DESCRIPTION:Free for members | $5 per nonmember \nTeams of two | minimum of eight participants \nThink you’ve got what it takes to be the trivia champ? Put your knowledge to the test at Smartphone Trivia Night at The Rocker Club! Gather your friends\, bring your phone\, and get ready for a fast-paced night of fun questions\, friendly competition\, and plenty of laughs.
URL:https://kadenafss.com/event/smartphone-trivia/2026-10-20
CATEGORIES:Fun Events,The Rocker
ATTACH;FMTTYPE=image/png:https://kadenafss.com/wp-content/uploads/2025/04/Smartphone-Trivia.png
END:VEVENT
BEGIN:VEVENT
DTSTART;TZID=Asia/Tokyo:20261027T190000
DTEND;TZID=Asia/Tokyo:20261027T220000
DTSTAMP:20260426T131122
CREATED:20260316T061009Z
LAST-MODIFIED:20260330T044407Z
UID:10033764-1793127600-1793138400@kadenafss.com
SUMMARY:Smartphone Trivia
DESCRIPTION:Free for members | $5 per nonmember \nTeams of two | minimum of eight participants \nThink you’ve got what it takes to be the trivia champ? Put your knowledge to the test at Smartphone Trivia Night at The Rocker Club! Gather your friends\, bring your phone\, and get ready for a fast-paced night of fun questions\, friendly competition\, and plenty of laughs.
URL:https://kadenafss.com/event/smartphone-trivia/2026-10-27
CATEGORIES:Fun Events,The Rocker
ATTACH;FMTTYPE=image/png:https://kadenafss.com/wp-content/uploads/2025/04/Smartphone-Trivia.png
END:VEVENT
BEGIN:VEVENT
DTSTART;TZID=Asia/Tokyo:20261103T190000
DTEND;TZID=Asia/Tokyo:20261103T220000
DTSTAMP:20260426T131122
CREATED:20260316T061009Z
LAST-MODIFIED:20260330T044407Z
UID:10033765-1793732400-1793743200@kadenafss.com
SUMMARY:Smartphone Trivia
DESCRIPTION:Free for members | $5 per nonmember \nTeams of two | minimum of eight participants \nThink you’ve got what it takes to be the trivia champ? Put your knowledge to the test at Smartphone Trivia Night at The Rocker Club! Gather your friends\, bring your phone\, and get ready for a fast-paced night of fun questions\, friendly competition\, and plenty of laughs.
URL:https://kadenafss.com/event/smartphone-trivia/2026-11-03
CATEGORIES:Fun Events,The Rocker
ATTACH;FMTTYPE=image/png:https://kadenafss.com/wp-content/uploads/2025/04/Smartphone-Trivia.png
END:VEVENT
BEGIN:VEVENT
DTSTART;TZID=Asia/Tokyo:20261110T190000
DTEND;TZID=Asia/Tokyo:20261110T220000
DTSTAMP:20260426T131122
CREATED:20260316T061009Z
LAST-MODIFIED:20260330T044407Z
UID:10033766-1794337200-1794348000@kadenafss.com
SUMMARY:Smartphone Trivia
DESCRIPTION:Free for members | $5 per nonmember \nTeams of two | minimum of eight participants \nThink you’ve got what it takes to be the trivia champ? Put your knowledge to the test at Smartphone Trivia Night at The Rocker Club! Gather your friends\, bring your phone\, and get ready for a fast-paced night of fun questions\, friendly competition\, and plenty of laughs.
URL:https://kadenafss.com/event/smartphone-trivia/2026-11-10
CATEGORIES:Fun Events,The Rocker
ATTACH;FMTTYPE=image/png:https://kadenafss.com/wp-content/uploads/2025/04/Smartphone-Trivia.png
END:VEVENT
BEGIN:VEVENT
DTSTART;TZID=Asia/Tokyo:20261117T190000
DTEND;TZID=Asia/Tokyo:20261117T220000
DTSTAMP:20260426T131122
CREATED:20260316T061009Z
LAST-MODIFIED:20260330T044407Z
UID:10033767-1794942000-1794952800@kadenafss.com
SUMMARY:Smartphone Trivia
DESCRIPTION:Free for members | $5 per nonmember \nTeams of two | minimum of eight participants \nThink you’ve got what it takes to be the trivia champ? Put your knowledge to the test at Smartphone Trivia Night at The Rocker Club! Gather your friends\, bring your phone\, and get ready for a fast-paced night of fun questions\, friendly competition\, and plenty of laughs.
URL:https://kadenafss.com/event/smartphone-trivia/2026-11-17
CATEGORIES:Fun Events,The Rocker
ATTACH;FMTTYPE=image/png:https://kadenafss.com/wp-content/uploads/2025/04/Smartphone-Trivia.png
END:VEVENT
BEGIN:VEVENT
DTSTART;TZID=Asia/Tokyo:20261124T190000
DTEND;TZID=Asia/Tokyo:20261124T220000
DTSTAMP:20260426T131122
CREATED:20260316T061009Z
LAST-MODIFIED:20260330T044407Z
UID:10033768-1795546800-1795557600@kadenafss.com
SUMMARY:Smartphone Trivia
DESCRIPTION:Free for members | $5 per nonmember \nTeams of two | minimum of eight participants \nThink you’ve got what it takes to be the trivia champ? Put your knowledge to the test at Smartphone Trivia Night at The Rocker Club! Gather your friends\, bring your phone\, and get ready for a fast-paced night of fun questions\, friendly competition\, and plenty of laughs.
URL:https://kadenafss.com/event/smartphone-trivia/2026-11-24
CATEGORIES:Fun Events,The Rocker
ATTACH;FMTTYPE=image/png:https://kadenafss.com/wp-content/uploads/2025/04/Smartphone-Trivia.png
END:VEVENT
BEGIN:VEVENT
DTSTART;TZID=Asia/Tokyo:20261201T190000
DTEND;TZID=Asia/Tokyo:20261201T220000
DTSTAMP:20260426T131122
CREATED:20260316T061009Z
LAST-MODIFIED:20260330T044407Z
UID:10033769-1796151600-1796162400@kadenafss.com
SUMMARY:Smartphone Trivia
DESCRIPTION:Free for members | $5 per nonmember \nTeams of two | minimum of eight participants \nThink you’ve got what it takes to be the trivia champ? Put your knowledge to the test at Smartphone Trivia Night at The Rocker Club! Gather your friends\, bring your phone\, and get ready for a fast-paced night of fun questions\, friendly competition\, and plenty of laughs.
URL:https://kadenafss.com/event/smartphone-trivia/2026-12-01
CATEGORIES:Fun Events,The Rocker
ATTACH;FMTTYPE=image/png:https://kadenafss.com/wp-content/uploads/2025/04/Smartphone-Trivia.png
END:VEVENT
BEGIN:VEVENT
DTSTART;TZID=Asia/Tokyo:20261208T190000
DTEND;TZID=Asia/Tokyo:20261208T220000
DTSTAMP:20260426T131122
CREATED:20260316T061009Z
LAST-MODIFIED:20260330T044407Z
UID:10033770-1796756400-1796767200@kadenafss.com
SUMMARY:Smartphone Trivia
DESCRIPTION:Free for members | $5 per nonmember \nTeams of two | minimum of eight participants \nThink you’ve got what it takes to be the trivia champ? Put your knowledge to the test at Smartphone Trivia Night at The Rocker Club! Gather your friends\, bring your phone\, and get ready for a fast-paced night of fun questions\, friendly competition\, and plenty of laughs.
URL:https://kadenafss.com/event/smartphone-trivia/2026-12-08
CATEGORIES:Fun Events,The Rocker
ATTACH;FMTTYPE=image/png:https://kadenafss.com/wp-content/uploads/2025/04/Smartphone-Trivia.png
END:VEVENT
BEGIN:VEVENT
DTSTART;TZID=Asia/Tokyo:20261215T190000
DTEND;TZID=Asia/Tokyo:20261215T220000
DTSTAMP:20260426T131122
CREATED:20260316T061009Z
LAST-MODIFIED:20260330T044407Z
UID:10033771-1797361200-1797372000@kadenafss.com
SUMMARY:Smartphone Trivia
DESCRIPTION:Free for members | $5 per nonmember \nTeams of two | minimum of eight participants \nThink you’ve got what it takes to be the trivia champ? Put your knowledge to the test at Smartphone Trivia Night at The Rocker Club! Gather your friends\, bring your phone\, and get ready for a fast-paced night of fun questions\, friendly competition\, and plenty of laughs.
URL:https://kadenafss.com/event/smartphone-trivia/2026-12-15
CATEGORIES:Fun Events,The Rocker
ATTACH;FMTTYPE=image/png:https://kadenafss.com/wp-content/uploads/2025/04/Smartphone-Trivia.png
END:VEVENT
BEGIN:VEVENT
DTSTART;TZID=Asia/Tokyo:20261222T190000
DTEND;TZID=Asia/Tokyo:20261222T220000
DTSTAMP:20260426T131122
CREATED:20260316T061009Z
LAST-MODIFIED:20260330T044407Z
UID:10033772-1797966000-1797976800@kadenafss.com
SUMMARY:Smartphone Trivia
DESCRIPTION:Free for members | $5 per nonmember \nTeams of two | minimum of eight participants \nThink you’ve got what it takes to be the trivia champ? Put your knowledge to the test at Smartphone Trivia Night at The Rocker Club! Gather your friends\, bring your phone\, and get ready for a fast-paced night of fun questions\, friendly competition\, and plenty of laughs.
URL:https://kadenafss.com/event/smartphone-trivia/2026-12-22
CATEGORIES:Fun Events,The Rocker
ATTACH;FMTTYPE=image/png:https://kadenafss.com/wp-content/uploads/2025/04/Smartphone-Trivia.png
END:VEVENT
BEGIN:VEVENT
DTSTART;TZID=Asia/Tokyo:20261229T190000
DTEND;TZID=Asia/Tokyo:20261229T220000
DTSTAMP:20260426T131122
CREATED:20260316T061009Z
LAST-MODIFIED:20260330T044407Z
UID:10033773-1798570800-1798581600@kadenafss.com
SUMMARY:Smartphone Trivia
DESCRIPTION:Free for members | $5 per nonmember \nTeams of two | minimum of eight participants \nThink you’ve got what it takes to be the trivia champ? Put your knowledge to the test at Smartphone Trivia Night at The Rocker Club! Gather your friends\, bring your phone\, and get ready for a fast-paced night of fun questions\, friendly competition\, and plenty of laughs.
URL:https://kadenafss.com/event/smartphone-trivia/2026-12-29
CATEGORIES:Fun Events,The Rocker
ATTACH;FMTTYPE=image/png:https://kadenafss.com/wp-content/uploads/2025/04/Smartphone-Trivia.png
END:VEVENT
BEGIN:VEVENT
DTSTART;TZID=Asia/Tokyo:20270105T190000
DTEND;TZID=Asia/Tokyo:20270105T220000
DTSTAMP:20260426T131122
CREATED:20260316T061009Z
LAST-MODIFIED:20260330T044407Z
UID:10033774-1799175600-1799186400@kadenafss.com
SUMMARY:Smartphone Trivia
DESCRIPTION:Free for members | $5 per nonmember \nTeams of two | minimum of eight participants \nThink you’ve got what it takes to be the trivia champ? Put your knowledge to the test at Smartphone Trivia Night at The Rocker Club! Gather your friends\, bring your phone\, and get ready for a fast-paced night of fun questions\, friendly competition\, and plenty of laughs.
URL:https://kadenafss.com/event/smartphone-trivia/2027-01-05
CATEGORIES:Fun Events,The Rocker
ATTACH;FMTTYPE=image/png:https://kadenafss.com/wp-content/uploads/2025/04/Smartphone-Trivia.png
END:VEVENT
BEGIN:VEVENT
DTSTART;TZID=Asia/Tokyo:20270112T190000
DTEND;TZID=Asia/Tokyo:20270112T220000
DTSTAMP:20260426T131122
CREATED:20260316T061009Z
LAST-MODIFIED:20260330T044407Z
UID:10033775-1799780400-1799791200@kadenafss.com
SUMMARY:Smartphone Trivia
DESCRIPTION:Free for members | $5 per nonmember \nTeams of two | minimum of eight participants \nThink you’ve got what it takes to be the trivia champ? Put your knowledge to the test at Smartphone Trivia Night at The Rocker Club! Gather your friends\, bring your phone\, and get ready for a fast-paced night of fun questions\, friendly competition\, and plenty of laughs.
URL:https://kadenafss.com/event/smartphone-trivia/2027-01-12
CATEGORIES:Fun Events,The Rocker
ATTACH;FMTTYPE=image/png:https://kadenafss.com/wp-content/uploads/2025/04/Smartphone-Trivia.png
END:VEVENT
BEGIN:VEVENT
DTSTART;TZID=Asia/Tokyo:20270119T190000
DTEND;TZID=Asia/Tokyo:20270119T220000
DTSTAMP:20260426T131122
CREATED:20260316T061009Z
LAST-MODIFIED:20260330T044407Z
UID:10033776-1800385200-1800396000@kadenafss.com
SUMMARY:Smartphone Trivia
DESCRIPTION:Free for members | $5 per nonmember \nTeams of two | minimum of eight participants \nThink you’ve got what it takes to be the trivia champ? Put your knowledge to the test at Smartphone Trivia Night at The Rocker Club! Gather your friends\, bring your phone\, and get ready for a fast-paced night of fun questions\, friendly competition\, and plenty of laughs.
URL:https://kadenafss.com/event/smartphone-trivia/2027-01-19
CATEGORIES:Fun Events,The Rocker
ATTACH;FMTTYPE=image/png:https://kadenafss.com/wp-content/uploads/2025/04/Smartphone-Trivia.png
END:VEVENT
BEGIN:VEVENT
DTSTART;TZID=Asia/Tokyo:20270126T190000
DTEND;TZID=Asia/Tokyo:20270126T220000
DTSTAMP:20260426T131122
CREATED:20260316T061009Z
LAST-MODIFIED:20260330T044407Z
UID:10033777-1800990000-1801000800@kadenafss.com
SUMMARY:Smartphone Trivia
DESCRIPTION:Free for members | $5 per nonmember \nTeams of two | minimum of eight participants \nThink you’ve got what it takes to be the trivia champ? Put your knowledge to the test at Smartphone Trivia Night at The Rocker Club! Gather your friends\, bring your phone\, and get ready for a fast-paced night of fun questions\, friendly competition\, and plenty of laughs.
URL:https://kadenafss.com/event/smartphone-trivia/2027-01-26
CATEGORIES:Fun Events,The Rocker
ATTACH;FMTTYPE=image/png:https://kadenafss.com/wp-content/uploads/2025/04/Smartphone-Trivia.png
END:VEVENT
BEGIN:VEVENT
DTSTART;TZID=Asia/Tokyo:20270202T190000
DTEND;TZID=Asia/Tokyo:20270202T220000
DTSTAMP:20260426T131122
CREATED:20260316T061009Z
LAST-MODIFIED:20260330T044407Z
UID:10033778-1801594800-1801605600@kadenafss.com
SUMMARY:Smartphone Trivia
DESCRIPTION:Free for members | $5 per nonmember \nTeams of two | minimum of eight participants \nThink you’ve got what it takes to be the trivia champ? Put your knowledge to the test at Smartphone Trivia Night at The Rocker Club! Gather your friends\, bring your phone\, and get ready for a fast-paced night of fun questions\, friendly competition\, and plenty of laughs.
URL:https://kadenafss.com/event/smartphone-trivia/2027-02-02
CATEGORIES:Fun Events,The Rocker
ATTACH;FMTTYPE=image/png:https://kadenafss.com/wp-content/uploads/2025/04/Smartphone-Trivia.png
END:VEVENT
BEGIN:VEVENT
DTSTART;TZID=Asia/Tokyo:20270209T190000
DTEND;TZID=Asia/Tokyo:20270209T220000
DTSTAMP:20260426T131122
CREATED:20260316T061009Z
LAST-MODIFIED:20260330T044407Z
UID:10033779-1802199600-1802210400@kadenafss.com
SUMMARY:Smartphone Trivia
DESCRIPTION:Free for members | $5 per nonmember \nTeams of two | minimum of eight participants \nThink you’ve got what it takes to be the trivia champ? Put your knowledge to the test at Smartphone Trivia Night at The Rocker Club! Gather your friends\, bring your phone\, and get ready for a fast-paced night of fun questions\, friendly competition\, and plenty of laughs.
URL:https://kadenafss.com/event/smartphone-trivia/2027-02-09
CATEGORIES:Fun Events,The Rocker
ATTACH;FMTTYPE=image/png:https://kadenafss.com/wp-content/uploads/2025/04/Smartphone-Trivia.png
END:VEVENT
END:VCALENDAR