BEGIN:VCALENDAR
VERSION:2.0
PRODID:-//Kadena Air Base - ECPv6.15.20//NONSGML v1.0//EN
CALSCALE:GREGORIAN
METHOD:PUBLISH
X-WR-CALNAME:Kadena Air Base
X-ORIGINAL-URL:https://kadenafss.com
X-WR-CALDESC:Events for Kadena Air Base
REFRESH-INTERVAL;VALUE=DURATION:PT1H
X-Robots-Tag:noindex
X-PUBLISHED-TTL:PT1H
BEGIN:VTIMEZONE
TZID:Asia/Tokyo
BEGIN:STANDARD
TZOFFSETFROM:+0900
TZOFFSETTO:+0900
TZNAME:JST
DTSTART:20250101T000000
END:STANDARD
END:VTIMEZONE
BEGIN:VEVENT
DTSTART;TZID=Asia/Tokyo:20260723T190000
DTEND;TZID=Asia/Tokyo:20260723T220000
DTSTAMP:20260425T235036
CREATED:20260316T062616Z
LAST-MODIFIED:20260316T062616Z
UID:10033276-1784833200-1784844000@kadenafss.com
SUMMARY:Karaoke
DESCRIPTION:Step up to the mic and show us what you’ve got at Karaoke Night at The Rocker Club! Whether you’re a powerhouse vocalist\, a shower singer\, or just here for the fun\, it’s your time to shine.
URL:https://kadenafss.com/event/karaoke/2026-07-23
LOCATION:The Rocker Club\, Building #622\, The Rocker Club\, Building #622\, Kadena AB\, Okinawa\, 904-0000\, Japan
CATEGORIES:Fun Events,The Rocker
ATTACH;FMTTYPE=image/png:https://kadenafss.com/wp-content/uploads/2025/09/Japanese-Grocery-Shopping-Bus-Tour-13-1.png
END:VEVENT
BEGIN:VEVENT
DTSTART;TZID=Asia/Tokyo:20260730T190000
DTEND;TZID=Asia/Tokyo:20260730T220000
DTSTAMP:20260425T235036
CREATED:20260316T062616Z
LAST-MODIFIED:20260316T062616Z
UID:10033277-1785438000-1785448800@kadenafss.com
SUMMARY:Karaoke
DESCRIPTION:Step up to the mic and show us what you’ve got at Karaoke Night at The Rocker Club! Whether you’re a powerhouse vocalist\, a shower singer\, or just here for the fun\, it’s your time to shine.
URL:https://kadenafss.com/event/karaoke/2026-07-30
LOCATION:The Rocker Club\, Building #622\, The Rocker Club\, Building #622\, Kadena AB\, Okinawa\, 904-0000\, Japan
CATEGORIES:Fun Events,The Rocker
ATTACH;FMTTYPE=image/png:https://kadenafss.com/wp-content/uploads/2025/09/Japanese-Grocery-Shopping-Bus-Tour-13-1.png
END:VEVENT
BEGIN:VEVENT
DTSTART;TZID=Asia/Tokyo:20260806T190000
DTEND;TZID=Asia/Tokyo:20260806T220000
DTSTAMP:20260425T235036
CREATED:20260316T062616Z
LAST-MODIFIED:20260316T062616Z
UID:10033278-1786042800-1786053600@kadenafss.com
SUMMARY:Karaoke
DESCRIPTION:Step up to the mic and show us what you’ve got at Karaoke Night at The Rocker Club! Whether you’re a powerhouse vocalist\, a shower singer\, or just here for the fun\, it’s your time to shine.
URL:https://kadenafss.com/event/karaoke/2026-08-06
LOCATION:The Rocker Club\, Building #622\, The Rocker Club\, Building #622\, Kadena AB\, Okinawa\, 904-0000\, Japan
CATEGORIES:Fun Events,The Rocker
ATTACH;FMTTYPE=image/png:https://kadenafss.com/wp-content/uploads/2025/09/Japanese-Grocery-Shopping-Bus-Tour-13-1.png
END:VEVENT
BEGIN:VEVENT
DTSTART;TZID=Asia/Tokyo:20260813T190000
DTEND;TZID=Asia/Tokyo:20260813T220000
DTSTAMP:20260425T235036
CREATED:20260316T062616Z
LAST-MODIFIED:20260316T062616Z
UID:10033279-1786647600-1786658400@kadenafss.com
SUMMARY:Karaoke
DESCRIPTION:Step up to the mic and show us what you’ve got at Karaoke Night at The Rocker Club! Whether you’re a powerhouse vocalist\, a shower singer\, or just here for the fun\, it’s your time to shine.
URL:https://kadenafss.com/event/karaoke/2026-08-13
LOCATION:The Rocker Club\, Building #622\, The Rocker Club\, Building #622\, Kadena AB\, Okinawa\, 904-0000\, Japan
CATEGORIES:Fun Events,The Rocker
ATTACH;FMTTYPE=image/png:https://kadenafss.com/wp-content/uploads/2025/09/Japanese-Grocery-Shopping-Bus-Tour-13-1.png
END:VEVENT
BEGIN:VEVENT
DTSTART;TZID=Asia/Tokyo:20260820T190000
DTEND;TZID=Asia/Tokyo:20260820T220000
DTSTAMP:20260425T235036
CREATED:20260316T062616Z
LAST-MODIFIED:20260316T062616Z
UID:10033280-1787252400-1787263200@kadenafss.com
SUMMARY:Karaoke
DESCRIPTION:Step up to the mic and show us what you’ve got at Karaoke Night at The Rocker Club! Whether you’re a powerhouse vocalist\, a shower singer\, or just here for the fun\, it’s your time to shine.
URL:https://kadenafss.com/event/karaoke/2026-08-20
LOCATION:The Rocker Club\, Building #622\, The Rocker Club\, Building #622\, Kadena AB\, Okinawa\, 904-0000\, Japan
CATEGORIES:Fun Events,The Rocker
ATTACH;FMTTYPE=image/png:https://kadenafss.com/wp-content/uploads/2025/09/Japanese-Grocery-Shopping-Bus-Tour-13-1.png
END:VEVENT
BEGIN:VEVENT
DTSTART;TZID=Asia/Tokyo:20260827T190000
DTEND;TZID=Asia/Tokyo:20260827T220000
DTSTAMP:20260425T235036
CREATED:20260316T062616Z
LAST-MODIFIED:20260316T062616Z
UID:10033281-1787857200-1787868000@kadenafss.com
SUMMARY:Karaoke
DESCRIPTION:Step up to the mic and show us what you’ve got at Karaoke Night at The Rocker Club! Whether you’re a powerhouse vocalist\, a shower singer\, or just here for the fun\, it’s your time to shine.
URL:https://kadenafss.com/event/karaoke/2026-08-27
LOCATION:The Rocker Club\, Building #622\, The Rocker Club\, Building #622\, Kadena AB\, Okinawa\, 904-0000\, Japan
CATEGORIES:Fun Events,The Rocker
ATTACH;FMTTYPE=image/png:https://kadenafss.com/wp-content/uploads/2025/09/Japanese-Grocery-Shopping-Bus-Tour-13-1.png
END:VEVENT
BEGIN:VEVENT
DTSTART;TZID=Asia/Tokyo:20260903T190000
DTEND;TZID=Asia/Tokyo:20260903T220000
DTSTAMP:20260425T235036
CREATED:20260316T062616Z
LAST-MODIFIED:20260316T062616Z
UID:10033282-1788462000-1788472800@kadenafss.com
SUMMARY:Karaoke
DESCRIPTION:Step up to the mic and show us what you’ve got at Karaoke Night at The Rocker Club! Whether you’re a powerhouse vocalist\, a shower singer\, or just here for the fun\, it’s your time to shine.
URL:https://kadenafss.com/event/karaoke/2026-09-03
LOCATION:The Rocker Club\, Building #622\, The Rocker Club\, Building #622\, Kadena AB\, Okinawa\, 904-0000\, Japan
CATEGORIES:Fun Events,The Rocker
ATTACH;FMTTYPE=image/png:https://kadenafss.com/wp-content/uploads/2025/09/Japanese-Grocery-Shopping-Bus-Tour-13-1.png
END:VEVENT
BEGIN:VEVENT
DTSTART;TZID=Asia/Tokyo:20260910T190000
DTEND;TZID=Asia/Tokyo:20260910T220000
DTSTAMP:20260425T235036
CREATED:20260316T062616Z
LAST-MODIFIED:20260316T062616Z
UID:10033283-1789066800-1789077600@kadenafss.com
SUMMARY:Karaoke
DESCRIPTION:Step up to the mic and show us what you’ve got at Karaoke Night at The Rocker Club! Whether you’re a powerhouse vocalist\, a shower singer\, or just here for the fun\, it’s your time to shine.
URL:https://kadenafss.com/event/karaoke/2026-09-10
LOCATION:The Rocker Club\, Building #622\, The Rocker Club\, Building #622\, Kadena AB\, Okinawa\, 904-0000\, Japan
CATEGORIES:Fun Events,The Rocker
ATTACH;FMTTYPE=image/png:https://kadenafss.com/wp-content/uploads/2025/09/Japanese-Grocery-Shopping-Bus-Tour-13-1.png
END:VEVENT
BEGIN:VEVENT
DTSTART;TZID=Asia/Tokyo:20260917T190000
DTEND;TZID=Asia/Tokyo:20260917T220000
DTSTAMP:20260425T235036
CREATED:20260316T062616Z
LAST-MODIFIED:20260316T062616Z
UID:10033284-1789671600-1789682400@kadenafss.com
SUMMARY:Karaoke
DESCRIPTION:Step up to the mic and show us what you’ve got at Karaoke Night at The Rocker Club! Whether you’re a powerhouse vocalist\, a shower singer\, or just here for the fun\, it’s your time to shine.
URL:https://kadenafss.com/event/karaoke/2026-09-17
LOCATION:The Rocker Club\, Building #622\, The Rocker Club\, Building #622\, Kadena AB\, Okinawa\, 904-0000\, Japan
CATEGORIES:Fun Events,The Rocker
ATTACH;FMTTYPE=image/png:https://kadenafss.com/wp-content/uploads/2025/09/Japanese-Grocery-Shopping-Bus-Tour-13-1.png
END:VEVENT
BEGIN:VEVENT
DTSTART;TZID=Asia/Tokyo:20260924T190000
DTEND;TZID=Asia/Tokyo:20260924T220000
DTSTAMP:20260425T235036
CREATED:20260316T062616Z
LAST-MODIFIED:20260316T062616Z
UID:10033285-1790276400-1790287200@kadenafss.com
SUMMARY:Karaoke
DESCRIPTION:Step up to the mic and show us what you’ve got at Karaoke Night at The Rocker Club! Whether you’re a powerhouse vocalist\, a shower singer\, or just here for the fun\, it’s your time to shine.
URL:https://kadenafss.com/event/karaoke/2026-09-24
LOCATION:The Rocker Club\, Building #622\, The Rocker Club\, Building #622\, Kadena AB\, Okinawa\, 904-0000\, Japan
CATEGORIES:Fun Events,The Rocker
ATTACH;FMTTYPE=image/png:https://kadenafss.com/wp-content/uploads/2025/09/Japanese-Grocery-Shopping-Bus-Tour-13-1.png
END:VEVENT
BEGIN:VEVENT
DTSTART;TZID=Asia/Tokyo:20261001T190000
DTEND;TZID=Asia/Tokyo:20261001T220000
DTSTAMP:20260425T235036
CREATED:20260316T062616Z
LAST-MODIFIED:20260316T062616Z
UID:10033286-1790881200-1790892000@kadenafss.com
SUMMARY:Karaoke
DESCRIPTION:Step up to the mic and show us what you’ve got at Karaoke Night at The Rocker Club! Whether you’re a powerhouse vocalist\, a shower singer\, or just here for the fun\, it’s your time to shine.
URL:https://kadenafss.com/event/karaoke/2026-10-01
LOCATION:The Rocker Club\, Building #622\, The Rocker Club\, Building #622\, Kadena AB\, Okinawa\, 904-0000\, Japan
CATEGORIES:Fun Events,The Rocker
ATTACH;FMTTYPE=image/png:https://kadenafss.com/wp-content/uploads/2025/09/Japanese-Grocery-Shopping-Bus-Tour-13-1.png
END:VEVENT
BEGIN:VEVENT
DTSTART;TZID=Asia/Tokyo:20261008T190000
DTEND;TZID=Asia/Tokyo:20261008T220000
DTSTAMP:20260425T235036
CREATED:20260316T062616Z
LAST-MODIFIED:20260316T062616Z
UID:10033287-1791486000-1791496800@kadenafss.com
SUMMARY:Karaoke
DESCRIPTION:Step up to the mic and show us what you’ve got at Karaoke Night at The Rocker Club! Whether you’re a powerhouse vocalist\, a shower singer\, or just here for the fun\, it’s your time to shine.
URL:https://kadenafss.com/event/karaoke/2026-10-08
LOCATION:The Rocker Club\, Building #622\, The Rocker Club\, Building #622\, Kadena AB\, Okinawa\, 904-0000\, Japan
CATEGORIES:Fun Events,The Rocker
ATTACH;FMTTYPE=image/png:https://kadenafss.com/wp-content/uploads/2025/09/Japanese-Grocery-Shopping-Bus-Tour-13-1.png
END:VEVENT
BEGIN:VEVENT
DTSTART;TZID=Asia/Tokyo:20261015T190000
DTEND;TZID=Asia/Tokyo:20261015T220000
DTSTAMP:20260425T235036
CREATED:20260316T062616Z
LAST-MODIFIED:20260316T062616Z
UID:10033288-1792090800-1792101600@kadenafss.com
SUMMARY:Karaoke
DESCRIPTION:Step up to the mic and show us what you’ve got at Karaoke Night at The Rocker Club! Whether you’re a powerhouse vocalist\, a shower singer\, or just here for the fun\, it’s your time to shine.
URL:https://kadenafss.com/event/karaoke/2026-10-15
LOCATION:The Rocker Club\, Building #622\, The Rocker Club\, Building #622\, Kadena AB\, Okinawa\, 904-0000\, Japan
CATEGORIES:Fun Events,The Rocker
ATTACH;FMTTYPE=image/png:https://kadenafss.com/wp-content/uploads/2025/09/Japanese-Grocery-Shopping-Bus-Tour-13-1.png
END:VEVENT
BEGIN:VEVENT
DTSTART;TZID=Asia/Tokyo:20261022T190000
DTEND;TZID=Asia/Tokyo:20261022T220000
DTSTAMP:20260425T235036
CREATED:20260316T062616Z
LAST-MODIFIED:20260316T062616Z
UID:10033289-1792695600-1792706400@kadenafss.com
SUMMARY:Karaoke
DESCRIPTION:Step up to the mic and show us what you’ve got at Karaoke Night at The Rocker Club! Whether you’re a powerhouse vocalist\, a shower singer\, or just here for the fun\, it’s your time to shine.
URL:https://kadenafss.com/event/karaoke/2026-10-22
LOCATION:The Rocker Club\, Building #622\, The Rocker Club\, Building #622\, Kadena AB\, Okinawa\, 904-0000\, Japan
CATEGORIES:Fun Events,The Rocker
ATTACH;FMTTYPE=image/png:https://kadenafss.com/wp-content/uploads/2025/09/Japanese-Grocery-Shopping-Bus-Tour-13-1.png
END:VEVENT
BEGIN:VEVENT
DTSTART;TZID=Asia/Tokyo:20261029T190000
DTEND;TZID=Asia/Tokyo:20261029T220000
DTSTAMP:20260425T235036
CREATED:20260316T062616Z
LAST-MODIFIED:20260316T062616Z
UID:10033290-1793300400-1793311200@kadenafss.com
SUMMARY:Karaoke
DESCRIPTION:Step up to the mic and show us what you’ve got at Karaoke Night at The Rocker Club! Whether you’re a powerhouse vocalist\, a shower singer\, or just here for the fun\, it’s your time to shine.
URL:https://kadenafss.com/event/karaoke/2026-10-29
LOCATION:The Rocker Club\, Building #622\, The Rocker Club\, Building #622\, Kadena AB\, Okinawa\, 904-0000\, Japan
CATEGORIES:Fun Events,The Rocker
ATTACH;FMTTYPE=image/png:https://kadenafss.com/wp-content/uploads/2025/09/Japanese-Grocery-Shopping-Bus-Tour-13-1.png
END:VEVENT
BEGIN:VEVENT
DTSTART;TZID=Asia/Tokyo:20261105T190000
DTEND;TZID=Asia/Tokyo:20261105T220000
DTSTAMP:20260425T235036
CREATED:20260316T062616Z
LAST-MODIFIED:20260316T062616Z
UID:10033291-1793905200-1793916000@kadenafss.com
SUMMARY:Karaoke
DESCRIPTION:Step up to the mic and show us what you’ve got at Karaoke Night at The Rocker Club! Whether you’re a powerhouse vocalist\, a shower singer\, or just here for the fun\, it’s your time to shine.
URL:https://kadenafss.com/event/karaoke/2026-11-05
LOCATION:The Rocker Club\, Building #622\, The Rocker Club\, Building #622\, Kadena AB\, Okinawa\, 904-0000\, Japan
CATEGORIES:Fun Events,The Rocker
ATTACH;FMTTYPE=image/png:https://kadenafss.com/wp-content/uploads/2025/09/Japanese-Grocery-Shopping-Bus-Tour-13-1.png
END:VEVENT
BEGIN:VEVENT
DTSTART;TZID=Asia/Tokyo:20261112T190000
DTEND;TZID=Asia/Tokyo:20261112T220000
DTSTAMP:20260425T235036
CREATED:20260316T062616Z
LAST-MODIFIED:20260316T062616Z
UID:10033292-1794510000-1794520800@kadenafss.com
SUMMARY:Karaoke
DESCRIPTION:Step up to the mic and show us what you’ve got at Karaoke Night at The Rocker Club! Whether you’re a powerhouse vocalist\, a shower singer\, or just here for the fun\, it’s your time to shine.
URL:https://kadenafss.com/event/karaoke/2026-11-12
LOCATION:The Rocker Club\, Building #622\, The Rocker Club\, Building #622\, Kadena AB\, Okinawa\, 904-0000\, Japan
CATEGORIES:Fun Events,The Rocker
ATTACH;FMTTYPE=image/png:https://kadenafss.com/wp-content/uploads/2025/09/Japanese-Grocery-Shopping-Bus-Tour-13-1.png
END:VEVENT
BEGIN:VEVENT
DTSTART;TZID=Asia/Tokyo:20261119T190000
DTEND;TZID=Asia/Tokyo:20261119T220000
DTSTAMP:20260425T235036
CREATED:20260316T062616Z
LAST-MODIFIED:20260316T062616Z
UID:10033293-1795114800-1795125600@kadenafss.com
SUMMARY:Karaoke
DESCRIPTION:Step up to the mic and show us what you’ve got at Karaoke Night at The Rocker Club! Whether you’re a powerhouse vocalist\, a shower singer\, or just here for the fun\, it’s your time to shine.
URL:https://kadenafss.com/event/karaoke/2026-11-19
LOCATION:The Rocker Club\, Building #622\, The Rocker Club\, Building #622\, Kadena AB\, Okinawa\, 904-0000\, Japan
CATEGORIES:Fun Events,The Rocker
ATTACH;FMTTYPE=image/png:https://kadenafss.com/wp-content/uploads/2025/09/Japanese-Grocery-Shopping-Bus-Tour-13-1.png
END:VEVENT
BEGIN:VEVENT
DTSTART;TZID=Asia/Tokyo:20261126T190000
DTEND;TZID=Asia/Tokyo:20261126T220000
DTSTAMP:20260425T235036
CREATED:20260316T062616Z
LAST-MODIFIED:20260316T062616Z
UID:10033294-1795719600-1795730400@kadenafss.com
SUMMARY:Karaoke
DESCRIPTION:Step up to the mic and show us what you’ve got at Karaoke Night at The Rocker Club! Whether you’re a powerhouse vocalist\, a shower singer\, or just here for the fun\, it’s your time to shine.
URL:https://kadenafss.com/event/karaoke/2026-11-26
LOCATION:The Rocker Club\, Building #622\, The Rocker Club\, Building #622\, Kadena AB\, Okinawa\, 904-0000\, Japan
CATEGORIES:Fun Events,The Rocker
ATTACH;FMTTYPE=image/png:https://kadenafss.com/wp-content/uploads/2025/09/Japanese-Grocery-Shopping-Bus-Tour-13-1.png
END:VEVENT
BEGIN:VEVENT
DTSTART;TZID=Asia/Tokyo:20261203T190000
DTEND;TZID=Asia/Tokyo:20261203T220000
DTSTAMP:20260425T235036
CREATED:20260316T062616Z
LAST-MODIFIED:20260316T062616Z
UID:10033295-1796324400-1796335200@kadenafss.com
SUMMARY:Karaoke
DESCRIPTION:Step up to the mic and show us what you’ve got at Karaoke Night at The Rocker Club! Whether you’re a powerhouse vocalist\, a shower singer\, or just here for the fun\, it’s your time to shine.
URL:https://kadenafss.com/event/karaoke/2026-12-03
LOCATION:The Rocker Club\, Building #622\, The Rocker Club\, Building #622\, Kadena AB\, Okinawa\, 904-0000\, Japan
CATEGORIES:Fun Events,The Rocker
ATTACH;FMTTYPE=image/png:https://kadenafss.com/wp-content/uploads/2025/09/Japanese-Grocery-Shopping-Bus-Tour-13-1.png
END:VEVENT
BEGIN:VEVENT
DTSTART;TZID=Asia/Tokyo:20261210T190000
DTEND;TZID=Asia/Tokyo:20261210T220000
DTSTAMP:20260425T235036
CREATED:20260316T062616Z
LAST-MODIFIED:20260316T062616Z
UID:10033296-1796929200-1796940000@kadenafss.com
SUMMARY:Karaoke
DESCRIPTION:Step up to the mic and show us what you’ve got at Karaoke Night at The Rocker Club! Whether you’re a powerhouse vocalist\, a shower singer\, or just here for the fun\, it’s your time to shine.
URL:https://kadenafss.com/event/karaoke/2026-12-10
LOCATION:The Rocker Club\, Building #622\, The Rocker Club\, Building #622\, Kadena AB\, Okinawa\, 904-0000\, Japan
CATEGORIES:Fun Events,The Rocker
ATTACH;FMTTYPE=image/png:https://kadenafss.com/wp-content/uploads/2025/09/Japanese-Grocery-Shopping-Bus-Tour-13-1.png
END:VEVENT
BEGIN:VEVENT
DTSTART;TZID=Asia/Tokyo:20261217T190000
DTEND;TZID=Asia/Tokyo:20261217T220000
DTSTAMP:20260425T235036
CREATED:20260316T062616Z
LAST-MODIFIED:20260316T062616Z
UID:10033297-1797534000-1797544800@kadenafss.com
SUMMARY:Karaoke
DESCRIPTION:Step up to the mic and show us what you’ve got at Karaoke Night at The Rocker Club! Whether you’re a powerhouse vocalist\, a shower singer\, or just here for the fun\, it’s your time to shine.
URL:https://kadenafss.com/event/karaoke/2026-12-17
LOCATION:The Rocker Club\, Building #622\, The Rocker Club\, Building #622\, Kadena AB\, Okinawa\, 904-0000\, Japan
CATEGORIES:Fun Events,The Rocker
ATTACH;FMTTYPE=image/png:https://kadenafss.com/wp-content/uploads/2025/09/Japanese-Grocery-Shopping-Bus-Tour-13-1.png
END:VEVENT
BEGIN:VEVENT
DTSTART;TZID=Asia/Tokyo:20261224T190000
DTEND;TZID=Asia/Tokyo:20261224T220000
DTSTAMP:20260425T235036
CREATED:20260316T062616Z
LAST-MODIFIED:20260316T062616Z
UID:10033298-1798138800-1798149600@kadenafss.com
SUMMARY:Karaoke
DESCRIPTION:Step up to the mic and show us what you’ve got at Karaoke Night at The Rocker Club! Whether you’re a powerhouse vocalist\, a shower singer\, or just here for the fun\, it’s your time to shine.
URL:https://kadenafss.com/event/karaoke/2026-12-24
LOCATION:The Rocker Club\, Building #622\, The Rocker Club\, Building #622\, Kadena AB\, Okinawa\, 904-0000\, Japan
CATEGORIES:Fun Events,The Rocker
ATTACH;FMTTYPE=image/png:https://kadenafss.com/wp-content/uploads/2025/09/Japanese-Grocery-Shopping-Bus-Tour-13-1.png
END:VEVENT
BEGIN:VEVENT
DTSTART;TZID=Asia/Tokyo:20261231T190000
DTEND;TZID=Asia/Tokyo:20261231T220000
DTSTAMP:20260425T235036
CREATED:20260316T062616Z
LAST-MODIFIED:20260316T062616Z
UID:10033299-1798743600-1798754400@kadenafss.com
SUMMARY:Karaoke
DESCRIPTION:Step up to the mic and show us what you’ve got at Karaoke Night at The Rocker Club! Whether you’re a powerhouse vocalist\, a shower singer\, or just here for the fun\, it’s your time to shine.
URL:https://kadenafss.com/event/karaoke/2026-12-31
LOCATION:The Rocker Club\, Building #622\, The Rocker Club\, Building #622\, Kadena AB\, Okinawa\, 904-0000\, Japan
CATEGORIES:Fun Events,The Rocker
ATTACH;FMTTYPE=image/png:https://kadenafss.com/wp-content/uploads/2025/09/Japanese-Grocery-Shopping-Bus-Tour-13-1.png
END:VEVENT
BEGIN:VEVENT
DTSTART;TZID=Asia/Tokyo:20270107T190000
DTEND;TZID=Asia/Tokyo:20270107T220000
DTSTAMP:20260425T235036
CREATED:20260316T062616Z
LAST-MODIFIED:20260316T062616Z
UID:10033300-1799348400-1799359200@kadenafss.com
SUMMARY:Karaoke
DESCRIPTION:Step up to the mic and show us what you’ve got at Karaoke Night at The Rocker Club! Whether you’re a powerhouse vocalist\, a shower singer\, or just here for the fun\, it’s your time to shine.
URL:https://kadenafss.com/event/karaoke/2027-01-07
LOCATION:The Rocker Club\, Building #622\, The Rocker Club\, Building #622\, Kadena AB\, Okinawa\, 904-0000\, Japan
CATEGORIES:Fun Events,The Rocker
ATTACH;FMTTYPE=image/png:https://kadenafss.com/wp-content/uploads/2025/09/Japanese-Grocery-Shopping-Bus-Tour-13-1.png
END:VEVENT
BEGIN:VEVENT
DTSTART;TZID=Asia/Tokyo:20270114T190000
DTEND;TZID=Asia/Tokyo:20270114T220000
DTSTAMP:20260425T235036
CREATED:20260316T062616Z
LAST-MODIFIED:20260316T062616Z
UID:10033301-1799953200-1799964000@kadenafss.com
SUMMARY:Karaoke
DESCRIPTION:Step up to the mic and show us what you’ve got at Karaoke Night at The Rocker Club! Whether you’re a powerhouse vocalist\, a shower singer\, or just here for the fun\, it’s your time to shine.
URL:https://kadenafss.com/event/karaoke/2027-01-14
LOCATION:The Rocker Club\, Building #622\, The Rocker Club\, Building #622\, Kadena AB\, Okinawa\, 904-0000\, Japan
CATEGORIES:Fun Events,The Rocker
ATTACH;FMTTYPE=image/png:https://kadenafss.com/wp-content/uploads/2025/09/Japanese-Grocery-Shopping-Bus-Tour-13-1.png
END:VEVENT
BEGIN:VEVENT
DTSTART;TZID=Asia/Tokyo:20270121T190000
DTEND;TZID=Asia/Tokyo:20270121T220000
DTSTAMP:20260425T235036
CREATED:20260316T062616Z
LAST-MODIFIED:20260316T062616Z
UID:10033302-1800558000-1800568800@kadenafss.com
SUMMARY:Karaoke
DESCRIPTION:Step up to the mic and show us what you’ve got at Karaoke Night at The Rocker Club! Whether you’re a powerhouse vocalist\, a shower singer\, or just here for the fun\, it’s your time to shine.
URL:https://kadenafss.com/event/karaoke/2027-01-21
LOCATION:The Rocker Club\, Building #622\, The Rocker Club\, Building #622\, Kadena AB\, Okinawa\, 904-0000\, Japan
CATEGORIES:Fun Events,The Rocker
ATTACH;FMTTYPE=image/png:https://kadenafss.com/wp-content/uploads/2025/09/Japanese-Grocery-Shopping-Bus-Tour-13-1.png
END:VEVENT
BEGIN:VEVENT
DTSTART;TZID=Asia/Tokyo:20270128T190000
DTEND;TZID=Asia/Tokyo:20270128T220000
DTSTAMP:20260425T235036
CREATED:20260316T062616Z
LAST-MODIFIED:20260316T062616Z
UID:10033303-1801162800-1801173600@kadenafss.com
SUMMARY:Karaoke
DESCRIPTION:Step up to the mic and show us what you’ve got at Karaoke Night at The Rocker Club! Whether you’re a powerhouse vocalist\, a shower singer\, or just here for the fun\, it’s your time to shine.
URL:https://kadenafss.com/event/karaoke/2027-01-28
LOCATION:The Rocker Club\, Building #622\, The Rocker Club\, Building #622\, Kadena AB\, Okinawa\, 904-0000\, Japan
CATEGORIES:Fun Events,The Rocker
ATTACH;FMTTYPE=image/png:https://kadenafss.com/wp-content/uploads/2025/09/Japanese-Grocery-Shopping-Bus-Tour-13-1.png
END:VEVENT
BEGIN:VEVENT
DTSTART;TZID=Asia/Tokyo:20270204T190000
DTEND;TZID=Asia/Tokyo:20270204T220000
DTSTAMP:20260425T235036
CREATED:20260316T062616Z
LAST-MODIFIED:20260316T062616Z
UID:10033304-1801767600-1801778400@kadenafss.com
SUMMARY:Karaoke
DESCRIPTION:Step up to the mic and show us what you’ve got at Karaoke Night at The Rocker Club! Whether you’re a powerhouse vocalist\, a shower singer\, or just here for the fun\, it’s your time to shine.
URL:https://kadenafss.com/event/karaoke/2027-02-04
LOCATION:The Rocker Club\, Building #622\, The Rocker Club\, Building #622\, Kadena AB\, Okinawa\, 904-0000\, Japan
CATEGORIES:Fun Events,The Rocker
ATTACH;FMTTYPE=image/png:https://kadenafss.com/wp-content/uploads/2025/09/Japanese-Grocery-Shopping-Bus-Tour-13-1.png
END:VEVENT
BEGIN:VEVENT
DTSTART;TZID=Asia/Tokyo:20270211T190000
DTEND;TZID=Asia/Tokyo:20270211T220000
DTSTAMP:20260425T235036
CREATED:20260316T062616Z
LAST-MODIFIED:20260316T062616Z
UID:10033305-1802372400-1802383200@kadenafss.com
SUMMARY:Karaoke
DESCRIPTION:Step up to the mic and show us what you’ve got at Karaoke Night at The Rocker Club! Whether you’re a powerhouse vocalist\, a shower singer\, or just here for the fun\, it’s your time to shine.
URL:https://kadenafss.com/event/karaoke/2027-02-11
LOCATION:The Rocker Club\, Building #622\, The Rocker Club\, Building #622\, Kadena AB\, Okinawa\, 904-0000\, Japan
CATEGORIES:Fun Events,The Rocker
ATTACH;FMTTYPE=image/png:https://kadenafss.com/wp-content/uploads/2025/09/Japanese-Grocery-Shopping-Bus-Tour-13-1.png
END:VEVENT
END:VCALENDAR