BEGIN:VCALENDAR
VERSION:2.0
PRODID:-//Kadena Air Base - ECPv6.15.20//NONSGML v1.0//EN
CALSCALE:GREGORIAN
METHOD:PUBLISH
X-ORIGINAL-URL:https://kadenafss.com
X-WR-CALDESC:Events for Kadena Air Base
REFRESH-INTERVAL;VALUE=DURATION:PT1H
X-Robots-Tag:noindex
X-PUBLISHED-TTL:PT1H
BEGIN:VTIMEZONE
TZID:Asia/Tokyo
BEGIN:STANDARD
TZOFFSETFROM:+0900
TZOFFSETTO:+0900
TZNAME:JST
DTSTART:20250101T000000
END:STANDARD
END:VTIMEZONE
BEGIN:VEVENT
DTSTART;TZID=Asia/Tokyo:20260430T174500
DTEND;TZID=Asia/Tokyo:20260430T184500
DTSTAMP:20260425T235025
CREATED:20260225T020954Z
LAST-MODIFIED:20260318T072001Z
UID:10032834-1777571100-1777574700@kadenafss.com
SUMMARY:Ballroom and Salsa Dance Class
DESCRIPTION:$60 for four lessons \nStep into the rhythm with our brand-new Ballroom and Salsa Dance Class! Whether you’re a beginner or want to brush up your skills\, this is your chance to learn! \nTo register\, stop by the Schilling Community Center
URL:https://kadenafss.com/event/ballroom-and-salsa-dance-lessons/2026-04-30
LOCATION:Schilling Community Center\, Building #455\, Schilling Community Center\, Building #455\, Kadena AB\, Okinawa\, 904-0200\, Japan
CATEGORIES:Fun Events,Shilling Community Center
ATTACH;FMTTYPE=image/jpeg:https://kadenafss.com/wp-content/uploads/2026/02/SCC-Dance-Class-BT-Marquee.jpg
END:VEVENT
BEGIN:VEVENT
DTSTART;TZID=Asia/Tokyo:20260507T174500
DTEND;TZID=Asia/Tokyo:20260507T184500
DTSTAMP:20260425T235025
CREATED:20260225T020954Z
LAST-MODIFIED:20260318T072001Z
UID:10033682-1778175900-1778179500@kadenafss.com
SUMMARY:Ballroom and Salsa Dance Class
DESCRIPTION:$60 for four lessons \nStep into the rhythm with our brand-new Ballroom and Salsa Dance Class! Whether you’re a beginner or want to brush up your skills\, this is your chance to learn! \nTo register\, stop by the Schilling Community Center
URL:https://kadenafss.com/event/ballroom-and-salsa-dance-lessons/2026-05-07
LOCATION:Schilling Community Center\, Building #455\, Schilling Community Center\, Building #455\, Kadena AB\, Okinawa\, 904-0200\, Japan
CATEGORIES:Fun Events,Shilling Community Center
ATTACH;FMTTYPE=image/jpeg:https://kadenafss.com/wp-content/uploads/2026/02/SCC-Dance-Class-BT-Marquee.jpg
END:VEVENT
BEGIN:VEVENT
DTSTART;TZID=Asia/Tokyo:20260514T174500
DTEND;TZID=Asia/Tokyo:20260514T184500
DTSTAMP:20260425T235025
CREATED:20260225T020954Z
LAST-MODIFIED:20260318T072001Z
UID:10033683-1778780700-1778784300@kadenafss.com
SUMMARY:Ballroom and Salsa Dance Class
DESCRIPTION:$60 for four lessons \nStep into the rhythm with our brand-new Ballroom and Salsa Dance Class! Whether you’re a beginner or want to brush up your skills\, this is your chance to learn! \nTo register\, stop by the Schilling Community Center
URL:https://kadenafss.com/event/ballroom-and-salsa-dance-lessons/2026-05-14
LOCATION:Schilling Community Center\, Building #455\, Schilling Community Center\, Building #455\, Kadena AB\, Okinawa\, 904-0200\, Japan
CATEGORIES:Fun Events,Shilling Community Center
ATTACH;FMTTYPE=image/jpeg:https://kadenafss.com/wp-content/uploads/2026/02/SCC-Dance-Class-BT-Marquee.jpg
END:VEVENT
BEGIN:VEVENT
DTSTART;TZID=Asia/Tokyo:20260521T174500
DTEND;TZID=Asia/Tokyo:20260521T184500
DTSTAMP:20260425T235025
CREATED:20260225T020954Z
LAST-MODIFIED:20260318T072001Z
UID:10033684-1779385500-1779389100@kadenafss.com
SUMMARY:Ballroom and Salsa Dance Class
DESCRIPTION:$60 for four lessons \nStep into the rhythm with our brand-new Ballroom and Salsa Dance Class! Whether you’re a beginner or want to brush up your skills\, this is your chance to learn! \nTo register\, stop by the Schilling Community Center
URL:https://kadenafss.com/event/ballroom-and-salsa-dance-lessons/2026-05-21
LOCATION:Schilling Community Center\, Building #455\, Schilling Community Center\, Building #455\, Kadena AB\, Okinawa\, 904-0200\, Japan
CATEGORIES:Fun Events,Shilling Community Center
ATTACH;FMTTYPE=image/jpeg:https://kadenafss.com/wp-content/uploads/2026/02/SCC-Dance-Class-BT-Marquee.jpg
END:VEVENT
BEGIN:VEVENT
DTSTART;TZID=Asia/Tokyo:20260528T174500
DTEND;TZID=Asia/Tokyo:20260528T184500
DTSTAMP:20260425T235025
CREATED:20260225T020954Z
LAST-MODIFIED:20260318T072001Z
UID:10033685-1779990300-1779993900@kadenafss.com
SUMMARY:Ballroom and Salsa Dance Class
DESCRIPTION:$60 for four lessons \nStep into the rhythm with our brand-new Ballroom and Salsa Dance Class! Whether you’re a beginner or want to brush up your skills\, this is your chance to learn! \nTo register\, stop by the Schilling Community Center
URL:https://kadenafss.com/event/ballroom-and-salsa-dance-lessons/2026-05-28
LOCATION:Schilling Community Center\, Building #455\, Schilling Community Center\, Building #455\, Kadena AB\, Okinawa\, 904-0200\, Japan
CATEGORIES:Fun Events,Shilling Community Center
ATTACH;FMTTYPE=image/jpeg:https://kadenafss.com/wp-content/uploads/2026/02/SCC-Dance-Class-BT-Marquee.jpg
END:VEVENT
BEGIN:VEVENT
DTSTART;TZID=Asia/Tokyo:20260604T174500
DTEND;TZID=Asia/Tokyo:20260604T184500
DTSTAMP:20260425T235025
CREATED:20260225T020954Z
LAST-MODIFIED:20260318T072001Z
UID:10033686-1780595100-1780598700@kadenafss.com
SUMMARY:Ballroom and Salsa Dance Class
DESCRIPTION:$60 for four lessons \nStep into the rhythm with our brand-new Ballroom and Salsa Dance Class! Whether you’re a beginner or want to brush up your skills\, this is your chance to learn! \nTo register\, stop by the Schilling Community Center
URL:https://kadenafss.com/event/ballroom-and-salsa-dance-lessons/2026-06-04
LOCATION:Schilling Community Center\, Building #455\, Schilling Community Center\, Building #455\, Kadena AB\, Okinawa\, 904-0200\, Japan
CATEGORIES:Fun Events,Shilling Community Center
ATTACH;FMTTYPE=image/jpeg:https://kadenafss.com/wp-content/uploads/2026/02/SCC-Dance-Class-BT-Marquee.jpg
END:VEVENT
END:VCALENDAR