BEGIN:VCALENDAR
VERSION:2.0
PRODID:-//Kadena Air Base - ECPv6.15.20//NONSGML v1.0//EN
CALSCALE:GREGORIAN
METHOD:PUBLISH
X-ORIGINAL-URL:https://kadenafss.com
X-WR-CALDESC:Events for Kadena Air Base
REFRESH-INTERVAL;VALUE=DURATION:PT1H
X-Robots-Tag:noindex
X-PUBLISHED-TTL:PT1H
BEGIN:VTIMEZONE
TZID:UTC
BEGIN:STANDARD
TZOFFSETFROM:+0000
TZOFFSETTO:+0000
TZNAME:UTC
DTSTART:20250101T000000
END:STANDARD
END:VTIMEZONE
BEGIN:VEVENT
DTSTART;VALUE=DATE:20260504
DTEND;VALUE=DATE:20260505
DTSTAMP:20260422T184233
CREATED:20250423T194156Z
LAST-MODIFIED:20251216T182233Z
UID:10030310-1777852800-1777939199@kadenafss.com
SUMMARY:Maintenance Day
DESCRIPTION:Rocker Enlisted Club is closed for Maintenance.
URL:https://kadenafss.com/event/maintenance-day-4-2-2-2-2/2026-05-04
LOCATION:The Rocker Club\, Building #622\, The Rocker Club\, Building #622\, Kadena AB\, Okinawa\, 904-0000\, Japan
CATEGORIES:Base Wide Events,The Rocker
ATTACH;FMTTYPE=image/jpeg:https://kadenafss.com/wp-content/uploads/2024/04/maintence-day.jpg_65c5a8e9cbac39.40350697.jpeg
END:VEVENT
BEGIN:VEVENT
DTSTART;VALUE=DATE:20260601
DTEND;VALUE=DATE:20260602
DTSTAMP:20260422T184233
CREATED:20250423T194156Z
LAST-MODIFIED:20251216T182233Z
UID:10030311-1780272000-1780358399@kadenafss.com
SUMMARY:Maintenance Day
DESCRIPTION:Rocker Enlisted Club is closed for Maintenance.
URL:https://kadenafss.com/event/maintenance-day-4-2-2-2-2/2026-06-01
LOCATION:The Rocker Club\, Building #622\, The Rocker Club\, Building #622\, Kadena AB\, Okinawa\, 904-0000\, Japan
CATEGORIES:Base Wide Events,The Rocker
ATTACH;FMTTYPE=image/jpeg:https://kadenafss.com/wp-content/uploads/2024/04/maintence-day.jpg_65c5a8e9cbac39.40350697.jpeg
END:VEVENT
BEGIN:VEVENT
DTSTART;VALUE=DATE:20260706
DTEND;VALUE=DATE:20260707
DTSTAMP:20260422T184233
CREATED:20250423T194156Z
LAST-MODIFIED:20251216T182233Z
UID:10030312-1783296000-1783382399@kadenafss.com
SUMMARY:Maintenance Day
DESCRIPTION:Rocker Enlisted Club is closed for Maintenance.
URL:https://kadenafss.com/event/maintenance-day-4-2-2-2-2/2026-07-06
LOCATION:The Rocker Club\, Building #622\, The Rocker Club\, Building #622\, Kadena AB\, Okinawa\, 904-0000\, Japan
CATEGORIES:Base Wide Events,The Rocker
ATTACH;FMTTYPE=image/jpeg:https://kadenafss.com/wp-content/uploads/2024/04/maintence-day.jpg_65c5a8e9cbac39.40350697.jpeg
END:VEVENT
BEGIN:VEVENT
DTSTART;VALUE=DATE:20260803
DTEND;VALUE=DATE:20260804
DTSTAMP:20260422T184233
CREATED:20250423T194156Z
LAST-MODIFIED:20251216T182233Z
UID:10030313-1785715200-1785801599@kadenafss.com
SUMMARY:Maintenance Day
DESCRIPTION:Rocker Enlisted Club is closed for Maintenance.
URL:https://kadenafss.com/event/maintenance-day-4-2-2-2-2/2026-08-03
LOCATION:The Rocker Club\, Building #622\, The Rocker Club\, Building #622\, Kadena AB\, Okinawa\, 904-0000\, Japan
CATEGORIES:Base Wide Events,The Rocker
ATTACH;FMTTYPE=image/jpeg:https://kadenafss.com/wp-content/uploads/2024/04/maintence-day.jpg_65c5a8e9cbac39.40350697.jpeg
END:VEVENT
BEGIN:VEVENT
DTSTART;VALUE=DATE:20260907
DTEND;VALUE=DATE:20260908
DTSTAMP:20260422T184233
CREATED:20250423T194156Z
LAST-MODIFIED:20251216T182233Z
UID:10030314-1788739200-1788825599@kadenafss.com
SUMMARY:Maintenance Day
DESCRIPTION:Rocker Enlisted Club is closed for Maintenance.
URL:https://kadenafss.com/event/maintenance-day-4-2-2-2-2/2026-09-07
LOCATION:The Rocker Club\, Building #622\, The Rocker Club\, Building #622\, Kadena AB\, Okinawa\, 904-0000\, Japan
CATEGORIES:Base Wide Events,The Rocker
ATTACH;FMTTYPE=image/jpeg:https://kadenafss.com/wp-content/uploads/2024/04/maintence-day.jpg_65c5a8e9cbac39.40350697.jpeg
END:VEVENT
BEGIN:VEVENT
DTSTART;VALUE=DATE:20261005
DTEND;VALUE=DATE:20261006
DTSTAMP:20260422T184233
CREATED:20250423T194156Z
LAST-MODIFIED:20251216T182233Z
UID:10030450-1791158400-1791244799@kadenafss.com
SUMMARY:Maintenance Day
DESCRIPTION:Rocker Enlisted Club is closed for Maintenance.
URL:https://kadenafss.com/event/maintenance-day-4-2-2-2-2/2026-10-05
LOCATION:The Rocker Club\, Building #622\, The Rocker Club\, Building #622\, Kadena AB\, Okinawa\, 904-0000\, Japan
CATEGORIES:Base Wide Events,The Rocker
ATTACH;FMTTYPE=image/jpeg:https://kadenafss.com/wp-content/uploads/2024/04/maintence-day.jpg_65c5a8e9cbac39.40350697.jpeg
END:VEVENT
BEGIN:VEVENT
DTSTART;VALUE=DATE:20261102
DTEND;VALUE=DATE:20261103
DTSTAMP:20260422T184233
CREATED:20250423T194156Z
LAST-MODIFIED:20251216T182233Z
UID:10031389-1793577600-1793663999@kadenafss.com
SUMMARY:Maintenance Day
DESCRIPTION:Rocker Enlisted Club is closed for Maintenance.
URL:https://kadenafss.com/event/maintenance-day-4-2-2-2-2/2026-11-02
LOCATION:The Rocker Club\, Building #622\, The Rocker Club\, Building #622\, Kadena AB\, Okinawa\, 904-0000\, Japan
CATEGORIES:Base Wide Events,The Rocker
ATTACH;FMTTYPE=image/jpeg:https://kadenafss.com/wp-content/uploads/2024/04/maintence-day.jpg_65c5a8e9cbac39.40350697.jpeg
END:VEVENT
BEGIN:VEVENT
DTSTART;VALUE=DATE:20261207
DTEND;VALUE=DATE:20261208
DTSTAMP:20260422T184233
CREATED:20250423T194156Z
LAST-MODIFIED:20251216T182233Z
UID:10031693-1796601600-1796687999@kadenafss.com
SUMMARY:Maintenance Day
DESCRIPTION:Rocker Enlisted Club is closed for Maintenance.
URL:https://kadenafss.com/event/maintenance-day-4-2-2-2-2/2026-12-07
LOCATION:The Rocker Club\, Building #622\, The Rocker Club\, Building #622\, Kadena AB\, Okinawa\, 904-0000\, Japan
CATEGORIES:Base Wide Events,The Rocker
ATTACH;FMTTYPE=image/jpeg:https://kadenafss.com/wp-content/uploads/2024/04/maintence-day.jpg_65c5a8e9cbac39.40350697.jpeg
END:VEVENT
BEGIN:VEVENT
DTSTART;VALUE=DATE:20270104
DTEND;VALUE=DATE:20270105
DTSTAMP:20260422T184233
CREATED:20250423T194156Z
LAST-MODIFIED:20251216T182233Z
UID:10033113-1799020800-1799107199@kadenafss.com
SUMMARY:Maintenance Day
DESCRIPTION:Rocker Enlisted Club is closed for Maintenance.
URL:https://kadenafss.com/event/maintenance-day-4-2-2-2-2/2027-01-04
LOCATION:The Rocker Club\, Building #622\, The Rocker Club\, Building #622\, Kadena AB\, Okinawa\, 904-0000\, Japan
CATEGORIES:Base Wide Events,The Rocker
ATTACH;FMTTYPE=image/jpeg:https://kadenafss.com/wp-content/uploads/2024/04/maintence-day.jpg_65c5a8e9cbac39.40350697.jpeg
END:VEVENT
BEGIN:VEVENT
DTSTART;VALUE=DATE:20270201
DTEND;VALUE=DATE:20270202
DTSTAMP:20260422T184233
CREATED:20250423T194156Z
LAST-MODIFIED:20251216T182233Z
UID:10033114-1801440000-1801526399@kadenafss.com
SUMMARY:Maintenance Day
DESCRIPTION:Rocker Enlisted Club is closed for Maintenance.
URL:https://kadenafss.com/event/maintenance-day-4-2-2-2-2/2027-02-01
LOCATION:The Rocker Club\, Building #622\, The Rocker Club\, Building #622\, Kadena AB\, Okinawa\, 904-0000\, Japan
CATEGORIES:Base Wide Events,The Rocker
ATTACH;FMTTYPE=image/jpeg:https://kadenafss.com/wp-content/uploads/2024/04/maintence-day.jpg_65c5a8e9cbac39.40350697.jpeg
END:VEVENT
BEGIN:VEVENT
DTSTART;VALUE=DATE:20270301
DTEND;VALUE=DATE:20270302
DTSTAMP:20260422T184233
CREATED:20250423T194156Z
LAST-MODIFIED:20251216T182233Z
UID:10033115-1803859200-1803945599@kadenafss.com
SUMMARY:Maintenance Day
DESCRIPTION:Rocker Enlisted Club is closed for Maintenance.
URL:https://kadenafss.com/event/maintenance-day-4-2-2-2-2/2027-03-01
LOCATION:The Rocker Club\, Building #622\, The Rocker Club\, Building #622\, Kadena AB\, Okinawa\, 904-0000\, Japan
CATEGORIES:Base Wide Events,The Rocker
ATTACH;FMTTYPE=image/jpeg:https://kadenafss.com/wp-content/uploads/2024/04/maintence-day.jpg_65c5a8e9cbac39.40350697.jpeg
END:VEVENT
END:VCALENDAR