BEGIN:VCALENDAR
VERSION:2.0
PRODID:-//Kadena Air Base - ECPv6.15.20//NONSGML v1.0//EN
CALSCALE:GREGORIAN
METHOD:PUBLISH
X-ORIGINAL-URL:https://kadenafss.com
X-WR-CALDESC:Events for Kadena Air Base
REFRESH-INTERVAL;VALUE=DURATION:PT1H
X-Robots-Tag:noindex
X-PUBLISHED-TTL:PT1H
BEGIN:VTIMEZONE
TZID:UTC
BEGIN:STANDARD
TZOFFSETFROM:+0000
TZOFFSETTO:+0000
TZNAME:UTC
DTSTART:20250101T000000
END:STANDARD
END:VTIMEZONE
BEGIN:VEVENT
DTSTART;TZID=UTC:20260429T160000
DTEND;TZID=UTC:20260429T210000
DTSTAMP:20260423T074814
CREATED:20251219T060951Z
LAST-MODIFIED:20260202T003649Z
UID:10028006-1777478400-1777496400@kadenafss.com
SUMMARY:Wednesdays Kids Night Special
DESCRIPTION:The Rocker Club \nKids Night Special \nWednesdays | 4 – 9 p.m. \nBring the whole family! Children ages 12 and under enjoy special pricing with any adult entrée. Dine-in only. \nFree | Ages 4 and under \n50% off | Ages 5 – 12 \n 
URL:https://kadenafss.com/event/wednesdays-kids-night-special-2/2026-04-29
LOCATION:Kazoku Place\, The Rocker\, Kazoku Place\, The Rocker\, Building #622\, Kadena AB\, Okinawa\, 904-0000\, Japan
CATEGORIES:Food Events,Kazoku,The Rocker
ATTACH;FMTTYPE=image/jpeg:https://kadenafss.com/wp-content/uploads/2025/12/Kids-Eat-Free-DS-1920-x-1016-px.jpg
END:VEVENT
BEGIN:VEVENT
DTSTART;TZID=UTC:20260506T160000
DTEND;TZID=UTC:20260506T210000
DTSTAMP:20260423T074814
CREATED:20251219T060951Z
LAST-MODIFIED:20260202T003649Z
UID:10028145-1778083200-1778101200@kadenafss.com
SUMMARY:Wednesdays Kids Night Special
DESCRIPTION:The Rocker Club \nKids Night Special \nWednesdays | 4 – 9 p.m. \nBring the whole family! Children ages 12 and under enjoy special pricing with any adult entrée. Dine-in only. \nFree | Ages 4 and under \n50% off | Ages 5 – 12 \n 
URL:https://kadenafss.com/event/wednesdays-kids-night-special-2/2026-05-06
LOCATION:Kazoku Place\, The Rocker\, Kazoku Place\, The Rocker\, Building #622\, Kadena AB\, Okinawa\, 904-0000\, Japan
CATEGORIES:Food Events,Kazoku,The Rocker
ATTACH;FMTTYPE=image/jpeg:https://kadenafss.com/wp-content/uploads/2025/12/Kids-Eat-Free-DS-1920-x-1016-px.jpg
END:VEVENT
BEGIN:VEVENT
DTSTART;TZID=UTC:20260513T160000
DTEND;TZID=UTC:20260513T210000
DTSTAMP:20260423T074814
CREATED:20251219T060951Z
LAST-MODIFIED:20260202T003649Z
UID:10028354-1778688000-1778706000@kadenafss.com
SUMMARY:Wednesdays Kids Night Special
DESCRIPTION:The Rocker Club \nKids Night Special \nWednesdays | 4 – 9 p.m. \nBring the whole family! Children ages 12 and under enjoy special pricing with any adult entrée. Dine-in only. \nFree | Ages 4 and under \n50% off | Ages 5 – 12 \n 
URL:https://kadenafss.com/event/wednesdays-kids-night-special-2/2026-05-13
LOCATION:Kazoku Place\, The Rocker\, Kazoku Place\, The Rocker\, Building #622\, Kadena AB\, Okinawa\, 904-0000\, Japan
CATEGORIES:Food Events,Kazoku,The Rocker
ATTACH;FMTTYPE=image/jpeg:https://kadenafss.com/wp-content/uploads/2025/12/Kids-Eat-Free-DS-1920-x-1016-px.jpg
END:VEVENT
BEGIN:VEVENT
DTSTART;TZID=UTC:20260520T160000
DTEND;TZID=UTC:20260520T210000
DTSTAMP:20260423T074814
CREATED:20251219T060951Z
LAST-MODIFIED:20260202T003649Z
UID:10028490-1779292800-1779310800@kadenafss.com
SUMMARY:Wednesdays Kids Night Special
DESCRIPTION:The Rocker Club \nKids Night Special \nWednesdays | 4 – 9 p.m. \nBring the whole family! Children ages 12 and under enjoy special pricing with any adult entrée. Dine-in only. \nFree | Ages 4 and under \n50% off | Ages 5 – 12 \n 
URL:https://kadenafss.com/event/wednesdays-kids-night-special-2/2026-05-20
LOCATION:Kazoku Place\, The Rocker\, Kazoku Place\, The Rocker\, Building #622\, Kadena AB\, Okinawa\, 904-0000\, Japan
CATEGORIES:Food Events,Kazoku,The Rocker
ATTACH;FMTTYPE=image/jpeg:https://kadenafss.com/wp-content/uploads/2025/12/Kids-Eat-Free-DS-1920-x-1016-px.jpg
END:VEVENT
BEGIN:VEVENT
DTSTART;TZID=UTC:20260527T160000
DTEND;TZID=UTC:20260527T210000
DTSTAMP:20260423T074814
CREATED:20251219T060951Z
LAST-MODIFIED:20260202T003649Z
UID:10028765-1779897600-1779915600@kadenafss.com
SUMMARY:Wednesdays Kids Night Special
DESCRIPTION:The Rocker Club \nKids Night Special \nWednesdays | 4 – 9 p.m. \nBring the whole family! Children ages 12 and under enjoy special pricing with any adult entrée. Dine-in only. \nFree | Ages 4 and under \n50% off | Ages 5 – 12 \n 
URL:https://kadenafss.com/event/wednesdays-kids-night-special-2/2026-05-27
LOCATION:Kazoku Place\, The Rocker\, Kazoku Place\, The Rocker\, Building #622\, Kadena AB\, Okinawa\, 904-0000\, Japan
CATEGORIES:Food Events,Kazoku,The Rocker
ATTACH;FMTTYPE=image/jpeg:https://kadenafss.com/wp-content/uploads/2025/12/Kids-Eat-Free-DS-1920-x-1016-px.jpg
END:VEVENT
BEGIN:VEVENT
DTSTART;TZID=UTC:20260603T160000
DTEND;TZID=UTC:20260603T210000
DTSTAMP:20260423T074814
CREATED:20251219T060951Z
LAST-MODIFIED:20260202T003649Z
UID:10028766-1780502400-1780520400@kadenafss.com
SUMMARY:Wednesdays Kids Night Special
DESCRIPTION:The Rocker Club \nKids Night Special \nWednesdays | 4 – 9 p.m. \nBring the whole family! Children ages 12 and under enjoy special pricing with any adult entrée. Dine-in only. \nFree | Ages 4 and under \n50% off | Ages 5 – 12 \n 
URL:https://kadenafss.com/event/wednesdays-kids-night-special-2/2026-06-03
LOCATION:Kazoku Place\, The Rocker\, Kazoku Place\, The Rocker\, Building #622\, Kadena AB\, Okinawa\, 904-0000\, Japan
CATEGORIES:Food Events,Kazoku,The Rocker
ATTACH;FMTTYPE=image/jpeg:https://kadenafss.com/wp-content/uploads/2025/12/Kids-Eat-Free-DS-1920-x-1016-px.jpg
END:VEVENT
BEGIN:VEVENT
DTSTART;TZID=UTC:20260610T160000
DTEND;TZID=UTC:20260610T210000
DTSTAMP:20260423T074814
CREATED:20251219T060951Z
LAST-MODIFIED:20260202T003649Z
UID:10028767-1781107200-1781125200@kadenafss.com
SUMMARY:Wednesdays Kids Night Special
DESCRIPTION:The Rocker Club \nKids Night Special \nWednesdays | 4 – 9 p.m. \nBring the whole family! Children ages 12 and under enjoy special pricing with any adult entrée. Dine-in only. \nFree | Ages 4 and under \n50% off | Ages 5 – 12 \n 
URL:https://kadenafss.com/event/wednesdays-kids-night-special-2/2026-06-10
LOCATION:Kazoku Place\, The Rocker\, Kazoku Place\, The Rocker\, Building #622\, Kadena AB\, Okinawa\, 904-0000\, Japan
CATEGORIES:Food Events,Kazoku,The Rocker
ATTACH;FMTTYPE=image/jpeg:https://kadenafss.com/wp-content/uploads/2025/12/Kids-Eat-Free-DS-1920-x-1016-px.jpg
END:VEVENT
BEGIN:VEVENT
DTSTART;TZID=UTC:20260617T160000
DTEND;TZID=UTC:20260617T210000
DTSTAMP:20260423T074814
CREATED:20251219T060951Z
LAST-MODIFIED:20260202T003649Z
UID:10028768-1781712000-1781730000@kadenafss.com
SUMMARY:Wednesdays Kids Night Special
DESCRIPTION:The Rocker Club \nKids Night Special \nWednesdays | 4 – 9 p.m. \nBring the whole family! Children ages 12 and under enjoy special pricing with any adult entrée. Dine-in only. \nFree | Ages 4 and under \n50% off | Ages 5 – 12 \n 
URL:https://kadenafss.com/event/wednesdays-kids-night-special-2/2026-06-17
LOCATION:Kazoku Place\, The Rocker\, Kazoku Place\, The Rocker\, Building #622\, Kadena AB\, Okinawa\, 904-0000\, Japan
CATEGORIES:Food Events,Kazoku,The Rocker
ATTACH;FMTTYPE=image/jpeg:https://kadenafss.com/wp-content/uploads/2025/12/Kids-Eat-Free-DS-1920-x-1016-px.jpg
END:VEVENT
BEGIN:VEVENT
DTSTART;TZID=UTC:20260624T160000
DTEND;TZID=UTC:20260624T210000
DTSTAMP:20260423T074814
CREATED:20251219T060951Z
LAST-MODIFIED:20260202T003649Z
UID:10028769-1782316800-1782334800@kadenafss.com
SUMMARY:Wednesdays Kids Night Special
DESCRIPTION:The Rocker Club \nKids Night Special \nWednesdays | 4 – 9 p.m. \nBring the whole family! Children ages 12 and under enjoy special pricing with any adult entrée. Dine-in only. \nFree | Ages 4 and under \n50% off | Ages 5 – 12 \n 
URL:https://kadenafss.com/event/wednesdays-kids-night-special-2/2026-06-24
LOCATION:Kazoku Place\, The Rocker\, Kazoku Place\, The Rocker\, Building #622\, Kadena AB\, Okinawa\, 904-0000\, Japan
CATEGORIES:Food Events,Kazoku,The Rocker
ATTACH;FMTTYPE=image/jpeg:https://kadenafss.com/wp-content/uploads/2025/12/Kids-Eat-Free-DS-1920-x-1016-px.jpg
END:VEVENT
BEGIN:VEVENT
DTSTART;TZID=UTC:20260701T160000
DTEND;TZID=UTC:20260701T210000
DTSTAMP:20260423T074814
CREATED:20251219T060951Z
LAST-MODIFIED:20260202T003649Z
UID:10028770-1782921600-1782939600@kadenafss.com
SUMMARY:Wednesdays Kids Night Special
DESCRIPTION:The Rocker Club \nKids Night Special \nWednesdays | 4 – 9 p.m. \nBring the whole family! Children ages 12 and under enjoy special pricing with any adult entrée. Dine-in only. \nFree | Ages 4 and under \n50% off | Ages 5 – 12 \n 
URL:https://kadenafss.com/event/wednesdays-kids-night-special-2/2026-07-01
LOCATION:Kazoku Place\, The Rocker\, Kazoku Place\, The Rocker\, Building #622\, Kadena AB\, Okinawa\, 904-0000\, Japan
CATEGORIES:Food Events,Kazoku,The Rocker
ATTACH;FMTTYPE=image/jpeg:https://kadenafss.com/wp-content/uploads/2025/12/Kids-Eat-Free-DS-1920-x-1016-px.jpg
END:VEVENT
BEGIN:VEVENT
DTSTART;TZID=UTC:20260708T160000
DTEND;TZID=UTC:20260708T210000
DTSTAMP:20260423T074814
CREATED:20251219T060951Z
LAST-MODIFIED:20260202T003649Z
UID:10028771-1783526400-1783544400@kadenafss.com
SUMMARY:Wednesdays Kids Night Special
DESCRIPTION:The Rocker Club \nKids Night Special \nWednesdays | 4 – 9 p.m. \nBring the whole family! Children ages 12 and under enjoy special pricing with any adult entrée. Dine-in only. \nFree | Ages 4 and under \n50% off | Ages 5 – 12 \n 
URL:https://kadenafss.com/event/wednesdays-kids-night-special-2/2026-07-08
LOCATION:Kazoku Place\, The Rocker\, Kazoku Place\, The Rocker\, Building #622\, Kadena AB\, Okinawa\, 904-0000\, Japan
CATEGORIES:Food Events,Kazoku,The Rocker
ATTACH;FMTTYPE=image/jpeg:https://kadenafss.com/wp-content/uploads/2025/12/Kids-Eat-Free-DS-1920-x-1016-px.jpg
END:VEVENT
BEGIN:VEVENT
DTSTART;TZID=UTC:20260715T160000
DTEND;TZID=UTC:20260715T210000
DTSTAMP:20260423T074814
CREATED:20251219T060951Z
LAST-MODIFIED:20260202T003649Z
UID:10028772-1784131200-1784149200@kadenafss.com
SUMMARY:Wednesdays Kids Night Special
DESCRIPTION:The Rocker Club \nKids Night Special \nWednesdays | 4 – 9 p.m. \nBring the whole family! Children ages 12 and under enjoy special pricing with any adult entrée. Dine-in only. \nFree | Ages 4 and under \n50% off | Ages 5 – 12 \n 
URL:https://kadenafss.com/event/wednesdays-kids-night-special-2/2026-07-15
LOCATION:Kazoku Place\, The Rocker\, Kazoku Place\, The Rocker\, Building #622\, Kadena AB\, Okinawa\, 904-0000\, Japan
CATEGORIES:Food Events,Kazoku,The Rocker
ATTACH;FMTTYPE=image/jpeg:https://kadenafss.com/wp-content/uploads/2025/12/Kids-Eat-Free-DS-1920-x-1016-px.jpg
END:VEVENT
BEGIN:VEVENT
DTSTART;TZID=UTC:20260722T160000
DTEND;TZID=UTC:20260722T210000
DTSTAMP:20260423T074814
CREATED:20251219T060951Z
LAST-MODIFIED:20260202T003649Z
UID:10028773-1784736000-1784754000@kadenafss.com
SUMMARY:Wednesdays Kids Night Special
DESCRIPTION:The Rocker Club \nKids Night Special \nWednesdays | 4 – 9 p.m. \nBring the whole family! Children ages 12 and under enjoy special pricing with any adult entrée. Dine-in only. \nFree | Ages 4 and under \n50% off | Ages 5 – 12 \n 
URL:https://kadenafss.com/event/wednesdays-kids-night-special-2/2026-07-22
LOCATION:Kazoku Place\, The Rocker\, Kazoku Place\, The Rocker\, Building #622\, Kadena AB\, Okinawa\, 904-0000\, Japan
CATEGORIES:Food Events,Kazoku,The Rocker
ATTACH;FMTTYPE=image/jpeg:https://kadenafss.com/wp-content/uploads/2025/12/Kids-Eat-Free-DS-1920-x-1016-px.jpg
END:VEVENT
BEGIN:VEVENT
DTSTART;TZID=UTC:20260729T160000
DTEND;TZID=UTC:20260729T210000
DTSTAMP:20260423T074814
CREATED:20251219T060951Z
LAST-MODIFIED:20260202T003649Z
UID:10028774-1785340800-1785358800@kadenafss.com
SUMMARY:Wednesdays Kids Night Special
DESCRIPTION:The Rocker Club \nKids Night Special \nWednesdays | 4 – 9 p.m. \nBring the whole family! Children ages 12 and under enjoy special pricing with any adult entrée. Dine-in only. \nFree | Ages 4 and under \n50% off | Ages 5 – 12 \n 
URL:https://kadenafss.com/event/wednesdays-kids-night-special-2/2026-07-29
LOCATION:Kazoku Place\, The Rocker\, Kazoku Place\, The Rocker\, Building #622\, Kadena AB\, Okinawa\, 904-0000\, Japan
CATEGORIES:Food Events,Kazoku,The Rocker
ATTACH;FMTTYPE=image/jpeg:https://kadenafss.com/wp-content/uploads/2025/12/Kids-Eat-Free-DS-1920-x-1016-px.jpg
END:VEVENT
BEGIN:VEVENT
DTSTART;TZID=UTC:20260805T160000
DTEND;TZID=UTC:20260805T210000
DTSTAMP:20260423T074814
CREATED:20251219T060951Z
LAST-MODIFIED:20260202T003649Z
UID:10028775-1785945600-1785963600@kadenafss.com
SUMMARY:Wednesdays Kids Night Special
DESCRIPTION:The Rocker Club \nKids Night Special \nWednesdays | 4 – 9 p.m. \nBring the whole family! Children ages 12 and under enjoy special pricing with any adult entrée. Dine-in only. \nFree | Ages 4 and under \n50% off | Ages 5 – 12 \n 
URL:https://kadenafss.com/event/wednesdays-kids-night-special-2/2026-08-05
LOCATION:Kazoku Place\, The Rocker\, Kazoku Place\, The Rocker\, Building #622\, Kadena AB\, Okinawa\, 904-0000\, Japan
CATEGORIES:Food Events,Kazoku,The Rocker
ATTACH;FMTTYPE=image/jpeg:https://kadenafss.com/wp-content/uploads/2025/12/Kids-Eat-Free-DS-1920-x-1016-px.jpg
END:VEVENT
BEGIN:VEVENT
DTSTART;TZID=UTC:20260812T160000
DTEND;TZID=UTC:20260812T210000
DTSTAMP:20260423T074814
CREATED:20251219T060951Z
LAST-MODIFIED:20260202T003649Z
UID:10028776-1786550400-1786568400@kadenafss.com
SUMMARY:Wednesdays Kids Night Special
DESCRIPTION:The Rocker Club \nKids Night Special \nWednesdays | 4 – 9 p.m. \nBring the whole family! Children ages 12 and under enjoy special pricing with any adult entrée. Dine-in only. \nFree | Ages 4 and under \n50% off | Ages 5 – 12 \n 
URL:https://kadenafss.com/event/wednesdays-kids-night-special-2/2026-08-12
LOCATION:Kazoku Place\, The Rocker\, Kazoku Place\, The Rocker\, Building #622\, Kadena AB\, Okinawa\, 904-0000\, Japan
CATEGORIES:Food Events,Kazoku,The Rocker
ATTACH;FMTTYPE=image/jpeg:https://kadenafss.com/wp-content/uploads/2025/12/Kids-Eat-Free-DS-1920-x-1016-px.jpg
END:VEVENT
BEGIN:VEVENT
DTSTART;TZID=UTC:20260819T160000
DTEND;TZID=UTC:20260819T210000
DTSTAMP:20260423T074814
CREATED:20251219T060951Z
LAST-MODIFIED:20260202T003649Z
UID:10028777-1787155200-1787173200@kadenafss.com
SUMMARY:Wednesdays Kids Night Special
DESCRIPTION:The Rocker Club \nKids Night Special \nWednesdays | 4 – 9 p.m. \nBring the whole family! Children ages 12 and under enjoy special pricing with any adult entrée. Dine-in only. \nFree | Ages 4 and under \n50% off | Ages 5 – 12 \n 
URL:https://kadenafss.com/event/wednesdays-kids-night-special-2/2026-08-19
LOCATION:Kazoku Place\, The Rocker\, Kazoku Place\, The Rocker\, Building #622\, Kadena AB\, Okinawa\, 904-0000\, Japan
CATEGORIES:Food Events,Kazoku,The Rocker
ATTACH;FMTTYPE=image/jpeg:https://kadenafss.com/wp-content/uploads/2025/12/Kids-Eat-Free-DS-1920-x-1016-px.jpg
END:VEVENT
BEGIN:VEVENT
DTSTART;TZID=UTC:20260826T160000
DTEND;TZID=UTC:20260826T210000
DTSTAMP:20260423T074814
CREATED:20251219T060951Z
LAST-MODIFIED:20260202T003649Z
UID:10028778-1787760000-1787778000@kadenafss.com
SUMMARY:Wednesdays Kids Night Special
DESCRIPTION:The Rocker Club \nKids Night Special \nWednesdays | 4 – 9 p.m. \nBring the whole family! Children ages 12 and under enjoy special pricing with any adult entrée. Dine-in only. \nFree | Ages 4 and under \n50% off | Ages 5 – 12 \n 
URL:https://kadenafss.com/event/wednesdays-kids-night-special-2/2026-08-26
LOCATION:Kazoku Place\, The Rocker\, Kazoku Place\, The Rocker\, Building #622\, Kadena AB\, Okinawa\, 904-0000\, Japan
CATEGORIES:Food Events,Kazoku,The Rocker
ATTACH;FMTTYPE=image/jpeg:https://kadenafss.com/wp-content/uploads/2025/12/Kids-Eat-Free-DS-1920-x-1016-px.jpg
END:VEVENT
BEGIN:VEVENT
DTSTART;TZID=UTC:20260902T160000
DTEND;TZID=UTC:20260902T210000
DTSTAMP:20260423T074814
CREATED:20251219T060951Z
LAST-MODIFIED:20260202T003649Z
UID:10029277-1788364800-1788382800@kadenafss.com
SUMMARY:Wednesdays Kids Night Special
DESCRIPTION:The Rocker Club \nKids Night Special \nWednesdays | 4 – 9 p.m. \nBring the whole family! Children ages 12 and under enjoy special pricing with any adult entrée. Dine-in only. \nFree | Ages 4 and under \n50% off | Ages 5 – 12 \n 
URL:https://kadenafss.com/event/wednesdays-kids-night-special-2/2026-09-02
LOCATION:Kazoku Place\, The Rocker\, Kazoku Place\, The Rocker\, Building #622\, Kadena AB\, Okinawa\, 904-0000\, Japan
CATEGORIES:Food Events,Kazoku,The Rocker
ATTACH;FMTTYPE=image/jpeg:https://kadenafss.com/wp-content/uploads/2025/12/Kids-Eat-Free-DS-1920-x-1016-px.jpg
END:VEVENT
BEGIN:VEVENT
DTSTART;TZID=UTC:20260909T160000
DTEND;TZID=UTC:20260909T210000
DTSTAMP:20260423T074814
CREATED:20251219T060951Z
LAST-MODIFIED:20260202T003649Z
UID:10029360-1788969600-1788987600@kadenafss.com
SUMMARY:Wednesdays Kids Night Special
DESCRIPTION:The Rocker Club \nKids Night Special \nWednesdays | 4 – 9 p.m. \nBring the whole family! Children ages 12 and under enjoy special pricing with any adult entrée. Dine-in only. \nFree | Ages 4 and under \n50% off | Ages 5 – 12 \n 
URL:https://kadenafss.com/event/wednesdays-kids-night-special-2/2026-09-09
LOCATION:Kazoku Place\, The Rocker\, Kazoku Place\, The Rocker\, Building #622\, Kadena AB\, Okinawa\, 904-0000\, Japan
CATEGORIES:Food Events,Kazoku,The Rocker
ATTACH;FMTTYPE=image/jpeg:https://kadenafss.com/wp-content/uploads/2025/12/Kids-Eat-Free-DS-1920-x-1016-px.jpg
END:VEVENT
BEGIN:VEVENT
DTSTART;TZID=UTC:20260916T160000
DTEND;TZID=UTC:20260916T210000
DTSTAMP:20260423T074814
CREATED:20251219T060951Z
LAST-MODIFIED:20260202T003649Z
UID:10030041-1789574400-1789592400@kadenafss.com
SUMMARY:Wednesdays Kids Night Special
DESCRIPTION:The Rocker Club \nKids Night Special \nWednesdays | 4 – 9 p.m. \nBring the whole family! Children ages 12 and under enjoy special pricing with any adult entrée. Dine-in only. \nFree | Ages 4 and under \n50% off | Ages 5 – 12 \n 
URL:https://kadenafss.com/event/wednesdays-kids-night-special-2/2026-09-16
LOCATION:Kazoku Place\, The Rocker\, Kazoku Place\, The Rocker\, Building #622\, Kadena AB\, Okinawa\, 904-0000\, Japan
CATEGORIES:Food Events,Kazoku,The Rocker
ATTACH;FMTTYPE=image/jpeg:https://kadenafss.com/wp-content/uploads/2025/12/Kids-Eat-Free-DS-1920-x-1016-px.jpg
END:VEVENT
BEGIN:VEVENT
DTSTART;TZID=UTC:20260923T160000
DTEND;TZID=UTC:20260923T210000
DTSTAMP:20260423T074814
CREATED:20251219T060951Z
LAST-MODIFIED:20260202T003649Z
UID:10030351-1790179200-1790197200@kadenafss.com
SUMMARY:Wednesdays Kids Night Special
DESCRIPTION:The Rocker Club \nKids Night Special \nWednesdays | 4 – 9 p.m. \nBring the whole family! Children ages 12 and under enjoy special pricing with any adult entrée. Dine-in only. \nFree | Ages 4 and under \n50% off | Ages 5 – 12 \n 
URL:https://kadenafss.com/event/wednesdays-kids-night-special-2/2026-09-23
LOCATION:Kazoku Place\, The Rocker\, Kazoku Place\, The Rocker\, Building #622\, Kadena AB\, Okinawa\, 904-0000\, Japan
CATEGORIES:Food Events,Kazoku,The Rocker
ATTACH;FMTTYPE=image/jpeg:https://kadenafss.com/wp-content/uploads/2025/12/Kids-Eat-Free-DS-1920-x-1016-px.jpg
END:VEVENT
BEGIN:VEVENT
DTSTART;TZID=UTC:20260930T160000
DTEND;TZID=UTC:20260930T210000
DTSTAMP:20260423T074814
CREATED:20251219T060951Z
LAST-MODIFIED:20260202T003649Z
UID:10030390-1790784000-1790802000@kadenafss.com
SUMMARY:Wednesdays Kids Night Special
DESCRIPTION:The Rocker Club \nKids Night Special \nWednesdays | 4 – 9 p.m. \nBring the whole family! Children ages 12 and under enjoy special pricing with any adult entrée. Dine-in only. \nFree | Ages 4 and under \n50% off | Ages 5 – 12 \n 
URL:https://kadenafss.com/event/wednesdays-kids-night-special-2/2026-09-30
LOCATION:Kazoku Place\, The Rocker\, Kazoku Place\, The Rocker\, Building #622\, Kadena AB\, Okinawa\, 904-0000\, Japan
CATEGORIES:Food Events,Kazoku,The Rocker
ATTACH;FMTTYPE=image/jpeg:https://kadenafss.com/wp-content/uploads/2025/12/Kids-Eat-Free-DS-1920-x-1016-px.jpg
END:VEVENT
BEGIN:VEVENT
DTSTART;TZID=UTC:20261007T160000
DTEND;TZID=UTC:20261007T210000
DTSTAMP:20260423T074814
CREATED:20251219T060951Z
LAST-MODIFIED:20260202T003649Z
UID:10030987-1791388800-1791406800@kadenafss.com
SUMMARY:Wednesdays Kids Night Special
DESCRIPTION:The Rocker Club \nKids Night Special \nWednesdays | 4 – 9 p.m. \nBring the whole family! Children ages 12 and under enjoy special pricing with any adult entrée. Dine-in only. \nFree | Ages 4 and under \n50% off | Ages 5 – 12 \n 
URL:https://kadenafss.com/event/wednesdays-kids-night-special-2/2026-10-07
LOCATION:Kazoku Place\, The Rocker\, Kazoku Place\, The Rocker\, Building #622\, Kadena AB\, Okinawa\, 904-0000\, Japan
CATEGORIES:Food Events,Kazoku,The Rocker
ATTACH;FMTTYPE=image/jpeg:https://kadenafss.com/wp-content/uploads/2025/12/Kids-Eat-Free-DS-1920-x-1016-px.jpg
END:VEVENT
BEGIN:VEVENT
DTSTART;TZID=UTC:20261014T160000
DTEND;TZID=UTC:20261014T210000
DTSTAMP:20260423T074814
CREATED:20251219T060951Z
LAST-MODIFIED:20260202T003649Z
UID:10031156-1791993600-1792011600@kadenafss.com
SUMMARY:Wednesdays Kids Night Special
DESCRIPTION:The Rocker Club \nKids Night Special \nWednesdays | 4 – 9 p.m. \nBring the whole family! Children ages 12 and under enjoy special pricing with any adult entrée. Dine-in only. \nFree | Ages 4 and under \n50% off | Ages 5 – 12 \n 
URL:https://kadenafss.com/event/wednesdays-kids-night-special-2/2026-10-14
LOCATION:Kazoku Place\, The Rocker\, Kazoku Place\, The Rocker\, Building #622\, Kadena AB\, Okinawa\, 904-0000\, Japan
CATEGORIES:Food Events,Kazoku,The Rocker
ATTACH;FMTTYPE=image/jpeg:https://kadenafss.com/wp-content/uploads/2025/12/Kids-Eat-Free-DS-1920-x-1016-px.jpg
END:VEVENT
BEGIN:VEVENT
DTSTART;TZID=UTC:20261021T160000
DTEND;TZID=UTC:20261021T210000
DTSTAMP:20260423T074814
CREATED:20251219T060951Z
LAST-MODIFIED:20260202T003649Z
UID:10031212-1792598400-1792616400@kadenafss.com
SUMMARY:Wednesdays Kids Night Special
DESCRIPTION:The Rocker Club \nKids Night Special \nWednesdays | 4 – 9 p.m. \nBring the whole family! Children ages 12 and under enjoy special pricing with any adult entrée. Dine-in only. \nFree | Ages 4 and under \n50% off | Ages 5 – 12 \n 
URL:https://kadenafss.com/event/wednesdays-kids-night-special-2/2026-10-21
LOCATION:Kazoku Place\, The Rocker\, Kazoku Place\, The Rocker\, Building #622\, Kadena AB\, Okinawa\, 904-0000\, Japan
CATEGORIES:Food Events,Kazoku,The Rocker
ATTACH;FMTTYPE=image/jpeg:https://kadenafss.com/wp-content/uploads/2025/12/Kids-Eat-Free-DS-1920-x-1016-px.jpg
END:VEVENT
BEGIN:VEVENT
DTSTART;TZID=UTC:20261028T160000
DTEND;TZID=UTC:20261028T210000
DTSTAMP:20260423T074814
CREATED:20251219T060951Z
LAST-MODIFIED:20260202T003649Z
UID:10031337-1793203200-1793221200@kadenafss.com
SUMMARY:Wednesdays Kids Night Special
DESCRIPTION:The Rocker Club \nKids Night Special \nWednesdays | 4 – 9 p.m. \nBring the whole family! Children ages 12 and under enjoy special pricing with any adult entrée. Dine-in only. \nFree | Ages 4 and under \n50% off | Ages 5 – 12 \n 
URL:https://kadenafss.com/event/wednesdays-kids-night-special-2/2026-10-28
LOCATION:Kazoku Place\, The Rocker\, Kazoku Place\, The Rocker\, Building #622\, Kadena AB\, Okinawa\, 904-0000\, Japan
CATEGORIES:Food Events,Kazoku,The Rocker
ATTACH;FMTTYPE=image/jpeg:https://kadenafss.com/wp-content/uploads/2025/12/Kids-Eat-Free-DS-1920-x-1016-px.jpg
END:VEVENT
BEGIN:VEVENT
DTSTART;TZID=UTC:20261104T160000
DTEND;TZID=UTC:20261104T210000
DTSTAMP:20260423T074814
CREATED:20251219T060951Z
LAST-MODIFIED:20260202T003649Z
UID:10031398-1793808000-1793826000@kadenafss.com
SUMMARY:Wednesdays Kids Night Special
DESCRIPTION:The Rocker Club \nKids Night Special \nWednesdays | 4 – 9 p.m. \nBring the whole family! Children ages 12 and under enjoy special pricing with any adult entrée. Dine-in only. \nFree | Ages 4 and under \n50% off | Ages 5 – 12 \n 
URL:https://kadenafss.com/event/wednesdays-kids-night-special-2/2026-11-04
LOCATION:Kazoku Place\, The Rocker\, Kazoku Place\, The Rocker\, Building #622\, Kadena AB\, Okinawa\, 904-0000\, Japan
CATEGORIES:Food Events,Kazoku,The Rocker
ATTACH;FMTTYPE=image/jpeg:https://kadenafss.com/wp-content/uploads/2025/12/Kids-Eat-Free-DS-1920-x-1016-px.jpg
END:VEVENT
BEGIN:VEVENT
DTSTART;TZID=UTC:20261111T160000
DTEND;TZID=UTC:20261111T210000
DTSTAMP:20260423T074814
CREATED:20251219T060951Z
LAST-MODIFIED:20260202T003649Z
UID:10031498-1794412800-1794430800@kadenafss.com
SUMMARY:Wednesdays Kids Night Special
DESCRIPTION:The Rocker Club \nKids Night Special \nWednesdays | 4 – 9 p.m. \nBring the whole family! Children ages 12 and under enjoy special pricing with any adult entrée. Dine-in only. \nFree | Ages 4 and under \n50% off | Ages 5 – 12 \n 
URL:https://kadenafss.com/event/wednesdays-kids-night-special-2/2026-11-11
LOCATION:Kazoku Place\, The Rocker\, Kazoku Place\, The Rocker\, Building #622\, Kadena AB\, Okinawa\, 904-0000\, Japan
CATEGORIES:Food Events,Kazoku,The Rocker
ATTACH;FMTTYPE=image/jpeg:https://kadenafss.com/wp-content/uploads/2025/12/Kids-Eat-Free-DS-1920-x-1016-px.jpg
END:VEVENT
BEGIN:VEVENT
DTSTART;TZID=UTC:20261118T160000
DTEND;TZID=UTC:20261118T210000
DTSTAMP:20260423T074814
CREATED:20251219T060951Z
LAST-MODIFIED:20260202T003649Z
UID:10031597-1795017600-1795035600@kadenafss.com
SUMMARY:Wednesdays Kids Night Special
DESCRIPTION:The Rocker Club \nKids Night Special \nWednesdays | 4 – 9 p.m. \nBring the whole family! Children ages 12 and under enjoy special pricing with any adult entrée. Dine-in only. \nFree | Ages 4 and under \n50% off | Ages 5 – 12 \n 
URL:https://kadenafss.com/event/wednesdays-kids-night-special-2/2026-11-18
LOCATION:Kazoku Place\, The Rocker\, Kazoku Place\, The Rocker\, Building #622\, Kadena AB\, Okinawa\, 904-0000\, Japan
CATEGORIES:Food Events,Kazoku,The Rocker
ATTACH;FMTTYPE=image/jpeg:https://kadenafss.com/wp-content/uploads/2025/12/Kids-Eat-Free-DS-1920-x-1016-px.jpg
END:VEVENT
END:VCALENDAR