BEGIN:VCALENDAR
VERSION:2.0
PRODID:-//Kadena Air Base - ECPv6.15.20//NONSGML v1.0//EN
CALSCALE:GREGORIAN
METHOD:PUBLISH
X-ORIGINAL-URL:https://kadenafss.com
X-WR-CALDESC:Events for Kadena Air Base
REFRESH-INTERVAL;VALUE=DURATION:PT1H
X-Robots-Tag:noindex
X-PUBLISHED-TTL:PT1H
BEGIN:VTIMEZONE
TZID:Asia/Tokyo
BEGIN:STANDARD
TZOFFSETFROM:+0900
TZOFFSETTO:+0900
TZNAME:JST
DTSTART:20250101T000000
END:STANDARD
END:VTIMEZONE
BEGIN:VEVENT
DTSTART;TZID=Asia/Tokyo:20260509T080000
DTEND;TZID=Asia/Tokyo:20260509T170000
DTSTAMP:20260425T074730
CREATED:20260424T070300Z
LAST-MODIFIED:20260424T070300Z
UID:10034174-1778313600-1778346000@kadenafss.com
SUMMARY:Mothers Day Tours
DESCRIPTION:ITT is offering Mothers Day Tours: \nFood Night\nMom’s ticket is 25% off\n$80 | ages 13 and over\n$65 | ages 13 – 18 (student)\n$50 | ages 6 – 12 \nBattle Tour Yomitan\nSaturday\, May 9 | 9 a.m. – 3:30 p.m.\n$54 | ages 13 and over\n$30 | ages 6 – 12 (student)\n$16 | ages 4 – 5\n$6 | ages 3 and under \nOkinawa Bullfighting\nSunday\, May 10 | 10:30 a.m. – 5 p.m.\n$40 | ages 19 and over\n$23 | ages 13 – 18 (student)\n$12 | ages 6 – 12\n$6 | ages 5 and under \nUrashima Dinner Theatre\nSunday\, May 10 | 5:30 – 10 p.m.\n*$54 – $67 | ages 13 and over\n$33 | ages 6 – 12\n$6 | 5 and under \nNavigate to our ITT webpage below for more information!
URL:https://kadenafss.com/event/mothers-day-tours/2026-05-09
LOCATION:Information\, Tickets & Travel\, Building #455\, Inside Schilling Community Center\, Kadena AB\, Okinawa\, 904-0000\, Japan
CATEGORIES:Fun Events,ITT
ATTACH;FMTTYPE=image/jpeg:https://kadenafss.com/wp-content/uploads/2026/02/ITTAzalea-Festival.jpg
END:VEVENT
BEGIN:VEVENT
DTSTART;TZID=Asia/Tokyo:20260510T080000
DTEND;TZID=Asia/Tokyo:20260510T170000
DTSTAMP:20260425T074730
CREATED:20260424T070300Z
LAST-MODIFIED:20260424T070300Z
UID:10034175-1778400000-1778432400@kadenafss.com
SUMMARY:Mothers Day Tours
DESCRIPTION:ITT is offering Mothers Day Tours: \nFood Night\nMom’s ticket is 25% off\n$80 | ages 13 and over\n$65 | ages 13 – 18 (student)\n$50 | ages 6 – 12 \nBattle Tour Yomitan\nSaturday\, May 9 | 9 a.m. – 3:30 p.m.\n$54 | ages 13 and over\n$30 | ages 6 – 12 (student)\n$16 | ages 4 – 5\n$6 | ages 3 and under \nOkinawa Bullfighting\nSunday\, May 10 | 10:30 a.m. – 5 p.m.\n$40 | ages 19 and over\n$23 | ages 13 – 18 (student)\n$12 | ages 6 – 12\n$6 | ages 5 and under \nUrashima Dinner Theatre\nSunday\, May 10 | 5:30 – 10 p.m.\n*$54 – $67 | ages 13 and over\n$33 | ages 6 – 12\n$6 | 5 and under \nNavigate to our ITT webpage below for more information!
URL:https://kadenafss.com/event/mothers-day-tours/2026-05-10
LOCATION:Information\, Tickets & Travel\, Building #455\, Inside Schilling Community Center\, Kadena AB\, Okinawa\, 904-0000\, Japan
CATEGORIES:Fun Events,ITT
ATTACH;FMTTYPE=image/jpeg:https://kadenafss.com/wp-content/uploads/2026/02/ITTAzalea-Festival.jpg
END:VEVENT
END:VCALENDAR