BEGIN:VCALENDAR
VERSION:2.0
PRODID:-//Kadena Air Base - ECPv6.15.20//NONSGML v1.0//EN
CALSCALE:GREGORIAN
METHOD:PUBLISH
X-ORIGINAL-URL:https://kadenafss.com
X-WR-CALDESC:Events for Kadena Air Base
REFRESH-INTERVAL;VALUE=DURATION:PT1H
X-Robots-Tag:noindex
X-PUBLISHED-TTL:PT1H
BEGIN:VTIMEZONE
TZID:Asia/Tokyo
BEGIN:STANDARD
TZOFFSETFROM:+0900
TZOFFSETTO:+0900
TZNAME:JST
DTSTART:20250101T000000
END:STANDARD
END:VTIMEZONE
BEGIN:VEVENT
DTSTART;TZID=Asia/Tokyo:20260507T190000
DTEND;TZID=Asia/Tokyo:20260507T220000
DTSTAMP:20260426T041921
CREATED:20260331T031246Z
LAST-MODIFIED:20260331T031246Z
UID:10034097-1778180400-1778191200@kadenafss.com
SUMMARY:Karaoke - The Rocker Club
DESCRIPTION:Sing your heart out at Karaoke Night at the Rocker Club on Kadena Air Base\, where great music\, a lively crowd\, and a wide song selection create an unforgettable night of entertainment. Whether you’re a seasoned performer or just having fun with friends\, enjoy a welcoming atmosphere\, top hits across genres\, and one of the best nightlife experiences on base. \nThursdays | 7 – 10 p.m.
URL:https://kadenafss.com/event/karaoke-the-rocker-club/2026-05-07
LOCATION:The Rocker Club\, Building #622\, The Rocker Club\, Building #622\, Kadena AB\, Okinawa\, 904-0000\, Japan
CATEGORIES:Fun Events,The Rocker
ATTACH;FMTTYPE=image/png:https://kadenafss.com/wp-content/uploads/2026/02/Event-Loading.png
END:VEVENT
BEGIN:VEVENT
DTSTART;TZID=Asia/Tokyo:20260514T190000
DTEND;TZID=Asia/Tokyo:20260514T220000
DTSTAMP:20260426T041921
CREATED:20260331T031246Z
LAST-MODIFIED:20260331T031246Z
UID:10034098-1778785200-1778796000@kadenafss.com
SUMMARY:Karaoke - The Rocker Club
DESCRIPTION:Sing your heart out at Karaoke Night at the Rocker Club on Kadena Air Base\, where great music\, a lively crowd\, and a wide song selection create an unforgettable night of entertainment. Whether you’re a seasoned performer or just having fun with friends\, enjoy a welcoming atmosphere\, top hits across genres\, and one of the best nightlife experiences on base. \nThursdays | 7 – 10 p.m.
URL:https://kadenafss.com/event/karaoke-the-rocker-club/2026-05-14
LOCATION:The Rocker Club\, Building #622\, The Rocker Club\, Building #622\, Kadena AB\, Okinawa\, 904-0000\, Japan
CATEGORIES:Fun Events,The Rocker
ATTACH;FMTTYPE=image/png:https://kadenafss.com/wp-content/uploads/2026/02/Event-Loading.png
END:VEVENT
BEGIN:VEVENT
DTSTART;TZID=Asia/Tokyo:20260521T190000
DTEND;TZID=Asia/Tokyo:20260521T220000
DTSTAMP:20260426T041921
CREATED:20260331T031246Z
LAST-MODIFIED:20260331T031246Z
UID:10034099-1779390000-1779400800@kadenafss.com
SUMMARY:Karaoke - The Rocker Club
DESCRIPTION:Sing your heart out at Karaoke Night at the Rocker Club on Kadena Air Base\, where great music\, a lively crowd\, and a wide song selection create an unforgettable night of entertainment. Whether you’re a seasoned performer or just having fun with friends\, enjoy a welcoming atmosphere\, top hits across genres\, and one of the best nightlife experiences on base. \nThursdays | 7 – 10 p.m.
URL:https://kadenafss.com/event/karaoke-the-rocker-club/2026-05-21
LOCATION:The Rocker Club\, Building #622\, The Rocker Club\, Building #622\, Kadena AB\, Okinawa\, 904-0000\, Japan
CATEGORIES:Fun Events,The Rocker
ATTACH;FMTTYPE=image/png:https://kadenafss.com/wp-content/uploads/2026/02/Event-Loading.png
END:VEVENT
BEGIN:VEVENT
DTSTART;TZID=Asia/Tokyo:20260528T190000
DTEND;TZID=Asia/Tokyo:20260528T220000
DTSTAMP:20260426T041921
CREATED:20260331T031246Z
LAST-MODIFIED:20260331T031246Z
UID:10034100-1779994800-1780005600@kadenafss.com
SUMMARY:Karaoke - The Rocker Club
DESCRIPTION:Sing your heart out at Karaoke Night at the Rocker Club on Kadena Air Base\, where great music\, a lively crowd\, and a wide song selection create an unforgettable night of entertainment. Whether you’re a seasoned performer or just having fun with friends\, enjoy a welcoming atmosphere\, top hits across genres\, and one of the best nightlife experiences on base. \nThursdays | 7 – 10 p.m.
URL:https://kadenafss.com/event/karaoke-the-rocker-club/2026-05-28
LOCATION:The Rocker Club\, Building #622\, The Rocker Club\, Building #622\, Kadena AB\, Okinawa\, 904-0000\, Japan
CATEGORIES:Fun Events,The Rocker
ATTACH;FMTTYPE=image/png:https://kadenafss.com/wp-content/uploads/2026/02/Event-Loading.png
END:VEVENT
END:VCALENDAR