BEGIN:VCALENDAR
VERSION:2.0
PRODID:-//Kadena Air Base - ECPv6.15.20//NONSGML v1.0//EN
CALSCALE:GREGORIAN
METHOD:PUBLISH
X-ORIGINAL-URL:https://kadenafss.com
X-WR-CALDESC:Events for Kadena Air Base
REFRESH-INTERVAL;VALUE=DURATION:PT1H
X-Robots-Tag:noindex
X-PUBLISHED-TTL:PT1H
BEGIN:VTIMEZONE
TZID:Asia/Tokyo
BEGIN:STANDARD
TZOFFSETFROM:+0900
TZOFFSETTO:+0900
TZNAME:JST
DTSTART:20250101T000000
END:STANDARD
END:VTIMEZONE
BEGIN:VEVENT
DTSTART;TZID=Asia/Tokyo:20260502T100000
DTEND;TZID=Asia/Tokyo:20260502T110000
DTSTAMP:20260426T130516
CREATED:20260318T054625Z
LAST-MODIFIED:20260318T060536Z
UID:10033668-1777716000-1777719600@kadenafss.com
SUMMARY:Digital Art
DESCRIPTION:Join Arts & Crafts for a class in digital art.  \nFee: $80
URL:https://kadenafss.com/event/digital-art-arts-crafts/2026-05-02
LOCATION:Arts & Crafts Center\, bldg 455\, Kadena Arts & Crafts\, Building #455\, Kadena AB\, Okinawa\, 904-0000\, Japan
CATEGORIES:Arts & Crafts,Fun Events
ATTACH;FMTTYPE=image/png:https://kadenafss.com/wp-content/uploads/2026/02/Event-Loading.png
END:VEVENT
END:VCALENDAR