BEGIN:VCALENDAR
VERSION:2.0
PRODID:-//Kadena Air Base - ECPv6.15.20//NONSGML v1.0//EN
CALSCALE:GREGORIAN
METHOD:PUBLISH
X-WR-CALNAME:Kadena Air Base
X-ORIGINAL-URL:https://kadenafss.com
X-WR-CALDESC:Events for Kadena Air Base
REFRESH-INTERVAL;VALUE=DURATION:PT1H
X-Robots-Tag:noindex
X-PUBLISHED-TTL:PT1H
BEGIN:VTIMEZONE
TZID:Asia/Tokyo
BEGIN:STANDARD
TZOFFSETFROM:+0900
TZOFFSETTO:+0900
TZNAME:JST
DTSTART:20250101T000000
END:STANDARD
END:VTIMEZONE
BEGIN:VEVENT
DTSTART;TZID=Asia/Tokyo:20260428T150000
DTEND;TZID=Asia/Tokyo:20260428T180000
DTSTAMP:20260425T120932
CREATED:20260225T054636Z
LAST-MODIFIED:20260318T072644Z
UID:10032924-1777388400-1777399200@kadenafss.com
SUMMARY:KUMON (Math / Japanese)
DESCRIPTION:1st & 3rd Thursdays • 3 – 6 pm\n3 pm – 6 pm • Tuesday’s and Friday’s \n$75 • Per month for 1 subject\n$150 • Per month for both subjects \n30-minute sessions\nMath • Ages 5 – 18\nJapanese • Ages 5 & over \nRegistration required.
URL:https://kadenafss.com/event/kumon-math-japanese/2026-04-28
LOCATION:Schilling Community Center\, Building #455\, Schilling Community Center\, Building #455\, Kadena AB\, Okinawa\, 904-0200\, Japan
CATEGORIES:Active Duty, Career and Education Events,Shilling Community Center
ATTACH;FMTTYPE=image/jpeg:https://kadenafss.com/wp-content/uploads/2024/04/gettyimages-1737941130.jpg
END:VEVENT
BEGIN:VEVENT
DTSTART;TZID=Asia/Tokyo:20260501T150000
DTEND;TZID=Asia/Tokyo:20260501T180000
DTSTAMP:20260425T120932
CREATED:20260225T054636Z
LAST-MODIFIED:20260318T072644Z
UID:10032925-1777647600-1777658400@kadenafss.com
SUMMARY:KUMON (Math / Japanese)
DESCRIPTION:1st & 3rd Thursdays • 3 – 6 pm\n3 pm – 6 pm • Tuesday’s and Friday’s \n$75 • Per month for 1 subject\n$150 • Per month for both subjects \n30-minute sessions\nMath • Ages 5 – 18\nJapanese • Ages 5 & over \nRegistration required.
URL:https://kadenafss.com/event/kumon-math-japanese/2026-05-01
LOCATION:Schilling Community Center\, Building #455\, Schilling Community Center\, Building #455\, Kadena AB\, Okinawa\, 904-0200\, Japan
CATEGORIES:Active Duty, Career and Education Events,Shilling Community Center
ATTACH;FMTTYPE=image/jpeg:https://kadenafss.com/wp-content/uploads/2024/04/gettyimages-1737941130.jpg
END:VEVENT
BEGIN:VEVENT
DTSTART;TZID=Asia/Tokyo:20260505T150000
DTEND;TZID=Asia/Tokyo:20260505T180000
DTSTAMP:20260425T120932
CREATED:20260225T054636Z
LAST-MODIFIED:20260318T072644Z
UID:10032926-1777993200-1778004000@kadenafss.com
SUMMARY:KUMON (Math / Japanese)
DESCRIPTION:1st & 3rd Thursdays • 3 – 6 pm\n3 pm – 6 pm • Tuesday’s and Friday’s \n$75 • Per month for 1 subject\n$150 • Per month for both subjects \n30-minute sessions\nMath • Ages 5 – 18\nJapanese • Ages 5 & over \nRegistration required.
URL:https://kadenafss.com/event/kumon-math-japanese/2026-05-05
LOCATION:Schilling Community Center\, Building #455\, Schilling Community Center\, Building #455\, Kadena AB\, Okinawa\, 904-0200\, Japan
CATEGORIES:Active Duty, Career and Education Events,Shilling Community Center
ATTACH;FMTTYPE=image/jpeg:https://kadenafss.com/wp-content/uploads/2024/04/gettyimages-1737941130.jpg
END:VEVENT
BEGIN:VEVENT
DTSTART;TZID=Asia/Tokyo:20260508T150000
DTEND;TZID=Asia/Tokyo:20260508T180000
DTSTAMP:20260425T120932
CREATED:20260225T054636Z
LAST-MODIFIED:20260318T072644Z
UID:10032927-1778252400-1778263200@kadenafss.com
SUMMARY:KUMON (Math / Japanese)
DESCRIPTION:1st & 3rd Thursdays • 3 – 6 pm\n3 pm – 6 pm • Tuesday’s and Friday’s \n$75 • Per month for 1 subject\n$150 • Per month for both subjects \n30-minute sessions\nMath • Ages 5 – 18\nJapanese • Ages 5 & over \nRegistration required.
URL:https://kadenafss.com/event/kumon-math-japanese/2026-05-08
LOCATION:Schilling Community Center\, Building #455\, Schilling Community Center\, Building #455\, Kadena AB\, Okinawa\, 904-0200\, Japan
CATEGORIES:Active Duty, Career and Education Events,Shilling Community Center
ATTACH;FMTTYPE=image/jpeg:https://kadenafss.com/wp-content/uploads/2024/04/gettyimages-1737941130.jpg
END:VEVENT
BEGIN:VEVENT
DTSTART;TZID=Asia/Tokyo:20260512T150000
DTEND;TZID=Asia/Tokyo:20260512T180000
DTSTAMP:20260425T120932
CREATED:20260225T054636Z
LAST-MODIFIED:20260318T072644Z
UID:10032928-1778598000-1778608800@kadenafss.com
SUMMARY:KUMON (Math / Japanese)
DESCRIPTION:1st & 3rd Thursdays • 3 – 6 pm\n3 pm – 6 pm • Tuesday’s and Friday’s \n$75 • Per month for 1 subject\n$150 • Per month for both subjects \n30-minute sessions\nMath • Ages 5 – 18\nJapanese • Ages 5 & over \nRegistration required.
URL:https://kadenafss.com/event/kumon-math-japanese/2026-05-12
LOCATION:Schilling Community Center\, Building #455\, Schilling Community Center\, Building #455\, Kadena AB\, Okinawa\, 904-0200\, Japan
CATEGORIES:Active Duty, Career and Education Events,Shilling Community Center
ATTACH;FMTTYPE=image/jpeg:https://kadenafss.com/wp-content/uploads/2024/04/gettyimages-1737941130.jpg
END:VEVENT
BEGIN:VEVENT
DTSTART;TZID=Asia/Tokyo:20260515T150000
DTEND;TZID=Asia/Tokyo:20260515T180000
DTSTAMP:20260425T120932
CREATED:20260225T054636Z
LAST-MODIFIED:20260318T072644Z
UID:10032929-1778857200-1778868000@kadenafss.com
SUMMARY:KUMON (Math / Japanese)
DESCRIPTION:1st & 3rd Thursdays • 3 – 6 pm\n3 pm – 6 pm • Tuesday’s and Friday’s \n$75 • Per month for 1 subject\n$150 • Per month for both subjects \n30-minute sessions\nMath • Ages 5 – 18\nJapanese • Ages 5 & over \nRegistration required.
URL:https://kadenafss.com/event/kumon-math-japanese/2026-05-15
LOCATION:Schilling Community Center\, Building #455\, Schilling Community Center\, Building #455\, Kadena AB\, Okinawa\, 904-0200\, Japan
CATEGORIES:Active Duty, Career and Education Events,Shilling Community Center
ATTACH;FMTTYPE=image/jpeg:https://kadenafss.com/wp-content/uploads/2024/04/gettyimages-1737941130.jpg
END:VEVENT
BEGIN:VEVENT
DTSTART;TZID=Asia/Tokyo:20260519T150000
DTEND;TZID=Asia/Tokyo:20260519T180000
DTSTAMP:20260425T120932
CREATED:20260225T054636Z
LAST-MODIFIED:20260318T072644Z
UID:10032930-1779202800-1779213600@kadenafss.com
SUMMARY:KUMON (Math / Japanese)
DESCRIPTION:1st & 3rd Thursdays • 3 – 6 pm\n3 pm – 6 pm • Tuesday’s and Friday’s \n$75 • Per month for 1 subject\n$150 • Per month for both subjects \n30-minute sessions\nMath • Ages 5 – 18\nJapanese • Ages 5 & over \nRegistration required.
URL:https://kadenafss.com/event/kumon-math-japanese/2026-05-19
LOCATION:Schilling Community Center\, Building #455\, Schilling Community Center\, Building #455\, Kadena AB\, Okinawa\, 904-0200\, Japan
CATEGORIES:Active Duty, Career and Education Events,Shilling Community Center
ATTACH;FMTTYPE=image/jpeg:https://kadenafss.com/wp-content/uploads/2024/04/gettyimages-1737941130.jpg
END:VEVENT
BEGIN:VEVENT
DTSTART;TZID=Asia/Tokyo:20260522T150000
DTEND;TZID=Asia/Tokyo:20260522T180000
DTSTAMP:20260425T120932
CREATED:20260225T054636Z
LAST-MODIFIED:20260318T072644Z
UID:10032931-1779462000-1779472800@kadenafss.com
SUMMARY:KUMON (Math / Japanese)
DESCRIPTION:1st & 3rd Thursdays • 3 – 6 pm\n3 pm – 6 pm • Tuesday’s and Friday’s \n$75 • Per month for 1 subject\n$150 • Per month for both subjects \n30-minute sessions\nMath • Ages 5 – 18\nJapanese • Ages 5 & over \nRegistration required.
URL:https://kadenafss.com/event/kumon-math-japanese/2026-05-22
LOCATION:Schilling Community Center\, Building #455\, Schilling Community Center\, Building #455\, Kadena AB\, Okinawa\, 904-0200\, Japan
CATEGORIES:Active Duty, Career and Education Events,Shilling Community Center
ATTACH;FMTTYPE=image/jpeg:https://kadenafss.com/wp-content/uploads/2024/04/gettyimages-1737941130.jpg
END:VEVENT
BEGIN:VEVENT
DTSTART;TZID=Asia/Tokyo:20260526T150000
DTEND;TZID=Asia/Tokyo:20260526T180000
DTSTAMP:20260425T120932
CREATED:20260225T054636Z
LAST-MODIFIED:20260318T072644Z
UID:10032932-1779807600-1779818400@kadenafss.com
SUMMARY:KUMON (Math / Japanese)
DESCRIPTION:1st & 3rd Thursdays • 3 – 6 pm\n3 pm – 6 pm • Tuesday’s and Friday’s \n$75 • Per month for 1 subject\n$150 • Per month for both subjects \n30-minute sessions\nMath • Ages 5 – 18\nJapanese • Ages 5 & over \nRegistration required.
URL:https://kadenafss.com/event/kumon-math-japanese/2026-05-26
LOCATION:Schilling Community Center\, Building #455\, Schilling Community Center\, Building #455\, Kadena AB\, Okinawa\, 904-0200\, Japan
CATEGORIES:Active Duty, Career and Education Events,Shilling Community Center
ATTACH;FMTTYPE=image/jpeg:https://kadenafss.com/wp-content/uploads/2024/04/gettyimages-1737941130.jpg
END:VEVENT
BEGIN:VEVENT
DTSTART;TZID=Asia/Tokyo:20260529T150000
DTEND;TZID=Asia/Tokyo:20260529T180000
DTSTAMP:20260425T120932
CREATED:20260225T054636Z
LAST-MODIFIED:20260318T072644Z
UID:10032933-1780066800-1780077600@kadenafss.com
SUMMARY:KUMON (Math / Japanese)
DESCRIPTION:1st & 3rd Thursdays • 3 – 6 pm\n3 pm – 6 pm • Tuesday’s and Friday’s \n$75 • Per month for 1 subject\n$150 • Per month for both subjects \n30-minute sessions\nMath • Ages 5 – 18\nJapanese • Ages 5 & over \nRegistration required.
URL:https://kadenafss.com/event/kumon-math-japanese/2026-05-29
LOCATION:Schilling Community Center\, Building #455\, Schilling Community Center\, Building #455\, Kadena AB\, Okinawa\, 904-0200\, Japan
CATEGORIES:Active Duty, Career and Education Events,Shilling Community Center
ATTACH;FMTTYPE=image/jpeg:https://kadenafss.com/wp-content/uploads/2024/04/gettyimages-1737941130.jpg
END:VEVENT
BEGIN:VEVENT
DTSTART;TZID=Asia/Tokyo:20260602T150000
DTEND;TZID=Asia/Tokyo:20260602T180000
DTSTAMP:20260425T120932
CREATED:20260225T054636Z
LAST-MODIFIED:20260318T072644Z
UID:10032934-1780412400-1780423200@kadenafss.com
SUMMARY:KUMON (Math / Japanese)
DESCRIPTION:1st & 3rd Thursdays • 3 – 6 pm\n3 pm – 6 pm • Tuesday’s and Friday’s \n$75 • Per month for 1 subject\n$150 • Per month for both subjects \n30-minute sessions\nMath • Ages 5 – 18\nJapanese • Ages 5 & over \nRegistration required.
URL:https://kadenafss.com/event/kumon-math-japanese/2026-06-02
LOCATION:Schilling Community Center\, Building #455\, Schilling Community Center\, Building #455\, Kadena AB\, Okinawa\, 904-0200\, Japan
CATEGORIES:Active Duty, Career and Education Events,Shilling Community Center
ATTACH;FMTTYPE=image/jpeg:https://kadenafss.com/wp-content/uploads/2024/04/gettyimages-1737941130.jpg
END:VEVENT
BEGIN:VEVENT
DTSTART;TZID=Asia/Tokyo:20260605T150000
DTEND;TZID=Asia/Tokyo:20260605T180000
DTSTAMP:20260425T120932
CREATED:20260225T054636Z
LAST-MODIFIED:20260318T072644Z
UID:10032935-1780671600-1780682400@kadenafss.com
SUMMARY:KUMON (Math / Japanese)
DESCRIPTION:1st & 3rd Thursdays • 3 – 6 pm\n3 pm – 6 pm • Tuesday’s and Friday’s \n$75 • Per month for 1 subject\n$150 • Per month for both subjects \n30-minute sessions\nMath • Ages 5 – 18\nJapanese • Ages 5 & over \nRegistration required.
URL:https://kadenafss.com/event/kumon-math-japanese/2026-06-05
LOCATION:Schilling Community Center\, Building #455\, Schilling Community Center\, Building #455\, Kadena AB\, Okinawa\, 904-0200\, Japan
CATEGORIES:Active Duty, Career and Education Events,Shilling Community Center
ATTACH;FMTTYPE=image/jpeg:https://kadenafss.com/wp-content/uploads/2024/04/gettyimages-1737941130.jpg
END:VEVENT
BEGIN:VEVENT
DTSTART;TZID=Asia/Tokyo:20260609T150000
DTEND;TZID=Asia/Tokyo:20260609T180000
DTSTAMP:20260425T120932
CREATED:20260225T054636Z
LAST-MODIFIED:20260318T072644Z
UID:10032936-1781017200-1781028000@kadenafss.com
SUMMARY:KUMON (Math / Japanese)
DESCRIPTION:1st & 3rd Thursdays • 3 – 6 pm\n3 pm – 6 pm • Tuesday’s and Friday’s \n$75 • Per month for 1 subject\n$150 • Per month for both subjects \n30-minute sessions\nMath • Ages 5 – 18\nJapanese • Ages 5 & over \nRegistration required.
URL:https://kadenafss.com/event/kumon-math-japanese/2026-06-09
LOCATION:Schilling Community Center\, Building #455\, Schilling Community Center\, Building #455\, Kadena AB\, Okinawa\, 904-0200\, Japan
CATEGORIES:Active Duty, Career and Education Events,Shilling Community Center
ATTACH;FMTTYPE=image/jpeg:https://kadenafss.com/wp-content/uploads/2024/04/gettyimages-1737941130.jpg
END:VEVENT
BEGIN:VEVENT
DTSTART;TZID=Asia/Tokyo:20260612T150000
DTEND;TZID=Asia/Tokyo:20260612T180000
DTSTAMP:20260425T120932
CREATED:20260225T054636Z
LAST-MODIFIED:20260318T072644Z
UID:10032937-1781276400-1781287200@kadenafss.com
SUMMARY:KUMON (Math / Japanese)
DESCRIPTION:1st & 3rd Thursdays • 3 – 6 pm\n3 pm – 6 pm • Tuesday’s and Friday’s \n$75 • Per month for 1 subject\n$150 • Per month for both subjects \n30-minute sessions\nMath • Ages 5 – 18\nJapanese • Ages 5 & over \nRegistration required.
URL:https://kadenafss.com/event/kumon-math-japanese/2026-06-12
LOCATION:Schilling Community Center\, Building #455\, Schilling Community Center\, Building #455\, Kadena AB\, Okinawa\, 904-0200\, Japan
CATEGORIES:Active Duty, Career and Education Events,Shilling Community Center
ATTACH;FMTTYPE=image/jpeg:https://kadenafss.com/wp-content/uploads/2024/04/gettyimages-1737941130.jpg
END:VEVENT
BEGIN:VEVENT
DTSTART;TZID=Asia/Tokyo:20260616T150000
DTEND;TZID=Asia/Tokyo:20260616T180000
DTSTAMP:20260425T120932
CREATED:20260225T054636Z
LAST-MODIFIED:20260318T072644Z
UID:10032938-1781622000-1781632800@kadenafss.com
SUMMARY:KUMON (Math / Japanese)
DESCRIPTION:1st & 3rd Thursdays • 3 – 6 pm\n3 pm – 6 pm • Tuesday’s and Friday’s \n$75 • Per month for 1 subject\n$150 • Per month for both subjects \n30-minute sessions\nMath • Ages 5 – 18\nJapanese • Ages 5 & over \nRegistration required.
URL:https://kadenafss.com/event/kumon-math-japanese/2026-06-16
LOCATION:Schilling Community Center\, Building #455\, Schilling Community Center\, Building #455\, Kadena AB\, Okinawa\, 904-0200\, Japan
CATEGORIES:Active Duty, Career and Education Events,Shilling Community Center
ATTACH;FMTTYPE=image/jpeg:https://kadenafss.com/wp-content/uploads/2024/04/gettyimages-1737941130.jpg
END:VEVENT
BEGIN:VEVENT
DTSTART;TZID=Asia/Tokyo:20260619T150000
DTEND;TZID=Asia/Tokyo:20260619T180000
DTSTAMP:20260425T120932
CREATED:20260225T054636Z
LAST-MODIFIED:20260318T072644Z
UID:10032939-1781881200-1781892000@kadenafss.com
SUMMARY:KUMON (Math / Japanese)
DESCRIPTION:1st & 3rd Thursdays • 3 – 6 pm\n3 pm – 6 pm • Tuesday’s and Friday’s \n$75 • Per month for 1 subject\n$150 • Per month for both subjects \n30-minute sessions\nMath • Ages 5 – 18\nJapanese • Ages 5 & over \nRegistration required.
URL:https://kadenafss.com/event/kumon-math-japanese/2026-06-19
LOCATION:Schilling Community Center\, Building #455\, Schilling Community Center\, Building #455\, Kadena AB\, Okinawa\, 904-0200\, Japan
CATEGORIES:Active Duty, Career and Education Events,Shilling Community Center
ATTACH;FMTTYPE=image/jpeg:https://kadenafss.com/wp-content/uploads/2024/04/gettyimages-1737941130.jpg
END:VEVENT
BEGIN:VEVENT
DTSTART;TZID=Asia/Tokyo:20260623T150000
DTEND;TZID=Asia/Tokyo:20260623T180000
DTSTAMP:20260425T120932
CREATED:20260225T054636Z
LAST-MODIFIED:20260318T072644Z
UID:10032940-1782226800-1782237600@kadenafss.com
SUMMARY:KUMON (Math / Japanese)
DESCRIPTION:1st & 3rd Thursdays • 3 – 6 pm\n3 pm – 6 pm • Tuesday’s and Friday’s \n$75 • Per month for 1 subject\n$150 • Per month for both subjects \n30-minute sessions\nMath • Ages 5 – 18\nJapanese • Ages 5 & over \nRegistration required.
URL:https://kadenafss.com/event/kumon-math-japanese/2026-06-23
LOCATION:Schilling Community Center\, Building #455\, Schilling Community Center\, Building #455\, Kadena AB\, Okinawa\, 904-0200\, Japan
CATEGORIES:Active Duty, Career and Education Events,Shilling Community Center
ATTACH;FMTTYPE=image/jpeg:https://kadenafss.com/wp-content/uploads/2024/04/gettyimages-1737941130.jpg
END:VEVENT
BEGIN:VEVENT
DTSTART;TZID=Asia/Tokyo:20260626T150000
DTEND;TZID=Asia/Tokyo:20260626T180000
DTSTAMP:20260425T120932
CREATED:20260225T054636Z
LAST-MODIFIED:20260318T072644Z
UID:10032941-1782486000-1782496800@kadenafss.com
SUMMARY:KUMON (Math / Japanese)
DESCRIPTION:1st & 3rd Thursdays • 3 – 6 pm\n3 pm – 6 pm • Tuesday’s and Friday’s \n$75 • Per month for 1 subject\n$150 • Per month for both subjects \n30-minute sessions\nMath • Ages 5 – 18\nJapanese • Ages 5 & over \nRegistration required.
URL:https://kadenafss.com/event/kumon-math-japanese/2026-06-26
LOCATION:Schilling Community Center\, Building #455\, Schilling Community Center\, Building #455\, Kadena AB\, Okinawa\, 904-0200\, Japan
CATEGORIES:Active Duty, Career and Education Events,Shilling Community Center
ATTACH;FMTTYPE=image/jpeg:https://kadenafss.com/wp-content/uploads/2024/04/gettyimages-1737941130.jpg
END:VEVENT
BEGIN:VEVENT
DTSTART;TZID=Asia/Tokyo:20260630T150000
DTEND;TZID=Asia/Tokyo:20260630T180000
DTSTAMP:20260425T120932
CREATED:20260225T054636Z
LAST-MODIFIED:20260318T072644Z
UID:10032942-1782831600-1782842400@kadenafss.com
SUMMARY:KUMON (Math / Japanese)
DESCRIPTION:1st & 3rd Thursdays • 3 – 6 pm\n3 pm – 6 pm • Tuesday’s and Friday’s \n$75 • Per month for 1 subject\n$150 • Per month for both subjects \n30-minute sessions\nMath • Ages 5 – 18\nJapanese • Ages 5 & over \nRegistration required.
URL:https://kadenafss.com/event/kumon-math-japanese/2026-06-30
LOCATION:Schilling Community Center\, Building #455\, Schilling Community Center\, Building #455\, Kadena AB\, Okinawa\, 904-0200\, Japan
CATEGORIES:Active Duty, Career and Education Events,Shilling Community Center
ATTACH;FMTTYPE=image/jpeg:https://kadenafss.com/wp-content/uploads/2024/04/gettyimages-1737941130.jpg
END:VEVENT
BEGIN:VEVENT
DTSTART;TZID=Asia/Tokyo:20260703T150000
DTEND;TZID=Asia/Tokyo:20260703T180000
DTSTAMP:20260425T120932
CREATED:20260225T054636Z
LAST-MODIFIED:20260318T072644Z
UID:10032943-1783090800-1783101600@kadenafss.com
SUMMARY:KUMON (Math / Japanese)
DESCRIPTION:1st & 3rd Thursdays • 3 – 6 pm\n3 pm – 6 pm • Tuesday’s and Friday’s \n$75 • Per month for 1 subject\n$150 • Per month for both subjects \n30-minute sessions\nMath • Ages 5 – 18\nJapanese • Ages 5 & over \nRegistration required.
URL:https://kadenafss.com/event/kumon-math-japanese/2026-07-03
LOCATION:Schilling Community Center\, Building #455\, Schilling Community Center\, Building #455\, Kadena AB\, Okinawa\, 904-0200\, Japan
CATEGORIES:Active Duty, Career and Education Events,Shilling Community Center
ATTACH;FMTTYPE=image/jpeg:https://kadenafss.com/wp-content/uploads/2024/04/gettyimages-1737941130.jpg
END:VEVENT
BEGIN:VEVENT
DTSTART;TZID=Asia/Tokyo:20260707T150000
DTEND;TZID=Asia/Tokyo:20260707T180000
DTSTAMP:20260425T120932
CREATED:20260225T054636Z
LAST-MODIFIED:20260318T072644Z
UID:10032944-1783436400-1783447200@kadenafss.com
SUMMARY:KUMON (Math / Japanese)
DESCRIPTION:1st & 3rd Thursdays • 3 – 6 pm\n3 pm – 6 pm • Tuesday’s and Friday’s \n$75 • Per month for 1 subject\n$150 • Per month for both subjects \n30-minute sessions\nMath • Ages 5 – 18\nJapanese • Ages 5 & over \nRegistration required.
URL:https://kadenafss.com/event/kumon-math-japanese/2026-07-07
LOCATION:Schilling Community Center\, Building #455\, Schilling Community Center\, Building #455\, Kadena AB\, Okinawa\, 904-0200\, Japan
CATEGORIES:Active Duty, Career and Education Events,Shilling Community Center
ATTACH;FMTTYPE=image/jpeg:https://kadenafss.com/wp-content/uploads/2024/04/gettyimages-1737941130.jpg
END:VEVENT
BEGIN:VEVENT
DTSTART;TZID=Asia/Tokyo:20260710T150000
DTEND;TZID=Asia/Tokyo:20260710T180000
DTSTAMP:20260425T120932
CREATED:20260225T054636Z
LAST-MODIFIED:20260318T072644Z
UID:10032945-1783695600-1783706400@kadenafss.com
SUMMARY:KUMON (Math / Japanese)
DESCRIPTION:1st & 3rd Thursdays • 3 – 6 pm\n3 pm – 6 pm • Tuesday’s and Friday’s \n$75 • Per month for 1 subject\n$150 • Per month for both subjects \n30-minute sessions\nMath • Ages 5 – 18\nJapanese • Ages 5 & over \nRegistration required.
URL:https://kadenafss.com/event/kumon-math-japanese/2026-07-10
LOCATION:Schilling Community Center\, Building #455\, Schilling Community Center\, Building #455\, Kadena AB\, Okinawa\, 904-0200\, Japan
CATEGORIES:Active Duty, Career and Education Events,Shilling Community Center
ATTACH;FMTTYPE=image/jpeg:https://kadenafss.com/wp-content/uploads/2024/04/gettyimages-1737941130.jpg
END:VEVENT
BEGIN:VEVENT
DTSTART;TZID=Asia/Tokyo:20260714T150000
DTEND;TZID=Asia/Tokyo:20260714T180000
DTSTAMP:20260425T120932
CREATED:20260225T054636Z
LAST-MODIFIED:20260318T072644Z
UID:10032946-1784041200-1784052000@kadenafss.com
SUMMARY:KUMON (Math / Japanese)
DESCRIPTION:1st & 3rd Thursdays • 3 – 6 pm\n3 pm – 6 pm • Tuesday’s and Friday’s \n$75 • Per month for 1 subject\n$150 • Per month for both subjects \n30-minute sessions\nMath • Ages 5 – 18\nJapanese • Ages 5 & over \nRegistration required.
URL:https://kadenafss.com/event/kumon-math-japanese/2026-07-14
LOCATION:Schilling Community Center\, Building #455\, Schilling Community Center\, Building #455\, Kadena AB\, Okinawa\, 904-0200\, Japan
CATEGORIES:Active Duty, Career and Education Events,Shilling Community Center
ATTACH;FMTTYPE=image/jpeg:https://kadenafss.com/wp-content/uploads/2024/04/gettyimages-1737941130.jpg
END:VEVENT
BEGIN:VEVENT
DTSTART;TZID=Asia/Tokyo:20260717T150000
DTEND;TZID=Asia/Tokyo:20260717T180000
DTSTAMP:20260425T120932
CREATED:20260225T054636Z
LAST-MODIFIED:20260318T072644Z
UID:10032947-1784300400-1784311200@kadenafss.com
SUMMARY:KUMON (Math / Japanese)
DESCRIPTION:1st & 3rd Thursdays • 3 – 6 pm\n3 pm – 6 pm • Tuesday’s and Friday’s \n$75 • Per month for 1 subject\n$150 • Per month for both subjects \n30-minute sessions\nMath • Ages 5 – 18\nJapanese • Ages 5 & over \nRegistration required.
URL:https://kadenafss.com/event/kumon-math-japanese/2026-07-17
LOCATION:Schilling Community Center\, Building #455\, Schilling Community Center\, Building #455\, Kadena AB\, Okinawa\, 904-0200\, Japan
CATEGORIES:Active Duty, Career and Education Events,Shilling Community Center
ATTACH;FMTTYPE=image/jpeg:https://kadenafss.com/wp-content/uploads/2024/04/gettyimages-1737941130.jpg
END:VEVENT
BEGIN:VEVENT
DTSTART;TZID=Asia/Tokyo:20260721T150000
DTEND;TZID=Asia/Tokyo:20260721T180000
DTSTAMP:20260425T120932
CREATED:20260225T054636Z
LAST-MODIFIED:20260318T072644Z
UID:10032948-1784646000-1784656800@kadenafss.com
SUMMARY:KUMON (Math / Japanese)
DESCRIPTION:1st & 3rd Thursdays • 3 – 6 pm\n3 pm – 6 pm • Tuesday’s and Friday’s \n$75 • Per month for 1 subject\n$150 • Per month for both subjects \n30-minute sessions\nMath • Ages 5 – 18\nJapanese • Ages 5 & over \nRegistration required.
URL:https://kadenafss.com/event/kumon-math-japanese/2026-07-21
LOCATION:Schilling Community Center\, Building #455\, Schilling Community Center\, Building #455\, Kadena AB\, Okinawa\, 904-0200\, Japan
CATEGORIES:Active Duty, Career and Education Events,Shilling Community Center
ATTACH;FMTTYPE=image/jpeg:https://kadenafss.com/wp-content/uploads/2024/04/gettyimages-1737941130.jpg
END:VEVENT
BEGIN:VEVENT
DTSTART;TZID=Asia/Tokyo:20260724T150000
DTEND;TZID=Asia/Tokyo:20260724T180000
DTSTAMP:20260425T120932
CREATED:20260225T054636Z
LAST-MODIFIED:20260318T072644Z
UID:10032949-1784905200-1784916000@kadenafss.com
SUMMARY:KUMON (Math / Japanese)
DESCRIPTION:1st & 3rd Thursdays • 3 – 6 pm\n3 pm – 6 pm • Tuesday’s and Friday’s \n$75 • Per month for 1 subject\n$150 • Per month for both subjects \n30-minute sessions\nMath • Ages 5 – 18\nJapanese • Ages 5 & over \nRegistration required.
URL:https://kadenafss.com/event/kumon-math-japanese/2026-07-24
LOCATION:Schilling Community Center\, Building #455\, Schilling Community Center\, Building #455\, Kadena AB\, Okinawa\, 904-0200\, Japan
CATEGORIES:Active Duty, Career and Education Events,Shilling Community Center
ATTACH;FMTTYPE=image/jpeg:https://kadenafss.com/wp-content/uploads/2024/04/gettyimages-1737941130.jpg
END:VEVENT
BEGIN:VEVENT
DTSTART;TZID=Asia/Tokyo:20260728T150000
DTEND;TZID=Asia/Tokyo:20260728T180000
DTSTAMP:20260425T120932
CREATED:20260225T054636Z
LAST-MODIFIED:20260318T072644Z
UID:10032950-1785250800-1785261600@kadenafss.com
SUMMARY:KUMON (Math / Japanese)
DESCRIPTION:1st & 3rd Thursdays • 3 – 6 pm\n3 pm – 6 pm • Tuesday’s and Friday’s \n$75 • Per month for 1 subject\n$150 • Per month for both subjects \n30-minute sessions\nMath • Ages 5 – 18\nJapanese • Ages 5 & over \nRegistration required.
URL:https://kadenafss.com/event/kumon-math-japanese/2026-07-28
LOCATION:Schilling Community Center\, Building #455\, Schilling Community Center\, Building #455\, Kadena AB\, Okinawa\, 904-0200\, Japan
CATEGORIES:Active Duty, Career and Education Events,Shilling Community Center
ATTACH;FMTTYPE=image/jpeg:https://kadenafss.com/wp-content/uploads/2024/04/gettyimages-1737941130.jpg
END:VEVENT
BEGIN:VEVENT
DTSTART;TZID=Asia/Tokyo:20260731T150000
DTEND;TZID=Asia/Tokyo:20260731T180000
DTSTAMP:20260425T120932
CREATED:20260225T054636Z
LAST-MODIFIED:20260318T072644Z
UID:10032951-1785510000-1785520800@kadenafss.com
SUMMARY:KUMON (Math / Japanese)
DESCRIPTION:1st & 3rd Thursdays • 3 – 6 pm\n3 pm – 6 pm • Tuesday’s and Friday’s \n$75 • Per month for 1 subject\n$150 • Per month for both subjects \n30-minute sessions\nMath • Ages 5 – 18\nJapanese • Ages 5 & over \nRegistration required.
URL:https://kadenafss.com/event/kumon-math-japanese/2026-07-31
LOCATION:Schilling Community Center\, Building #455\, Schilling Community Center\, Building #455\, Kadena AB\, Okinawa\, 904-0200\, Japan
CATEGORIES:Active Duty, Career and Education Events,Shilling Community Center
ATTACH;FMTTYPE=image/jpeg:https://kadenafss.com/wp-content/uploads/2024/04/gettyimages-1737941130.jpg
END:VEVENT
BEGIN:VEVENT
DTSTART;TZID=Asia/Tokyo:20260804T150000
DTEND;TZID=Asia/Tokyo:20260804T180000
DTSTAMP:20260425T120932
CREATED:20260225T054636Z
LAST-MODIFIED:20260318T072644Z
UID:10032952-1785855600-1785866400@kadenafss.com
SUMMARY:KUMON (Math / Japanese)
DESCRIPTION:1st & 3rd Thursdays • 3 – 6 pm\n3 pm – 6 pm • Tuesday’s and Friday’s \n$75 • Per month for 1 subject\n$150 • Per month for both subjects \n30-minute sessions\nMath • Ages 5 – 18\nJapanese • Ages 5 & over \nRegistration required.
URL:https://kadenafss.com/event/kumon-math-japanese/2026-08-04
LOCATION:Schilling Community Center\, Building #455\, Schilling Community Center\, Building #455\, Kadena AB\, Okinawa\, 904-0200\, Japan
CATEGORIES:Active Duty, Career and Education Events,Shilling Community Center
ATTACH;FMTTYPE=image/jpeg:https://kadenafss.com/wp-content/uploads/2024/04/gettyimages-1737941130.jpg
END:VEVENT
BEGIN:VEVENT
DTSTART;TZID=Asia/Tokyo:20260807T150000
DTEND;TZID=Asia/Tokyo:20260807T180000
DTSTAMP:20260425T120932
CREATED:20260225T054636Z
LAST-MODIFIED:20260318T072644Z
UID:10032953-1786114800-1786125600@kadenafss.com
SUMMARY:KUMON (Math / Japanese)
DESCRIPTION:1st & 3rd Thursdays • 3 – 6 pm\n3 pm – 6 pm • Tuesday’s and Friday’s \n$75 • Per month for 1 subject\n$150 • Per month for both subjects \n30-minute sessions\nMath • Ages 5 – 18\nJapanese • Ages 5 & over \nRegistration required.
URL:https://kadenafss.com/event/kumon-math-japanese/2026-08-07
LOCATION:Schilling Community Center\, Building #455\, Schilling Community Center\, Building #455\, Kadena AB\, Okinawa\, 904-0200\, Japan
CATEGORIES:Active Duty, Career and Education Events,Shilling Community Center
ATTACH;FMTTYPE=image/jpeg:https://kadenafss.com/wp-content/uploads/2024/04/gettyimages-1737941130.jpg
END:VEVENT
END:VCALENDAR