BEGIN:VCALENDAR
VERSION:2.0
PRODID:-//Kadena Air Base - ECPv6.15.20//NONSGML v1.0//EN
CALSCALE:GREGORIAN
METHOD:PUBLISH
X-WR-CALNAME:Kadena Air Base
X-ORIGINAL-URL:https://kadenafss.com
X-WR-CALDESC:Events for Kadena Air Base
REFRESH-INTERVAL;VALUE=DURATION:PT1H
X-Robots-Tag:noindex
X-PUBLISHED-TTL:PT1H
BEGIN:VTIMEZONE
TZID:UTC
BEGIN:STANDARD
TZOFFSETFROM:+0000
TZOFFSETTO:+0000
TZNAME:UTC
DTSTART:20250101T000000
END:STANDARD
END:VTIMEZONE
BEGIN:VEVENT
DTSTART;TZID=UTC:20260506T080000
DTEND;TZID=UTC:20260506T110000
DTSTAMP:20260426T090536
CREATED:20251219T061128Z
LAST-MODIFIED:20260317T051532Z
UID:10031455-1778054400-1778065200@kadenafss.com
SUMMARY:Pre-Separation Brief
DESCRIPTION:Education Center\, Bldg 59 \nStep 2 of the congressionally mandated Transition Assistance Program (TAP) for service members preparing for separation or retirement from the military.
URL:https://kadenafss.com/event/pre-separation-brief-2/2026-05-06
LOCATION:Education Center | Rm 115
CATEGORIES:Active Duty, Career and Education Events,M&FRC
ATTACH;FMTTYPE=image/png:https://kadenafss.com/wp-content/uploads/2025/05/PreSeparation-Brief.png
END:VEVENT
BEGIN:VEVENT
DTSTART;TZID=UTC:20260520T080000
DTEND;TZID=UTC:20260520T110000
DTSTAMP:20260426T090536
CREATED:20251219T061128Z
LAST-MODIFIED:20260317T051532Z
UID:10031457-1779264000-1779274800@kadenafss.com
SUMMARY:Pre-Separation Brief
DESCRIPTION:Education Center\, Bldg 59 \nStep 2 of the congressionally mandated Transition Assistance Program (TAP) for service members preparing for separation or retirement from the military.
URL:https://kadenafss.com/event/pre-separation-brief-2/2026-05-20
LOCATION:Education Center | Rm 115
CATEGORIES:Active Duty, Career and Education Events,M&FRC
ATTACH;FMTTYPE=image/png:https://kadenafss.com/wp-content/uploads/2025/05/PreSeparation-Brief.png
END:VEVENT
BEGIN:VEVENT
DTSTART;TZID=UTC:20260603T080000
DTEND;TZID=UTC:20260603T110000
DTSTAMP:20260426T090536
CREATED:20251219T061128Z
LAST-MODIFIED:20260317T051532Z
UID:10031459-1780473600-1780484400@kadenafss.com
SUMMARY:Pre-Separation Brief
DESCRIPTION:Education Center\, Bldg 59 \nStep 2 of the congressionally mandated Transition Assistance Program (TAP) for service members preparing for separation or retirement from the military.
URL:https://kadenafss.com/event/pre-separation-brief-2/2026-06-03
LOCATION:Education Center | Rm 115
CATEGORIES:Active Duty, Career and Education Events,M&FRC
ATTACH;FMTTYPE=image/png:https://kadenafss.com/wp-content/uploads/2025/05/PreSeparation-Brief.png
END:VEVENT
BEGIN:VEVENT
DTSTART;TZID=UTC:20260617T080000
DTEND;TZID=UTC:20260617T110000
DTSTAMP:20260426T090536
CREATED:20251219T061128Z
LAST-MODIFIED:20260317T051532Z
UID:10031461-1781683200-1781694000@kadenafss.com
SUMMARY:Pre-Separation Brief
DESCRIPTION:Education Center\, Bldg 59 \nStep 2 of the congressionally mandated Transition Assistance Program (TAP) for service members preparing for separation or retirement from the military.
URL:https://kadenafss.com/event/pre-separation-brief-2/2026-06-17
LOCATION:Education Center | Rm 115
CATEGORIES:Active Duty, Career and Education Events,M&FRC
ATTACH;FMTTYPE=image/png:https://kadenafss.com/wp-content/uploads/2025/05/PreSeparation-Brief.png
END:VEVENT
BEGIN:VEVENT
DTSTART;TZID=UTC:20260708T080000
DTEND;TZID=UTC:20260708T110000
DTSTAMP:20260426T090536
CREATED:20251219T061128Z
LAST-MODIFIED:20260317T051532Z
UID:10031464-1783497600-1783508400@kadenafss.com
SUMMARY:Pre-Separation Brief
DESCRIPTION:Education Center\, Bldg 59 \nStep 2 of the congressionally mandated Transition Assistance Program (TAP) for service members preparing for separation or retirement from the military.
URL:https://kadenafss.com/event/pre-separation-brief-2/2026-07-08
LOCATION:Education Center | Rm 115
CATEGORIES:Active Duty, Career and Education Events,M&FRC
ATTACH;FMTTYPE=image/png:https://kadenafss.com/wp-content/uploads/2025/05/PreSeparation-Brief.png
END:VEVENT
BEGIN:VEVENT
DTSTART;TZID=UTC:20260722T080000
DTEND;TZID=UTC:20260722T110000
DTSTAMP:20260426T090536
CREATED:20251219T061128Z
LAST-MODIFIED:20260317T051532Z
UID:10031466-1784707200-1784718000@kadenafss.com
SUMMARY:Pre-Separation Brief
DESCRIPTION:Education Center\, Bldg 59 \nStep 2 of the congressionally mandated Transition Assistance Program (TAP) for service members preparing for separation or retirement from the military.
URL:https://kadenafss.com/event/pre-separation-brief-2/2026-07-22
LOCATION:Education Center | Rm 115
CATEGORIES:Active Duty, Career and Education Events,M&FRC
ATTACH;FMTTYPE=image/png:https://kadenafss.com/wp-content/uploads/2025/05/PreSeparation-Brief.png
END:VEVENT
BEGIN:VEVENT
DTSTART;TZID=UTC:20260805T080000
DTEND;TZID=UTC:20260805T110000
DTSTAMP:20260426T090536
CREATED:20251219T061128Z
LAST-MODIFIED:20260317T051532Z
UID:10032655-1785916800-1785927600@kadenafss.com
SUMMARY:Pre-Separation Brief
DESCRIPTION:Education Center\, Bldg 59 \nStep 2 of the congressionally mandated Transition Assistance Program (TAP) for service members preparing for separation or retirement from the military.
URL:https://kadenafss.com/event/pre-separation-brief-2/2026-08-05
LOCATION:Education Center | Rm 115
CATEGORIES:Active Duty, Career and Education Events,M&FRC
ATTACH;FMTTYPE=image/png:https://kadenafss.com/wp-content/uploads/2025/05/PreSeparation-Brief.png
END:VEVENT
BEGIN:VEVENT
DTSTART;TZID=UTC:20260819T080000
DTEND;TZID=UTC:20260819T110000
DTSTAMP:20260426T090536
CREATED:20251219T061128Z
LAST-MODIFIED:20260317T051532Z
UID:10032656-1787126400-1787137200@kadenafss.com
SUMMARY:Pre-Separation Brief
DESCRIPTION:Education Center\, Bldg 59 \nStep 2 of the congressionally mandated Transition Assistance Program (TAP) for service members preparing for separation or retirement from the military.
URL:https://kadenafss.com/event/pre-separation-brief-2/2026-08-19
LOCATION:Education Center | Rm 115
CATEGORIES:Active Duty, Career and Education Events,M&FRC
ATTACH;FMTTYPE=image/png:https://kadenafss.com/wp-content/uploads/2025/05/PreSeparation-Brief.png
END:VEVENT
BEGIN:VEVENT
DTSTART;TZID=UTC:20260902T080000
DTEND;TZID=UTC:20260902T110000
DTSTAMP:20260426T090536
CREATED:20251219T061128Z
LAST-MODIFIED:20260317T051532Z
UID:10032657-1788336000-1788346800@kadenafss.com
SUMMARY:Pre-Separation Brief
DESCRIPTION:Education Center\, Bldg 59 \nStep 2 of the congressionally mandated Transition Assistance Program (TAP) for service members preparing for separation or retirement from the military.
URL:https://kadenafss.com/event/pre-separation-brief-2/2026-09-02
LOCATION:Education Center | Rm 115
CATEGORIES:Active Duty, Career and Education Events,M&FRC
ATTACH;FMTTYPE=image/png:https://kadenafss.com/wp-content/uploads/2025/05/PreSeparation-Brief.png
END:VEVENT
BEGIN:VEVENT
DTSTART;TZID=UTC:20260916T080000
DTEND;TZID=UTC:20260916T110000
DTSTAMP:20260426T090536
CREATED:20251219T061128Z
LAST-MODIFIED:20260317T051532Z
UID:10032658-1789545600-1789556400@kadenafss.com
SUMMARY:Pre-Separation Brief
DESCRIPTION:Education Center\, Bldg 59 \nStep 2 of the congressionally mandated Transition Assistance Program (TAP) for service members preparing for separation or retirement from the military.
URL:https://kadenafss.com/event/pre-separation-brief-2/2026-09-16
LOCATION:Education Center | Rm 115
CATEGORIES:Active Duty, Career and Education Events,M&FRC
ATTACH;FMTTYPE=image/png:https://kadenafss.com/wp-content/uploads/2025/05/PreSeparation-Brief.png
END:VEVENT
BEGIN:VEVENT
DTSTART;TZID=UTC:20261007T080000
DTEND;TZID=UTC:20261007T110000
DTSTAMP:20260426T090536
CREATED:20251219T061128Z
LAST-MODIFIED:20260317T051532Z
UID:10032659-1791360000-1791370800@kadenafss.com
SUMMARY:Pre-Separation Brief
DESCRIPTION:Education Center\, Bldg 59 \nStep 2 of the congressionally mandated Transition Assistance Program (TAP) for service members preparing for separation or retirement from the military.
URL:https://kadenafss.com/event/pre-separation-brief-2/2026-10-07
LOCATION:Education Center | Rm 115
CATEGORIES:Active Duty, Career and Education Events,M&FRC
ATTACH;FMTTYPE=image/png:https://kadenafss.com/wp-content/uploads/2025/05/PreSeparation-Brief.png
END:VEVENT
BEGIN:VEVENT
DTSTART;TZID=UTC:20261021T080000
DTEND;TZID=UTC:20261021T110000
DTSTAMP:20260426T090536
CREATED:20251219T061128Z
LAST-MODIFIED:20260317T051532Z
UID:10032660-1792569600-1792580400@kadenafss.com
SUMMARY:Pre-Separation Brief
DESCRIPTION:Education Center\, Bldg 59 \nStep 2 of the congressionally mandated Transition Assistance Program (TAP) for service members preparing for separation or retirement from the military.
URL:https://kadenafss.com/event/pre-separation-brief-2/2026-10-21
LOCATION:Education Center | Rm 115
CATEGORIES:Active Duty, Career and Education Events,M&FRC
ATTACH;FMTTYPE=image/png:https://kadenafss.com/wp-content/uploads/2025/05/PreSeparation-Brief.png
END:VEVENT
BEGIN:VEVENT
DTSTART;TZID=UTC:20261104T080000
DTEND;TZID=UTC:20261104T110000
DTSTAMP:20260426T090536
CREATED:20251219T061128Z
LAST-MODIFIED:20260317T051532Z
UID:10032661-1793779200-1793790000@kadenafss.com
SUMMARY:Pre-Separation Brief
DESCRIPTION:Education Center\, Bldg 59 \nStep 2 of the congressionally mandated Transition Assistance Program (TAP) for service members preparing for separation or retirement from the military.
URL:https://kadenafss.com/event/pre-separation-brief-2/2026-11-04
LOCATION:Education Center | Rm 115
CATEGORIES:Active Duty, Career and Education Events,M&FRC
ATTACH;FMTTYPE=image/png:https://kadenafss.com/wp-content/uploads/2025/05/PreSeparation-Brief.png
END:VEVENT
BEGIN:VEVENT
DTSTART;TZID=UTC:20261207T080000
DTEND;TZID=UTC:20261207T110000
DTSTAMP:20260426T090536
CREATED:20251219T061128Z
LAST-MODIFIED:20260317T051532Z
UID:10032662-1796630400-1796641200@kadenafss.com
SUMMARY:Pre-Separation Brief
DESCRIPTION:Education Center\, Bldg 59 \nStep 2 of the congressionally mandated Transition Assistance Program (TAP) for service members preparing for separation or retirement from the military.
URL:https://kadenafss.com/event/pre-separation-brief-2/2026-12-07
LOCATION:Education Center | Rm 115
CATEGORIES:Active Duty, Career and Education Events,M&FRC
ATTACH;FMTTYPE=image/png:https://kadenafss.com/wp-content/uploads/2025/05/PreSeparation-Brief.png
END:VEVENT
END:VCALENDAR