BEGIN:VCALENDAR
VERSION:2.0
PRODID:-//Kadena Air Base - ECPv6.15.20//NONSGML v1.0//EN
CALSCALE:GREGORIAN
METHOD:PUBLISH
X-WR-CALNAME:Kadena Air Base
X-ORIGINAL-URL:https://kadenafss.com
X-WR-CALDESC:Events for Kadena Air Base
REFRESH-INTERVAL;VALUE=DURATION:PT1H
X-Robots-Tag:noindex
X-PUBLISHED-TTL:PT1H
BEGIN:VTIMEZONE
TZID:Asia/Tokyo
BEGIN:STANDARD
TZOFFSETFROM:+0900
TZOFFSETTO:+0900
TZNAME:JST
DTSTART:20250101T000000
END:STANDARD
END:VTIMEZONE
BEGIN:VEVENT
DTSTART;TZID=Asia/Tokyo:20260507T163000
DTEND;TZID=Asia/Tokyo:20260507T183000
DTSTAMP:20260426T002509
CREATED:20260331T015611Z
LAST-MODIFIED:20260331T015611Z
UID:10033854-1778171400-1778178600@kadenafss.com
SUMMARY:Drive-By Dinners
DESCRIPTION:$12 per person | 10% member discount \nMay 7 | Beef enchilada with refried beans and Mexican rice \nMay 14 | Kalua pork with steamed rice\, macaroni salad and grilled pineapple \nMay 21 | Bibimbap \nMay 28 | Chicken adobo with steamed rice and lumpia \nPull up to the curb at the the Rocker Club entrance on Hanabi’s side\, and a staff member will assist you. Limited quantities available.
URL:https://kadenafss.com/event/drive-by-dinners-2/2026-05-07
LOCATION:Hanabi’s\, The Rocker\, Hanabi's\, The Rocker\, Building #622\, Kadena AB\, Okinawa\, 904-0000\, Japan
CATEGORIES:Food Events,Hanabis,The Rocker
ATTACH;FMTTYPE=image/png:https://kadenafss.com/wp-content/uploads/2025/09/DriveByDinners.png
END:VEVENT
BEGIN:VEVENT
DTSTART;TZID=Asia/Tokyo:20260514T163000
DTEND;TZID=Asia/Tokyo:20260514T183000
DTSTAMP:20260426T002509
CREATED:20260331T015611Z
LAST-MODIFIED:20260331T015611Z
UID:10033855-1778776200-1778783400@kadenafss.com
SUMMARY:Drive-By Dinners
DESCRIPTION:$12 per person | 10% member discount \nMay 7 | Beef enchilada with refried beans and Mexican rice \nMay 14 | Kalua pork with steamed rice\, macaroni salad and grilled pineapple \nMay 21 | Bibimbap \nMay 28 | Chicken adobo with steamed rice and lumpia \nPull up to the curb at the the Rocker Club entrance on Hanabi’s side\, and a staff member will assist you. Limited quantities available.
URL:https://kadenafss.com/event/drive-by-dinners-2/2026-05-14
LOCATION:Hanabi’s\, The Rocker\, Hanabi's\, The Rocker\, Building #622\, Kadena AB\, Okinawa\, 904-0000\, Japan
CATEGORIES:Food Events,Hanabis,The Rocker
ATTACH;FMTTYPE=image/png:https://kadenafss.com/wp-content/uploads/2025/09/DriveByDinners.png
END:VEVENT
BEGIN:VEVENT
DTSTART;TZID=Asia/Tokyo:20260521T163000
DTEND;TZID=Asia/Tokyo:20260521T183000
DTSTAMP:20260426T002509
CREATED:20260331T015611Z
LAST-MODIFIED:20260331T015611Z
UID:10033856-1779381000-1779388200@kadenafss.com
SUMMARY:Drive-By Dinners
DESCRIPTION:$12 per person | 10% member discount \nMay 7 | Beef enchilada with refried beans and Mexican rice \nMay 14 | Kalua pork with steamed rice\, macaroni salad and grilled pineapple \nMay 21 | Bibimbap \nMay 28 | Chicken adobo with steamed rice and lumpia \nPull up to the curb at the the Rocker Club entrance on Hanabi’s side\, and a staff member will assist you. Limited quantities available.
URL:https://kadenafss.com/event/drive-by-dinners-2/2026-05-21
LOCATION:Hanabi’s\, The Rocker\, Hanabi's\, The Rocker\, Building #622\, Kadena AB\, Okinawa\, 904-0000\, Japan
CATEGORIES:Food Events,Hanabis,The Rocker
ATTACH;FMTTYPE=image/png:https://kadenafss.com/wp-content/uploads/2025/09/DriveByDinners.png
END:VEVENT
BEGIN:VEVENT
DTSTART;TZID=Asia/Tokyo:20260528T163000
DTEND;TZID=Asia/Tokyo:20260528T183000
DTSTAMP:20260426T002509
CREATED:20260331T015611Z
LAST-MODIFIED:20260331T015611Z
UID:10033857-1779985800-1779993000@kadenafss.com
SUMMARY:Drive-By Dinners
DESCRIPTION:$12 per person | 10% member discount \nMay 7 | Beef enchilada with refried beans and Mexican rice \nMay 14 | Kalua pork with steamed rice\, macaroni salad and grilled pineapple \nMay 21 | Bibimbap \nMay 28 | Chicken adobo with steamed rice and lumpia \nPull up to the curb at the the Rocker Club entrance on Hanabi’s side\, and a staff member will assist you. Limited quantities available.
URL:https://kadenafss.com/event/drive-by-dinners-2/2026-05-28
LOCATION:Hanabi’s\, The Rocker\, Hanabi's\, The Rocker\, Building #622\, Kadena AB\, Okinawa\, 904-0000\, Japan
CATEGORIES:Food Events,Hanabis,The Rocker
ATTACH;FMTTYPE=image/png:https://kadenafss.com/wp-content/uploads/2025/09/DriveByDinners.png
END:VEVENT
BEGIN:VEVENT
DTSTART;TZID=Asia/Tokyo:20260604T163000
DTEND;TZID=Asia/Tokyo:20260604T183000
DTSTAMP:20260426T002509
CREATED:20260331T015611Z
LAST-MODIFIED:20260331T015611Z
UID:10033858-1780590600-1780597800@kadenafss.com
SUMMARY:Drive-By Dinners
DESCRIPTION:$12 per person | 10% member discount \nMay 7 | Beef enchilada with refried beans and Mexican rice \nMay 14 | Kalua pork with steamed rice\, macaroni salad and grilled pineapple \nMay 21 | Bibimbap \nMay 28 | Chicken adobo with steamed rice and lumpia \nPull up to the curb at the the Rocker Club entrance on Hanabi’s side\, and a staff member will assist you. Limited quantities available.
URL:https://kadenafss.com/event/drive-by-dinners-2/2026-06-04
LOCATION:Hanabi’s\, The Rocker\, Hanabi's\, The Rocker\, Building #622\, Kadena AB\, Okinawa\, 904-0000\, Japan
CATEGORIES:Food Events,Hanabis,The Rocker
ATTACH;FMTTYPE=image/png:https://kadenafss.com/wp-content/uploads/2025/09/DriveByDinners.png
END:VEVENT
BEGIN:VEVENT
DTSTART;TZID=Asia/Tokyo:20260611T163000
DTEND;TZID=Asia/Tokyo:20260611T183000
DTSTAMP:20260426T002509
CREATED:20260331T015611Z
LAST-MODIFIED:20260331T015611Z
UID:10033859-1781195400-1781202600@kadenafss.com
SUMMARY:Drive-By Dinners
DESCRIPTION:$12 per person | 10% member discount \nMay 7 | Beef enchilada with refried beans and Mexican rice \nMay 14 | Kalua pork with steamed rice\, macaroni salad and grilled pineapple \nMay 21 | Bibimbap \nMay 28 | Chicken adobo with steamed rice and lumpia \nPull up to the curb at the the Rocker Club entrance on Hanabi’s side\, and a staff member will assist you. Limited quantities available.
URL:https://kadenafss.com/event/drive-by-dinners-2/2026-06-11
LOCATION:Hanabi’s\, The Rocker\, Hanabi's\, The Rocker\, Building #622\, Kadena AB\, Okinawa\, 904-0000\, Japan
CATEGORIES:Food Events,Hanabis,The Rocker
ATTACH;FMTTYPE=image/png:https://kadenafss.com/wp-content/uploads/2025/09/DriveByDinners.png
END:VEVENT
BEGIN:VEVENT
DTSTART;TZID=Asia/Tokyo:20260618T163000
DTEND;TZID=Asia/Tokyo:20260618T183000
DTSTAMP:20260426T002509
CREATED:20260331T015611Z
LAST-MODIFIED:20260331T015611Z
UID:10033860-1781800200-1781807400@kadenafss.com
SUMMARY:Drive-By Dinners
DESCRIPTION:$12 per person | 10% member discount \nMay 7 | Beef enchilada with refried beans and Mexican rice \nMay 14 | Kalua pork with steamed rice\, macaroni salad and grilled pineapple \nMay 21 | Bibimbap \nMay 28 | Chicken adobo with steamed rice and lumpia \nPull up to the curb at the the Rocker Club entrance on Hanabi’s side\, and a staff member will assist you. Limited quantities available.
URL:https://kadenafss.com/event/drive-by-dinners-2/2026-06-18
LOCATION:Hanabi’s\, The Rocker\, Hanabi's\, The Rocker\, Building #622\, Kadena AB\, Okinawa\, 904-0000\, Japan
CATEGORIES:Food Events,Hanabis,The Rocker
ATTACH;FMTTYPE=image/png:https://kadenafss.com/wp-content/uploads/2025/09/DriveByDinners.png
END:VEVENT
BEGIN:VEVENT
DTSTART;TZID=Asia/Tokyo:20260625T163000
DTEND;TZID=Asia/Tokyo:20260625T183000
DTSTAMP:20260426T002509
CREATED:20260331T015611Z
LAST-MODIFIED:20260331T015611Z
UID:10033861-1782405000-1782412200@kadenafss.com
SUMMARY:Drive-By Dinners
DESCRIPTION:$12 per person | 10% member discount \nMay 7 | Beef enchilada with refried beans and Mexican rice \nMay 14 | Kalua pork with steamed rice\, macaroni salad and grilled pineapple \nMay 21 | Bibimbap \nMay 28 | Chicken adobo with steamed rice and lumpia \nPull up to the curb at the the Rocker Club entrance on Hanabi’s side\, and a staff member will assist you. Limited quantities available.
URL:https://kadenafss.com/event/drive-by-dinners-2/2026-06-25
LOCATION:Hanabi’s\, The Rocker\, Hanabi's\, The Rocker\, Building #622\, Kadena AB\, Okinawa\, 904-0000\, Japan
CATEGORIES:Food Events,Hanabis,The Rocker
ATTACH;FMTTYPE=image/png:https://kadenafss.com/wp-content/uploads/2025/09/DriveByDinners.png
END:VEVENT
BEGIN:VEVENT
DTSTART;TZID=Asia/Tokyo:20260702T163000
DTEND;TZID=Asia/Tokyo:20260702T183000
DTSTAMP:20260426T002509
CREATED:20260331T015611Z
LAST-MODIFIED:20260331T015611Z
UID:10033862-1783009800-1783017000@kadenafss.com
SUMMARY:Drive-By Dinners
DESCRIPTION:$12 per person | 10% member discount \nMay 7 | Beef enchilada with refried beans and Mexican rice \nMay 14 | Kalua pork with steamed rice\, macaroni salad and grilled pineapple \nMay 21 | Bibimbap \nMay 28 | Chicken adobo with steamed rice and lumpia \nPull up to the curb at the the Rocker Club entrance on Hanabi’s side\, and a staff member will assist you. Limited quantities available.
URL:https://kadenafss.com/event/drive-by-dinners-2/2026-07-02
LOCATION:Hanabi’s\, The Rocker\, Hanabi's\, The Rocker\, Building #622\, Kadena AB\, Okinawa\, 904-0000\, Japan
CATEGORIES:Food Events,Hanabis,The Rocker
ATTACH;FMTTYPE=image/png:https://kadenafss.com/wp-content/uploads/2025/09/DriveByDinners.png
END:VEVENT
BEGIN:VEVENT
DTSTART;TZID=Asia/Tokyo:20260709T163000
DTEND;TZID=Asia/Tokyo:20260709T183000
DTSTAMP:20260426T002509
CREATED:20260331T015611Z
LAST-MODIFIED:20260331T015611Z
UID:10033863-1783614600-1783621800@kadenafss.com
SUMMARY:Drive-By Dinners
DESCRIPTION:$12 per person | 10% member discount \nMay 7 | Beef enchilada with refried beans and Mexican rice \nMay 14 | Kalua pork with steamed rice\, macaroni salad and grilled pineapple \nMay 21 | Bibimbap \nMay 28 | Chicken adobo with steamed rice and lumpia \nPull up to the curb at the the Rocker Club entrance on Hanabi’s side\, and a staff member will assist you. Limited quantities available.
URL:https://kadenafss.com/event/drive-by-dinners-2/2026-07-09
LOCATION:Hanabi’s\, The Rocker\, Hanabi's\, The Rocker\, Building #622\, Kadena AB\, Okinawa\, 904-0000\, Japan
CATEGORIES:Food Events,Hanabis,The Rocker
ATTACH;FMTTYPE=image/png:https://kadenafss.com/wp-content/uploads/2025/09/DriveByDinners.png
END:VEVENT
BEGIN:VEVENT
DTSTART;TZID=Asia/Tokyo:20260716T163000
DTEND;TZID=Asia/Tokyo:20260716T183000
DTSTAMP:20260426T002509
CREATED:20260331T015611Z
LAST-MODIFIED:20260331T015611Z
UID:10033864-1784219400-1784226600@kadenafss.com
SUMMARY:Drive-By Dinners
DESCRIPTION:$12 per person | 10% member discount \nMay 7 | Beef enchilada with refried beans and Mexican rice \nMay 14 | Kalua pork with steamed rice\, macaroni salad and grilled pineapple \nMay 21 | Bibimbap \nMay 28 | Chicken adobo with steamed rice and lumpia \nPull up to the curb at the the Rocker Club entrance on Hanabi’s side\, and a staff member will assist you. Limited quantities available.
URL:https://kadenafss.com/event/drive-by-dinners-2/2026-07-16
LOCATION:Hanabi’s\, The Rocker\, Hanabi's\, The Rocker\, Building #622\, Kadena AB\, Okinawa\, 904-0000\, Japan
CATEGORIES:Food Events,Hanabis,The Rocker
ATTACH;FMTTYPE=image/png:https://kadenafss.com/wp-content/uploads/2025/09/DriveByDinners.png
END:VEVENT
BEGIN:VEVENT
DTSTART;TZID=Asia/Tokyo:20260723T163000
DTEND;TZID=Asia/Tokyo:20260723T183000
DTSTAMP:20260426T002509
CREATED:20260331T015611Z
LAST-MODIFIED:20260331T015611Z
UID:10033865-1784824200-1784831400@kadenafss.com
SUMMARY:Drive-By Dinners
DESCRIPTION:$12 per person | 10% member discount \nMay 7 | Beef enchilada with refried beans and Mexican rice \nMay 14 | Kalua pork with steamed rice\, macaroni salad and grilled pineapple \nMay 21 | Bibimbap \nMay 28 | Chicken adobo with steamed rice and lumpia \nPull up to the curb at the the Rocker Club entrance on Hanabi’s side\, and a staff member will assist you. Limited quantities available.
URL:https://kadenafss.com/event/drive-by-dinners-2/2026-07-23
LOCATION:Hanabi’s\, The Rocker\, Hanabi's\, The Rocker\, Building #622\, Kadena AB\, Okinawa\, 904-0000\, Japan
CATEGORIES:Food Events,Hanabis,The Rocker
ATTACH;FMTTYPE=image/png:https://kadenafss.com/wp-content/uploads/2025/09/DriveByDinners.png
END:VEVENT
BEGIN:VEVENT
DTSTART;TZID=Asia/Tokyo:20260730T163000
DTEND;TZID=Asia/Tokyo:20260730T183000
DTSTAMP:20260426T002509
CREATED:20260331T015611Z
LAST-MODIFIED:20260331T015611Z
UID:10033866-1785429000-1785436200@kadenafss.com
SUMMARY:Drive-By Dinners
DESCRIPTION:$12 per person | 10% member discount \nMay 7 | Beef enchilada with refried beans and Mexican rice \nMay 14 | Kalua pork with steamed rice\, macaroni salad and grilled pineapple \nMay 21 | Bibimbap \nMay 28 | Chicken adobo with steamed rice and lumpia \nPull up to the curb at the the Rocker Club entrance on Hanabi’s side\, and a staff member will assist you. Limited quantities available.
URL:https://kadenafss.com/event/drive-by-dinners-2/2026-07-30
LOCATION:Hanabi’s\, The Rocker\, Hanabi's\, The Rocker\, Building #622\, Kadena AB\, Okinawa\, 904-0000\, Japan
CATEGORIES:Food Events,Hanabis,The Rocker
ATTACH;FMTTYPE=image/png:https://kadenafss.com/wp-content/uploads/2025/09/DriveByDinners.png
END:VEVENT
BEGIN:VEVENT
DTSTART;TZID=Asia/Tokyo:20260806T163000
DTEND;TZID=Asia/Tokyo:20260806T183000
DTSTAMP:20260426T002509
CREATED:20260331T015611Z
LAST-MODIFIED:20260331T015611Z
UID:10033867-1786033800-1786041000@kadenafss.com
SUMMARY:Drive-By Dinners
DESCRIPTION:$12 per person | 10% member discount \nMay 7 | Beef enchilada with refried beans and Mexican rice \nMay 14 | Kalua pork with steamed rice\, macaroni salad and grilled pineapple \nMay 21 | Bibimbap \nMay 28 | Chicken adobo with steamed rice and lumpia \nPull up to the curb at the the Rocker Club entrance on Hanabi’s side\, and a staff member will assist you. Limited quantities available.
URL:https://kadenafss.com/event/drive-by-dinners-2/2026-08-06
LOCATION:Hanabi’s\, The Rocker\, Hanabi's\, The Rocker\, Building #622\, Kadena AB\, Okinawa\, 904-0000\, Japan
CATEGORIES:Food Events,Hanabis,The Rocker
ATTACH;FMTTYPE=image/png:https://kadenafss.com/wp-content/uploads/2025/09/DriveByDinners.png
END:VEVENT
BEGIN:VEVENT
DTSTART;TZID=Asia/Tokyo:20260813T163000
DTEND;TZID=Asia/Tokyo:20260813T183000
DTSTAMP:20260426T002509
CREATED:20260331T015611Z
LAST-MODIFIED:20260331T015611Z
UID:10033868-1786638600-1786645800@kadenafss.com
SUMMARY:Drive-By Dinners
DESCRIPTION:$12 per person | 10% member discount \nMay 7 | Beef enchilada with refried beans and Mexican rice \nMay 14 | Kalua pork with steamed rice\, macaroni salad and grilled pineapple \nMay 21 | Bibimbap \nMay 28 | Chicken adobo with steamed rice and lumpia \nPull up to the curb at the the Rocker Club entrance on Hanabi’s side\, and a staff member will assist you. Limited quantities available.
URL:https://kadenafss.com/event/drive-by-dinners-2/2026-08-13
LOCATION:Hanabi’s\, The Rocker\, Hanabi's\, The Rocker\, Building #622\, Kadena AB\, Okinawa\, 904-0000\, Japan
CATEGORIES:Food Events,Hanabis,The Rocker
ATTACH;FMTTYPE=image/png:https://kadenafss.com/wp-content/uploads/2025/09/DriveByDinners.png
END:VEVENT
BEGIN:VEVENT
DTSTART;TZID=Asia/Tokyo:20260820T163000
DTEND;TZID=Asia/Tokyo:20260820T183000
DTSTAMP:20260426T002509
CREATED:20260331T015611Z
LAST-MODIFIED:20260331T015611Z
UID:10033869-1787243400-1787250600@kadenafss.com
SUMMARY:Drive-By Dinners
DESCRIPTION:$12 per person | 10% member discount \nMay 7 | Beef enchilada with refried beans and Mexican rice \nMay 14 | Kalua pork with steamed rice\, macaroni salad and grilled pineapple \nMay 21 | Bibimbap \nMay 28 | Chicken adobo with steamed rice and lumpia \nPull up to the curb at the the Rocker Club entrance on Hanabi’s side\, and a staff member will assist you. Limited quantities available.
URL:https://kadenafss.com/event/drive-by-dinners-2/2026-08-20
LOCATION:Hanabi’s\, The Rocker\, Hanabi's\, The Rocker\, Building #622\, Kadena AB\, Okinawa\, 904-0000\, Japan
CATEGORIES:Food Events,Hanabis,The Rocker
ATTACH;FMTTYPE=image/png:https://kadenafss.com/wp-content/uploads/2025/09/DriveByDinners.png
END:VEVENT
BEGIN:VEVENT
DTSTART;TZID=Asia/Tokyo:20260827T163000
DTEND;TZID=Asia/Tokyo:20260827T183000
DTSTAMP:20260426T002509
CREATED:20260331T015611Z
LAST-MODIFIED:20260331T015611Z
UID:10033870-1787848200-1787855400@kadenafss.com
SUMMARY:Drive-By Dinners
DESCRIPTION:$12 per person | 10% member discount \nMay 7 | Beef enchilada with refried beans and Mexican rice \nMay 14 | Kalua pork with steamed rice\, macaroni salad and grilled pineapple \nMay 21 | Bibimbap \nMay 28 | Chicken adobo with steamed rice and lumpia \nPull up to the curb at the the Rocker Club entrance on Hanabi’s side\, and a staff member will assist you. Limited quantities available.
URL:https://kadenafss.com/event/drive-by-dinners-2/2026-08-27
LOCATION:Hanabi’s\, The Rocker\, Hanabi's\, The Rocker\, Building #622\, Kadena AB\, Okinawa\, 904-0000\, Japan
CATEGORIES:Food Events,Hanabis,The Rocker
ATTACH;FMTTYPE=image/png:https://kadenafss.com/wp-content/uploads/2025/09/DriveByDinners.png
END:VEVENT
BEGIN:VEVENT
DTSTART;TZID=Asia/Tokyo:20260903T163000
DTEND;TZID=Asia/Tokyo:20260903T183000
DTSTAMP:20260426T002509
CREATED:20260331T015611Z
LAST-MODIFIED:20260331T015611Z
UID:10033871-1788453000-1788460200@kadenafss.com
SUMMARY:Drive-By Dinners
DESCRIPTION:$12 per person | 10% member discount \nMay 7 | Beef enchilada with refried beans and Mexican rice \nMay 14 | Kalua pork with steamed rice\, macaroni salad and grilled pineapple \nMay 21 | Bibimbap \nMay 28 | Chicken adobo with steamed rice and lumpia \nPull up to the curb at the the Rocker Club entrance on Hanabi’s side\, and a staff member will assist you. Limited quantities available.
URL:https://kadenafss.com/event/drive-by-dinners-2/2026-09-03
LOCATION:Hanabi’s\, The Rocker\, Hanabi's\, The Rocker\, Building #622\, Kadena AB\, Okinawa\, 904-0000\, Japan
CATEGORIES:Food Events,Hanabis,The Rocker
ATTACH;FMTTYPE=image/png:https://kadenafss.com/wp-content/uploads/2025/09/DriveByDinners.png
END:VEVENT
BEGIN:VEVENT
DTSTART;TZID=Asia/Tokyo:20260910T163000
DTEND;TZID=Asia/Tokyo:20260910T183000
DTSTAMP:20260426T002509
CREATED:20260331T015611Z
LAST-MODIFIED:20260331T015611Z
UID:10033872-1789057800-1789065000@kadenafss.com
SUMMARY:Drive-By Dinners
DESCRIPTION:$12 per person | 10% member discount \nMay 7 | Beef enchilada with refried beans and Mexican rice \nMay 14 | Kalua pork with steamed rice\, macaroni salad and grilled pineapple \nMay 21 | Bibimbap \nMay 28 | Chicken adobo with steamed rice and lumpia \nPull up to the curb at the the Rocker Club entrance on Hanabi’s side\, and a staff member will assist you. Limited quantities available.
URL:https://kadenafss.com/event/drive-by-dinners-2/2026-09-10
LOCATION:Hanabi’s\, The Rocker\, Hanabi's\, The Rocker\, Building #622\, Kadena AB\, Okinawa\, 904-0000\, Japan
CATEGORIES:Food Events,Hanabis,The Rocker
ATTACH;FMTTYPE=image/png:https://kadenafss.com/wp-content/uploads/2025/09/DriveByDinners.png
END:VEVENT
BEGIN:VEVENT
DTSTART;TZID=Asia/Tokyo:20260917T163000
DTEND;TZID=Asia/Tokyo:20260917T183000
DTSTAMP:20260426T002509
CREATED:20260331T015611Z
LAST-MODIFIED:20260331T015611Z
UID:10033873-1789662600-1789669800@kadenafss.com
SUMMARY:Drive-By Dinners
DESCRIPTION:$12 per person | 10% member discount \nMay 7 | Beef enchilada with refried beans and Mexican rice \nMay 14 | Kalua pork with steamed rice\, macaroni salad and grilled pineapple \nMay 21 | Bibimbap \nMay 28 | Chicken adobo with steamed rice and lumpia \nPull up to the curb at the the Rocker Club entrance on Hanabi’s side\, and a staff member will assist you. Limited quantities available.
URL:https://kadenafss.com/event/drive-by-dinners-2/2026-09-17
LOCATION:Hanabi’s\, The Rocker\, Hanabi's\, The Rocker\, Building #622\, Kadena AB\, Okinawa\, 904-0000\, Japan
CATEGORIES:Food Events,Hanabis,The Rocker
ATTACH;FMTTYPE=image/png:https://kadenafss.com/wp-content/uploads/2025/09/DriveByDinners.png
END:VEVENT
BEGIN:VEVENT
DTSTART;TZID=Asia/Tokyo:20260924T163000
DTEND;TZID=Asia/Tokyo:20260924T183000
DTSTAMP:20260426T002509
CREATED:20260331T015611Z
LAST-MODIFIED:20260331T015611Z
UID:10033874-1790267400-1790274600@kadenafss.com
SUMMARY:Drive-By Dinners
DESCRIPTION:$12 per person | 10% member discount \nMay 7 | Beef enchilada with refried beans and Mexican rice \nMay 14 | Kalua pork with steamed rice\, macaroni salad and grilled pineapple \nMay 21 | Bibimbap \nMay 28 | Chicken adobo with steamed rice and lumpia \nPull up to the curb at the the Rocker Club entrance on Hanabi’s side\, and a staff member will assist you. Limited quantities available.
URL:https://kadenafss.com/event/drive-by-dinners-2/2026-09-24
LOCATION:Hanabi’s\, The Rocker\, Hanabi's\, The Rocker\, Building #622\, Kadena AB\, Okinawa\, 904-0000\, Japan
CATEGORIES:Food Events,Hanabis,The Rocker
ATTACH;FMTTYPE=image/png:https://kadenafss.com/wp-content/uploads/2025/09/DriveByDinners.png
END:VEVENT
BEGIN:VEVENT
DTSTART;TZID=Asia/Tokyo:20261001T163000
DTEND;TZID=Asia/Tokyo:20261001T183000
DTSTAMP:20260426T002509
CREATED:20260331T015611Z
LAST-MODIFIED:20260331T015611Z
UID:10033875-1790872200-1790879400@kadenafss.com
SUMMARY:Drive-By Dinners
DESCRIPTION:$12 per person | 10% member discount \nMay 7 | Beef enchilada with refried beans and Mexican rice \nMay 14 | Kalua pork with steamed rice\, macaroni salad and grilled pineapple \nMay 21 | Bibimbap \nMay 28 | Chicken adobo with steamed rice and lumpia \nPull up to the curb at the the Rocker Club entrance on Hanabi’s side\, and a staff member will assist you. Limited quantities available.
URL:https://kadenafss.com/event/drive-by-dinners-2/2026-10-01
LOCATION:Hanabi’s\, The Rocker\, Hanabi's\, The Rocker\, Building #622\, Kadena AB\, Okinawa\, 904-0000\, Japan
CATEGORIES:Food Events,Hanabis,The Rocker
ATTACH;FMTTYPE=image/png:https://kadenafss.com/wp-content/uploads/2025/09/DriveByDinners.png
END:VEVENT
BEGIN:VEVENT
DTSTART;TZID=Asia/Tokyo:20261008T163000
DTEND;TZID=Asia/Tokyo:20261008T183000
DTSTAMP:20260426T002509
CREATED:20260331T015611Z
LAST-MODIFIED:20260331T015611Z
UID:10033876-1791477000-1791484200@kadenafss.com
SUMMARY:Drive-By Dinners
DESCRIPTION:$12 per person | 10% member discount \nMay 7 | Beef enchilada with refried beans and Mexican rice \nMay 14 | Kalua pork with steamed rice\, macaroni salad and grilled pineapple \nMay 21 | Bibimbap \nMay 28 | Chicken adobo with steamed rice and lumpia \nPull up to the curb at the the Rocker Club entrance on Hanabi’s side\, and a staff member will assist you. Limited quantities available.
URL:https://kadenafss.com/event/drive-by-dinners-2/2026-10-08
LOCATION:Hanabi’s\, The Rocker\, Hanabi's\, The Rocker\, Building #622\, Kadena AB\, Okinawa\, 904-0000\, Japan
CATEGORIES:Food Events,Hanabis,The Rocker
ATTACH;FMTTYPE=image/png:https://kadenafss.com/wp-content/uploads/2025/09/DriveByDinners.png
END:VEVENT
BEGIN:VEVENT
DTSTART;TZID=Asia/Tokyo:20261015T163000
DTEND;TZID=Asia/Tokyo:20261015T183000
DTSTAMP:20260426T002509
CREATED:20260331T015611Z
LAST-MODIFIED:20260331T015611Z
UID:10033877-1792081800-1792089000@kadenafss.com
SUMMARY:Drive-By Dinners
DESCRIPTION:$12 per person | 10% member discount \nMay 7 | Beef enchilada with refried beans and Mexican rice \nMay 14 | Kalua pork with steamed rice\, macaroni salad and grilled pineapple \nMay 21 | Bibimbap \nMay 28 | Chicken adobo with steamed rice and lumpia \nPull up to the curb at the the Rocker Club entrance on Hanabi’s side\, and a staff member will assist you. Limited quantities available.
URL:https://kadenafss.com/event/drive-by-dinners-2/2026-10-15
LOCATION:Hanabi’s\, The Rocker\, Hanabi's\, The Rocker\, Building #622\, Kadena AB\, Okinawa\, 904-0000\, Japan
CATEGORIES:Food Events,Hanabis,The Rocker
ATTACH;FMTTYPE=image/png:https://kadenafss.com/wp-content/uploads/2025/09/DriveByDinners.png
END:VEVENT
BEGIN:VEVENT
DTSTART;TZID=Asia/Tokyo:20261022T163000
DTEND;TZID=Asia/Tokyo:20261022T183000
DTSTAMP:20260426T002509
CREATED:20260331T015611Z
LAST-MODIFIED:20260331T015611Z
UID:10033878-1792686600-1792693800@kadenafss.com
SUMMARY:Drive-By Dinners
DESCRIPTION:$12 per person | 10% member discount \nMay 7 | Beef enchilada with refried beans and Mexican rice \nMay 14 | Kalua pork with steamed rice\, macaroni salad and grilled pineapple \nMay 21 | Bibimbap \nMay 28 | Chicken adobo with steamed rice and lumpia \nPull up to the curb at the the Rocker Club entrance on Hanabi’s side\, and a staff member will assist you. Limited quantities available.
URL:https://kadenafss.com/event/drive-by-dinners-2/2026-10-22
LOCATION:Hanabi’s\, The Rocker\, Hanabi's\, The Rocker\, Building #622\, Kadena AB\, Okinawa\, 904-0000\, Japan
CATEGORIES:Food Events,Hanabis,The Rocker
ATTACH;FMTTYPE=image/png:https://kadenafss.com/wp-content/uploads/2025/09/DriveByDinners.png
END:VEVENT
BEGIN:VEVENT
DTSTART;TZID=Asia/Tokyo:20261029T163000
DTEND;TZID=Asia/Tokyo:20261029T183000
DTSTAMP:20260426T002509
CREATED:20260331T015611Z
LAST-MODIFIED:20260331T015611Z
UID:10033879-1793291400-1793298600@kadenafss.com
SUMMARY:Drive-By Dinners
DESCRIPTION:$12 per person | 10% member discount \nMay 7 | Beef enchilada with refried beans and Mexican rice \nMay 14 | Kalua pork with steamed rice\, macaroni salad and grilled pineapple \nMay 21 | Bibimbap \nMay 28 | Chicken adobo with steamed rice and lumpia \nPull up to the curb at the the Rocker Club entrance on Hanabi’s side\, and a staff member will assist you. Limited quantities available.
URL:https://kadenafss.com/event/drive-by-dinners-2/2026-10-29
LOCATION:Hanabi’s\, The Rocker\, Hanabi's\, The Rocker\, Building #622\, Kadena AB\, Okinawa\, 904-0000\, Japan
CATEGORIES:Food Events,Hanabis,The Rocker
ATTACH;FMTTYPE=image/png:https://kadenafss.com/wp-content/uploads/2025/09/DriveByDinners.png
END:VEVENT
BEGIN:VEVENT
DTSTART;TZID=Asia/Tokyo:20261105T163000
DTEND;TZID=Asia/Tokyo:20261105T183000
DTSTAMP:20260426T002509
CREATED:20260331T015611Z
LAST-MODIFIED:20260331T015611Z
UID:10033880-1793896200-1793903400@kadenafss.com
SUMMARY:Drive-By Dinners
DESCRIPTION:$12 per person | 10% member discount \nMay 7 | Beef enchilada with refried beans and Mexican rice \nMay 14 | Kalua pork with steamed rice\, macaroni salad and grilled pineapple \nMay 21 | Bibimbap \nMay 28 | Chicken adobo with steamed rice and lumpia \nPull up to the curb at the the Rocker Club entrance on Hanabi’s side\, and a staff member will assist you. Limited quantities available.
URL:https://kadenafss.com/event/drive-by-dinners-2/2026-11-05
LOCATION:Hanabi’s\, The Rocker\, Hanabi's\, The Rocker\, Building #622\, Kadena AB\, Okinawa\, 904-0000\, Japan
CATEGORIES:Food Events,Hanabis,The Rocker
ATTACH;FMTTYPE=image/png:https://kadenafss.com/wp-content/uploads/2025/09/DriveByDinners.png
END:VEVENT
BEGIN:VEVENT
DTSTART;TZID=Asia/Tokyo:20261112T163000
DTEND;TZID=Asia/Tokyo:20261112T183000
DTSTAMP:20260426T002509
CREATED:20260331T015611Z
LAST-MODIFIED:20260331T015611Z
UID:10033881-1794501000-1794508200@kadenafss.com
SUMMARY:Drive-By Dinners
DESCRIPTION:$12 per person | 10% member discount \nMay 7 | Beef enchilada with refried beans and Mexican rice \nMay 14 | Kalua pork with steamed rice\, macaroni salad and grilled pineapple \nMay 21 | Bibimbap \nMay 28 | Chicken adobo with steamed rice and lumpia \nPull up to the curb at the the Rocker Club entrance on Hanabi’s side\, and a staff member will assist you. Limited quantities available.
URL:https://kadenafss.com/event/drive-by-dinners-2/2026-11-12
LOCATION:Hanabi’s\, The Rocker\, Hanabi's\, The Rocker\, Building #622\, Kadena AB\, Okinawa\, 904-0000\, Japan
CATEGORIES:Food Events,Hanabis,The Rocker
ATTACH;FMTTYPE=image/png:https://kadenafss.com/wp-content/uploads/2025/09/DriveByDinners.png
END:VEVENT
BEGIN:VEVENT
DTSTART;TZID=Asia/Tokyo:20261119T163000
DTEND;TZID=Asia/Tokyo:20261119T183000
DTSTAMP:20260426T002509
CREATED:20260331T015611Z
LAST-MODIFIED:20260331T015611Z
UID:10033882-1795105800-1795113000@kadenafss.com
SUMMARY:Drive-By Dinners
DESCRIPTION:$12 per person | 10% member discount \nMay 7 | Beef enchilada with refried beans and Mexican rice \nMay 14 | Kalua pork with steamed rice\, macaroni salad and grilled pineapple \nMay 21 | Bibimbap \nMay 28 | Chicken adobo with steamed rice and lumpia \nPull up to the curb at the the Rocker Club entrance on Hanabi’s side\, and a staff member will assist you. Limited quantities available.
URL:https://kadenafss.com/event/drive-by-dinners-2/2026-11-19
LOCATION:Hanabi’s\, The Rocker\, Hanabi's\, The Rocker\, Building #622\, Kadena AB\, Okinawa\, 904-0000\, Japan
CATEGORIES:Food Events,Hanabis,The Rocker
ATTACH;FMTTYPE=image/png:https://kadenafss.com/wp-content/uploads/2025/09/DriveByDinners.png
END:VEVENT
BEGIN:VEVENT
DTSTART;TZID=Asia/Tokyo:20261126T163000
DTEND;TZID=Asia/Tokyo:20261126T183000
DTSTAMP:20260426T002509
CREATED:20260331T015611Z
LAST-MODIFIED:20260331T015611Z
UID:10033883-1795710600-1795717800@kadenafss.com
SUMMARY:Drive-By Dinners
DESCRIPTION:$12 per person | 10% member discount \nMay 7 | Beef enchilada with refried beans and Mexican rice \nMay 14 | Kalua pork with steamed rice\, macaroni salad and grilled pineapple \nMay 21 | Bibimbap \nMay 28 | Chicken adobo with steamed rice and lumpia \nPull up to the curb at the the Rocker Club entrance on Hanabi’s side\, and a staff member will assist you. Limited quantities available.
URL:https://kadenafss.com/event/drive-by-dinners-2/2026-11-26
LOCATION:Hanabi’s\, The Rocker\, Hanabi's\, The Rocker\, Building #622\, Kadena AB\, Okinawa\, 904-0000\, Japan
CATEGORIES:Food Events,Hanabis,The Rocker
ATTACH;FMTTYPE=image/png:https://kadenafss.com/wp-content/uploads/2025/09/DriveByDinners.png
END:VEVENT
END:VCALENDAR