BEGIN:VCALENDAR
VERSION:2.0
PRODID:-//Kadena Air Base - ECPv6.15.20//NONSGML v1.0//EN
CALSCALE:GREGORIAN
METHOD:PUBLISH
X-WR-CALNAME:Kadena Air Base
X-ORIGINAL-URL:https://kadenafss.com
X-WR-CALDESC:Events for Kadena Air Base
REFRESH-INTERVAL;VALUE=DURATION:PT1H
X-Robots-Tag:noindex
X-PUBLISHED-TTL:PT1H
BEGIN:VTIMEZONE
TZID:Asia/Tokyo
BEGIN:STANDARD
TZOFFSETFROM:+0900
TZOFFSETTO:+0900
TZNAME:JST
DTSTART:20250101T000000
END:STANDARD
END:VTIMEZONE
BEGIN:VEVENT
DTSTART;TZID=Asia/Tokyo:20260502T110000
DTEND;TZID=Asia/Tokyo:20260502T120000
DTSTAMP:20260426T084254
CREATED:20260318T053633Z
LAST-MODIFIED:20260318T060832Z
UID:10033662-1777719600-1777723200@kadenafss.com
SUMMARY:3D Printing
DESCRIPTION:Join Arts & Crafts for 3D printing!  \nSaturdays\, April 4\, 18 and 25 and May 2 | 11 a.m. – noon \nFee: $80
URL:https://kadenafss.com/event/3d-printing/2026-05-02
LOCATION:Arts & Crafts Center\, bldg 455\, Kadena Arts & Crafts\, Building #455\, Kadena AB\, Okinawa\, 904-0000\, Japan
CATEGORIES:Arts & Crafts,Fun Events
ATTACH;FMTTYPE=image/png:https://kadenafss.com/wp-content/uploads/2026/02/Event-Loading.png
END:VEVENT
END:VCALENDAR