BEGIN:VCALENDAR
VERSION:2.0
PRODID:-//Kadena Air Base - ECPv6.15.20//NONSGML v1.0//EN
CALSCALE:GREGORIAN
METHOD:PUBLISH
X-ORIGINAL-URL:https://kadenafss.com
X-WR-CALDESC:Events for Kadena Air Base
REFRESH-INTERVAL;VALUE=DURATION:PT1H
X-Robots-Tag:noindex
X-PUBLISHED-TTL:PT1H
BEGIN:VTIMEZONE
TZID:Asia/Tokyo
BEGIN:STANDARD
TZOFFSETFROM:+0900
TZOFFSETTO:+0900
TZNAME:JST
DTSTART:20250101T000000
END:STANDARD
END:VTIMEZONE
BEGIN:VTIMEZONE
TZID:UTC
BEGIN:STANDARD
TZOFFSETFROM:+0000
TZOFFSETTO:+0000
TZNAME:UTC
DTSTART:20250101T000000
END:STANDARD
END:VTIMEZONE
BEGIN:VEVENT
DTSTART;TZID=Asia/Tokyo:20260424T060000
DTEND;TZID=Asia/Tokyo:20260424T140000
DTSTAMP:20260424T071402
CREATED:20260122T032729Z
LAST-MODIFIED:20260317T021925Z
UID:10033500-1777010400-1777039200@kadenafss.com
SUMMARY:Retiree Club Member Appreciation
DESCRIPTION:Retirees receive an additional $1 discount with a purchase of a full breakfast or lunch entrée! Must show retired military ID and an active club member card. \n 
URL:https://kadenafss.com/event/retiree-club-member-appreciation/2026-04-24
LOCATION:The Rocker Club\, Building #622\, The Rocker Club\, Building #622\, Kadena AB\, Okinawa\, 904-0000\, Japan
CATEGORIES:Fun Events,The Rocker
ATTACH;FMTTYPE=image/png:https://kadenafss.com/wp-content/uploads/2026/01/Retiree-Club-Member-Appreciation-.png
END:VEVENT
BEGIN:VEVENT
DTSTART;TZID=UTC:20260424T090000
DTEND;TZID=UTC:20260424T090000
DTSTAMP:20260424T071402
CREATED:20251230T050418Z
LAST-MODIFIED:20260303T013006Z
UID:10033068-1777021200-1777021200@kadenafss.com
SUMMARY:Power Boat Safety Classes
DESCRIPTION:Fridays and Saturdays • 9 am \nOnline certification and hands-on safety training. This class is required to rent power boats at Kadena Marina.
URL:https://kadenafss.com/event/power-boat-safety-classes-2-2/2026-04-24
LOCATION:Kadena Marina\, Kadena Marina\, Bldg #3500\, Kadena AB\, Okinawa 904-0000 Japan
CATEGORIES:Active Duty, Career and Education Events,Marina
ATTACH;FMTTYPE=image/png:https://kadenafss.com/wp-content/uploads/2025/09/Powerboat.png
END:VEVENT
BEGIN:VEVENT
DTSTART;TZID=UTC:20260424T090000
DTEND;TZID=UTC:20260424T110000
DTSTAMP:20260424T071402
CREATED:20251219T062315Z
LAST-MODIFIED:20251230T050224Z
UID:10027958-1777021200-1777028400@kadenafss.com
SUMMARY:Jet Ski Training Course
DESCRIPTION:Fridays • 9 – 11 am
URL:https://kadenafss.com/event/jet-ski-training-course-2/2026-04-24
LOCATION:Kadena Marina\, Kadena Marina\, Bldg #3500\, Kadena AB\, Okinawa 904-0000 Japan
CATEGORIES:Active Duty, Career and Education Events,Marina
ATTACH;FMTTYPE=image/png:https://kadenafss.com/wp-content/uploads/2024/11/JetSki.png
END:VEVENT
BEGIN:VEVENT
DTSTART;TZID=Asia/Tokyo:20260424T090000
DTEND;TZID=Asia/Tokyo:20260424T140000
DTSTAMP:20260424T071402
CREATED:20260330T050342Z
LAST-MODIFIED:20260330T050342Z
UID:10033792-1777021200-1777039200@kadenafss.com
SUMMARY:Hiking Club - Jawbone and Mount Motobu Fuji
DESCRIPTION:9 a.m. – 2 p.m. |  ages 6 and over \nFriday\, April 10 – Jawbone\nFriday\, April 24 – Mount Motobu Fuji\n$40 for two hikes\n$25 per hike
URL:https://kadenafss.com/event/hiking-club-jawbone-and-mount-motobu-fuji-2/2026-04-24
LOCATION:Outdoor Recreation\, 655 Pine St bldg 2800\, Mountain Home AFB\, Idaho\, 83648\, United States
CATEGORIES:Fun Events,Outdoor Rec
ATTACH;FMTTYPE=image/jpeg:https://kadenafss.com/wp-content/uploads/2025/10/4V3A2537-Edit-scaled.jpg
END:VEVENT
BEGIN:VEVENT
DTSTART;TZID=UTC:20260424T113000
DTEND;TZID=UTC:20260424T123000
DTSTAMP:20260424T071402
CREATED:20251219T061952Z
LAST-MODIFIED:20260302T062301Z
UID:10031532-1777030200-1777033800@kadenafss.com
SUMMARY:Language Exchangeランゲージエクスチェンジ  
DESCRIPTION:A language exchange group for both Japanese and English speakers.  Learn about language and culture from native speakers and practice your conversation skills.
URL:https://kadenafss.com/event/language-exchange%e3%83%a9%e3%83%b3%e3%82%b2%e3%83%bc%e3%82%b8%e3%82%a8%e3%82%af%e3%82%b9%e3%83%81%e3%82%a7%e3%83%b3%e3%82%b8-2/2026-04-24
LOCATION:MFRC\, Building #220\, M&FRC\, Building #220\, Kadena AB\, Okinawa\, Japan
CATEGORIES:Active Duty, Career and Education Events,M&FRC
ATTACH;FMTTYPE=image/png:https://kadenafss.com/wp-content/uploads/2025/09/JapaneseLanguageExchange.png
END:VEVENT
BEGIN:VEVENT
DTSTART;TZID=UTC:20260424T140000
DTEND;TZID=UTC:20260424T150000
DTSTAMP:20260424T071402
CREATED:20251219T060019Z
LAST-MODIFIED:20251229T010837Z
UID:10027960-1777039200-1777042800@kadenafss.com
SUMMARY:Power Hour
DESCRIPTION:Monday – Friday •  2 – 3 pm \nAs the new school year begins\, be sure to use the Teen Center’s Power Hour Program! Do homework\, get peer tutoring\, form study groups\, all while earning points for prizes such as gift cards\, snack bar coupons\, and games!
URL:https://kadenafss.com/event/power-hour-2/2026-04-24
CATEGORIES:Fun Events,Teen Center
ATTACH;FMTTYPE=image/png:https://kadenafss.com/wp-content/uploads/2024/08/Power-Hour-.png
END:VEVENT
BEGIN:VEVENT
DTSTART;TZID=Asia/Tokyo:20260424T150000
DTEND;TZID=Asia/Tokyo:20260424T180000
DTSTAMP:20260424T071402
CREATED:20260225T054636Z
LAST-MODIFIED:20260318T072644Z
UID:10032923-1777042800-1777053600@kadenafss.com
SUMMARY:KUMON (Math / Japanese)
DESCRIPTION:1st & 3rd Thursdays • 3 – 6 pm\n3 pm – 6 pm • Tuesday’s and Friday’s \n$75 • Per month for 1 subject\n$150 • Per month for both subjects \n30-minute sessions\nMath • Ages 5 – 18\nJapanese • Ages 5 & over \nRegistration required.
URL:https://kadenafss.com/event/kumon-math-japanese/2026-04-24
LOCATION:Schilling Community Center\, Building #455\, Schilling Community Center\, Building #455\, Kadena AB\, Okinawa\, 904-0200\, Japan
CATEGORIES:Active Duty, Career and Education Events,Shilling Community Center
ATTACH;FMTTYPE=image/jpeg:https://kadenafss.com/wp-content/uploads/2024/04/gettyimages-1737941130.jpg
END:VEVENT
BEGIN:VEVENT
DTSTART;TZID=UTC:20260424T170000
DTEND;TZID=UTC:20260424T190000
DTSTAMP:20260424T071402
CREATED:20251029T212810Z
LAST-MODIFIED:20260202T003152Z
UID:10032610-1777050000-1777057200@kadenafss.com
SUMMARY:Weekly Friday Social Hour
DESCRIPTION:The Rocker Lounge \nWeekly Friday Social Hour \nFridays | 5 – 7 p.m. \nFood | Drinks | Prizes \nOpen to club members\, ages 18 and over. \n 
URL:https://kadenafss.com/event/weekly-friday-social-hour-2/2026-04-24
LOCATION:The Rocker Club\, Building #622\, The Rocker Club\, Building #622\, Kadena AB\, Okinawa\, 904-0000\, Japan
CATEGORIES:Fun Events,The Rocker
ATTACH;FMTTYPE=image/png:https://kadenafss.com/wp-content/uploads/2025/10/FB-Event-Cover.png
END:VEVENT
BEGIN:VEVENT
DTSTART;TZID=Asia/Tokyo:20260424T210000
DTEND;TZID=Asia/Tokyo:20260425T020000
DTSTAMP:20260424T071402
CREATED:20260316T063300Z
LAST-MODIFIED:20260316T064728Z
UID:10033323-1777064400-1777082400@kadenafss.com
SUMMARY:Live Entertainment at The Rocker Club
DESCRIPTION:There’s nothing like the energy of live music! Join us at The Rocker Club for live entertainment featuring talented performers\, great music\, and a lively atmosphere. \nFridays and Saturdays | 9 p.m. – 2 a.m.
URL:https://kadenafss.com/event/live-entertainment-at-the-rocker-club/2026-04-24
LOCATION:Hanabi’s\, The Rocker\, Hanabi's\, The Rocker\, Building #622\, Kadena AB\, Okinawa\, 904-0000\, Japan
CATEGORIES:Fun Events,The Rocker
ATTACH;FMTTYPE=image/png:https://kadenafss.com/wp-content/uploads/2026/03/Live-Entertainment_TheRockerClub.png
END:VEVENT
BEGIN:VEVENT
DTSTART;VALUE=DATE:20260425
DTEND;VALUE=DATE:20260426
DTSTAMP:20260424T071402
CREATED:20260318T031318Z
LAST-MODIFIED:20260318T031318Z
UID:10033537-1777075200-1777161599@kadenafss.com
SUMMARY:Discover Snorkel
DESCRIPTION:Ages 6 and over \nHave questions about proper snorkel techniques? We’re here to help. Join us at Kadena Marina Harbor to learn the basics of snorkeling. Preregistration is required.
URL:https://kadenafss.com/event/discover-snorkel
CATEGORIES:Fun Events,Marina
ATTACH;FMTTYPE=image/png:https://kadenafss.com/wp-content/uploads/2025/09/DiveandSnorkel.png
END:VEVENT
BEGIN:VEVENT
DTSTART;TZID=Asia/Tokyo:20260425T071500
DTEND;TZID=Asia/Tokyo:20260425T170000
DTSTAMP:20260424T071402
CREATED:20260318T050458Z
LAST-MODIFIED:20260318T074310Z
UID:10033652-1777101300-1777136400@kadenafss.com
SUMMARY:Lily Festival on Ie Island
DESCRIPTION:$48 | ages 12 and over\n$35 | ages 6 – 11\n$6 | ages 5 and under \nLet Kadena ITT take you to the annual Lily Festival on Ie Island. This day trip includes transportation\, a tour of Ie Island and free time to enjoy the festival. \nItinerary\n7:15 a.m. | Depart for Motobu Port\n9:30 a.m. | Arrive on Ie Island\n9:40 a.m. | Visit the Ernie Pyle Monument\n9:50 a.m. | Explore the Cave of Niya Thiya\n10:30 a.m. | Experience Wajee Point\n11 a.m. | Hike Mount Gusuku (optional)\nNoon | Enjoy the Lily Festival\n3 p.m. | Depart for Kadena ITT\n5 p.m. | Arrive at Kadena ITT
URL:https://kadenafss.com/event/lily-festival-on-ie-island/2026-04-25
LOCATION:Kadena Marina\, Kadena Marina\, Bldg #3500\, Kadena AB\, Okinawa 904-0000 Japan
CATEGORIES:Fun Events,Hot Events,ITT
ATTACH;FMTTYPE=image/jpeg:https://kadenafss.com/wp-content/uploads/2024/04/lily_festival.jpg_65ee5fbb0be583.71084309.jpeg
END:VEVENT
BEGIN:VEVENT
DTSTART;TZID=Asia/Tokyo:20260425T080000
DTEND;TZID=Asia/Tokyo:20260425T110000
DTSTAMP:20260424T071402
CREATED:20260316T030927Z
LAST-MODIFIED:20260318T074340Z
UID:10033144-1777104000-1777114800@kadenafss.com
SUMMARY:Morning Motors Social
DESCRIPTION:Parking lot closest to Hanabi’s \nEnjoy food and coffee while checking out great cars and connecting with the community. Held the last Saturday of the month.
URL:https://kadenafss.com/event/morning-motors-social
LOCATION:Hanabi’s\, The Rocker\, Hanabi's\, The Rocker\, Building #622\, Kadena AB\, Okinawa\, 904-0000\, Japan
CATEGORIES:Fun Events,Hot Events,The Rocker
ATTACH;FMTTYPE=image/jpeg:https://kadenafss.com/wp-content/uploads/2026/03/Morning-Motors-BT-Marquee-1.jpg
END:VEVENT
BEGIN:VEVENT
DTSTART;TZID=Asia/Tokyo:20260425T080000
DTEND;TZID=Asia/Tokyo:20260425T150000
DTSTAMP:20260424T071402
CREATED:20260318T045016Z
LAST-MODIFIED:20260318T045016Z
UID:10033546-1777104000-1777129200@kadenafss.com
SUMMARY:Book your Dive Session with Kadena Marina!
DESCRIPTION:Dive Season | Starts Saturday\, April 4 \nRegistration begins | March 6 \nSaturdays and Sundays | 8 a.m. – 3 p.m. \nAges 8 and over \nBook your adventure today at Kadena Marina.
URL:https://kadenafss.com/event/book-your-dive-session-with-kadena-marina/2026-04-25
LOCATION:Kadena Marina\, Kadena Marina\, Bldg #3500\, Kadena AB\, Okinawa 904-0000 Japan
CATEGORIES:Fun Events,Marina
ATTACH;FMTTYPE=image/png:https://kadenafss.com/wp-content/uploads/2026/02/Event-Loading.png
END:VEVENT
BEGIN:VEVENT
DTSTART;TZID=UTC:20260425T090000
DTEND;TZID=UTC:20260425T090000
DTSTAMP:20260424T071402
CREATED:20251230T050418Z
LAST-MODIFIED:20260303T013006Z
UID:10030017-1777107600-1777107600@kadenafss.com
SUMMARY:Power Boat Safety Classes
DESCRIPTION:Fridays and Saturdays • 9 am \nOnline certification and hands-on safety training. This class is required to rent power boats at Kadena Marina.
URL:https://kadenafss.com/event/power-boat-safety-classes-2-2/2026-04-25
LOCATION:Kadena Marina\, Kadena Marina\, Bldg #3500\, Kadena AB\, Okinawa 904-0000 Japan
CATEGORIES:Active Duty, Career and Education Events,Marina
ATTACH;FMTTYPE=image/png:https://kadenafss.com/wp-content/uploads/2025/09/Powerboat.png
END:VEVENT
BEGIN:VEVENT
DTSTART;TZID=Asia/Tokyo:20260425T100000
DTEND;TZID=Asia/Tokyo:20260425T110000
DTSTAMP:20260424T071402
CREATED:20260318T054625Z
LAST-MODIFIED:20260318T060536Z
UID:10033667-1777111200-1777114800@kadenafss.com
SUMMARY:Digital Art
DESCRIPTION:Join Arts & Crafts for a class in digital art.  \nFee: $80
URL:https://kadenafss.com/event/digital-art-arts-crafts/2026-04-25
LOCATION:Arts & Crafts Center\, bldg 455\, Kadena Arts & Crafts\, Building #455\, Kadena AB\, Okinawa\, 904-0000\, Japan
CATEGORIES:Arts & Crafts,Fun Events
ATTACH;FMTTYPE=image/png:https://kadenafss.com/wp-content/uploads/2026/02/Event-Loading.png
END:VEVENT
BEGIN:VEVENT
DTSTART;TZID=Asia/Tokyo:20260425T100000
DTEND;TZID=Asia/Tokyo:20260425T120000
DTSTAMP:20260424T071403
CREATED:20260318T054832Z
LAST-MODIFIED:20260318T061249Z
UID:10033669-1777111200-1777118400@kadenafss.com
SUMMARY:Bingata Tapestry
DESCRIPTION:Join Arts & Crafts for a class in Bingata Tapestry! \nFee: $55
URL:https://kadenafss.com/event/class-in-bingata-tapestry-arts-crafts
LOCATION:Arts & Crafts Center\, bldg 455\, Kadena Arts & Crafts\, Building #455\, Kadena AB\, Okinawa\, 904-0000\, Japan
CATEGORIES:Arts & Crafts,Fun Events
ATTACH;FMTTYPE=image/png:https://kadenafss.com/wp-content/uploads/2026/02/Event-Loading.png
END:VEVENT
BEGIN:VEVENT
DTSTART;TZID=Asia/Tokyo:20260425T100000
DTEND;TZID=Asia/Tokyo:20260425T120000
DTSTAMP:20260424T071403
CREATED:20260318T055950Z
LAST-MODIFIED:20260318T055950Z
UID:10033673-1777111200-1777118400@kadenafss.com
SUMMARY:Resin Art: Sakura Welcome Sign
DESCRIPTION:Join us for an Arts & Crafts Resin Art class and create your own beautiful sakura welcome sign 🌸\nDesign a personalized piece that captures the charm of cherry blossoms while learning fun\, hands-on resin techniques. It’s the perfect way to get creative and take home something truly unique.\nFee: $60
URL:https://kadenafss.com/event/resin-art-sakura-welcome-sign
LOCATION:Arts & Crafts Center\, bldg 455\, Kadena Arts & Crafts\, Building #455\, Kadena AB\, Okinawa\, 904-0000\, Japan
CATEGORIES:Arts & Crafts,Fun Events
ATTACH;FMTTYPE=image/png:https://kadenafss.com/wp-content/uploads/2026/02/Event-Loading.png
END:VEVENT
BEGIN:VEVENT
DTSTART;TZID=Asia/Tokyo:20260425T110000
DTEND;TZID=Asia/Tokyo:20260425T120000
DTSTAMP:20260424T071403
CREATED:20260225T051853Z
LAST-MODIFIED:20260225T051931Z
UID:10032853-1777114800-1777118400@kadenafss.com
SUMMARY:Japanese Flower Arrangement
DESCRIPTION:Learn how to create Japanese Flower Arrangements. Happening every Saturday from 11 a.m. – 12 p.m. \n$50 registration fee | Includes Three Classes
URL:https://kadenafss.com/event/japanese-flower-arrangement/2026-04-25
LOCATION:Schilling Community Center\, Building #455\, Schilling Community Center\, Building #455\, Kadena AB\, Okinawa\, 904-0200\, Japan
CATEGORIES:Fun Events,Shilling Community Center
ATTACH;FMTTYPE=image/png:https://kadenafss.com/wp-content/uploads/2026/02/Japanese-Flower-Arrrangement.png
END:VEVENT
BEGIN:VEVENT
DTSTART;TZID=Asia/Tokyo:20260425T110000
DTEND;TZID=Asia/Tokyo:20260425T120000
DTSTAMP:20260424T071403
CREATED:20260318T053633Z
LAST-MODIFIED:20260318T060832Z
UID:10033664-1777114800-1777118400@kadenafss.com
SUMMARY:3D Printing
DESCRIPTION:Join Arts & Crafts for 3D printing!  \nSaturdays\, April 4\, 18 and 25 and May 2 | 11 a.m. – noon \nFee: $80
URL:https://kadenafss.com/event/3d-printing/2026-04-25
LOCATION:Arts & Crafts Center\, bldg 455\, Kadena Arts & Crafts\, Building #455\, Kadena AB\, Okinawa\, 904-0000\, Japan
CATEGORIES:Arts & Crafts,Fun Events
ATTACH;FMTTYPE=image/png:https://kadenafss.com/wp-content/uploads/2026/02/Event-Loading.png
END:VEVENT
BEGIN:VEVENT
DTSTART;TZID=Asia/Tokyo:20260425T120000
DTEND;TZID=Asia/Tokyo:20260425T220000
DTSTAMP:20260424T071403
CREATED:20260312T054032Z
LAST-MODIFIED:20260319T014855Z
UID:10033134-1777118400-1777154400@kadenafss.com
SUMMARY:Okuma Beach Fest
DESCRIPTION:Open Gate: noon – 10 p.m. \nStage: 3:30 – 9 p.m. \n3:30 p.m. | MC opening\n3:45 p.m. | Dance show\n4:30 p.m. | Okinawa Actors School\nDIG IT! DIG IT! ONE / E’sekai / Neil / B.Rox / B.B. Waves\n5:25 p.m. | Shuto\, rapper\n6:25 p.m. | OZworld\, rapper\n7:25 p.m. | Shion\, Japanese taiko drums\n8 p.m. | Rinken Band\, Okinawan folk band \nEvent information is subject to change without notice. \nVisitors ages 18 and older must show identification to enter. Children under the age of 18 must be escorted by guardian and may be asked for an ID to verify their age. \nOkuma Beach | 098-962-1991\nKadenaFSS.com/Okuma\nInstagram and Facebook: @okumabeach
URL:https://kadenafss.com/event/okuma-beach-fest
LOCATION:Okuma Beach\, Okuma Beach\, Tobaru\, Kunigami\, Okinawa\, 905-1417\, Japan
CATEGORIES:Fun Events,Hot Events,Okuma Beach
ATTACH;FMTTYPE=image/png:https://kadenafss.com/wp-content/uploads/2026/03/Okuma_Beach_Fest.png
END:VEVENT
BEGIN:VEVENT
DTSTART;TZID=Asia/Tokyo:20260425T123000
DTEND;TZID=Asia/Tokyo:20260425T143000
DTSTAMP:20260424T071403
CREATED:20260318T052945Z
LAST-MODIFIED:20260318T053001Z
UID:10033658-1777120200-1777127400@kadenafss.com
SUMMARY:Sanshin Making and Playing
DESCRIPTION:Make and play your own Sanshin with Kadena Arts & Crafts! \nFee: $85
URL:https://kadenafss.com/event/sanshin-making-and-playing
LOCATION:Arts & Crafts Center\, bldg 455\, Kadena Arts & Crafts\, Building #455\, Kadena AB\, Okinawa\, 904-0000\, Japan
CATEGORIES:Arts & Crafts,Fun Events
ATTACH;FMTTYPE=image/png:https://kadenafss.com/wp-content/uploads/2026/02/Event-Loading.png
END:VEVENT
BEGIN:VEVENT
DTSTART;TZID=Asia/Tokyo:20260425T140000
DTEND;TZID=Asia/Tokyo:20260425T170000
DTSTAMP:20260424T071403
CREATED:20260318T053323Z
LAST-MODIFIED:20260318T074242Z
UID:10033659-1777125600-1777136400@kadenafss.com
SUMMARY:Spring Bouquet Cookie Decorating
DESCRIPTION:Join Arts & Crafts for a cookie decorating class! \nFee: $60
URL:https://kadenafss.com/event/spring-bouquet-cookie-decorating
LOCATION:Arts & Crafts Center\, bldg 455\, Kadena Arts & Crafts\, Building #455\, Kadena AB\, Okinawa\, 904-0000\, Japan
CATEGORIES:Arts & Crafts,Fun Events,Hot Events
ATTACH;FMTTYPE=image/png:https://kadenafss.com/wp-content/uploads/2026/02/Event-Loading.png
END:VEVENT
BEGIN:VEVENT
DTSTART;TZID=UTC:20260425T150000
DTEND;TZID=UTC:20260425T160000
DTSTAMP:20260424T071403
CREATED:20250324T175936Z
LAST-MODIFIED:20251216T182401Z
UID:10029311-1777129200-1777132800@kadenafss.com
SUMMARY:Intro to Archery
DESCRIPTION:Last Saturday of the month | 3 – 4 pm \nStearley Heights Elementary School Field \n$25 per person | Ages 8 & over | Beginner friendly \nFamiliarize yourself with the basics\, whistle commands\, bow handling\, and more! \nIncludes bows\, 5 arrows\, and targets. \nSign up on WebTrac\, or in person at Kadena ODR\, bldg. 614. \n  \n 
URL:https://kadenafss.com/event/intro-to-archery/2026-04-25
LOCATION:Outdoor Recreation\, Building #614\, Outdoor Recreation\, Building #614\, Kadena AB\, Okinawa\, 904-0034\, Japan
CATEGORIES:Fun Events,Hot Events,Outdoor Rec
ATTACH;FMTTYPE=image/png:https://kadenafss.com/wp-content/uploads/2025/09/IntroToArchery.png
END:VEVENT
BEGIN:VEVENT
DTSTART;TZID=UTC:20260425T160000
DTEND;TZID=UTC:20260425T180000
DTSTAMP:20260424T071403
CREATED:20250324T182626Z
LAST-MODIFIED:20251216T182455Z
UID:10029320-1777132800-1777140000@kadenafss.com
SUMMARY:Open Shoot Archery
DESCRIPTION:Saturdays | 4 – 6 pm \nStearley Heights Elementary School Field \n$20 per person | Ages 10 & over \nPractice and enjoy time on the range! Includes bows\, 5 arrows\, and targets. \nHave your own bow? Bring it for a discounted fee! \n$5 per person | Personal bow \nSign up at Kadena ODR\, bldg. 614\, or in-person at the field with cash. 
URL:https://kadenafss.com/event/open-shoot-archery/2026-04-25
CATEGORIES:Fun Events,Outdoor Rec
ATTACH;FMTTYPE=image/png:https://kadenafss.com/wp-content/uploads/2025/09/Openshoot.png
END:VEVENT
BEGIN:VEVENT
DTSTART;TZID=Asia/Tokyo:20260425T210000
DTEND;TZID=Asia/Tokyo:20260426T020000
DTSTAMP:20260424T071403
CREATED:20260316T063300Z
LAST-MODIFIED:20260316T064728Z
UID:10033324-1777150800-1777168800@kadenafss.com
SUMMARY:Live Entertainment at The Rocker Club
DESCRIPTION:There’s nothing like the energy of live music! Join us at The Rocker Club for live entertainment featuring talented performers\, great music\, and a lively atmosphere. \nFridays and Saturdays | 9 p.m. – 2 a.m.
URL:https://kadenafss.com/event/live-entertainment-at-the-rocker-club/2026-04-25
LOCATION:Hanabi’s\, The Rocker\, Hanabi's\, The Rocker\, Building #622\, Kadena AB\, Okinawa\, 904-0000\, Japan
CATEGORIES:Fun Events,The Rocker
ATTACH;FMTTYPE=image/png:https://kadenafss.com/wp-content/uploads/2026/03/Live-Entertainment_TheRockerClub.png
END:VEVENT
BEGIN:VEVENT
DTSTART;TZID=Asia/Tokyo:20260426T071500
DTEND;TZID=Asia/Tokyo:20260426T170000
DTSTAMP:20260424T071403
CREATED:20260318T050458Z
LAST-MODIFIED:20260318T074310Z
UID:10033653-1777187700-1777222800@kadenafss.com
SUMMARY:Lily Festival on Ie Island
DESCRIPTION:$48 | ages 12 and over\n$35 | ages 6 – 11\n$6 | ages 5 and under \nLet Kadena ITT take you to the annual Lily Festival on Ie Island. This day trip includes transportation\, a tour of Ie Island and free time to enjoy the festival. \nItinerary\n7:15 a.m. | Depart for Motobu Port\n9:30 a.m. | Arrive on Ie Island\n9:40 a.m. | Visit the Ernie Pyle Monument\n9:50 a.m. | Explore the Cave of Niya Thiya\n10:30 a.m. | Experience Wajee Point\n11 a.m. | Hike Mount Gusuku (optional)\nNoon | Enjoy the Lily Festival\n3 p.m. | Depart for Kadena ITT\n5 p.m. | Arrive at Kadena ITT
URL:https://kadenafss.com/event/lily-festival-on-ie-island/2026-04-26
LOCATION:Kadena Marina\, Kadena Marina\, Bldg #3500\, Kadena AB\, Okinawa 904-0000 Japan
CATEGORIES:Fun Events,Hot Events,ITT
ATTACH;FMTTYPE=image/jpeg:https://kadenafss.com/wp-content/uploads/2024/04/lily_festival.jpg_65ee5fbb0be583.71084309.jpeg
END:VEVENT
BEGIN:VEVENT
DTSTART;TZID=Asia/Tokyo:20260426T080000
DTEND;TZID=Asia/Tokyo:20260426T150000
DTSTAMP:20260424T071403
CREATED:20260318T045016Z
LAST-MODIFIED:20260318T045016Z
UID:10033547-1777190400-1777215600@kadenafss.com
SUMMARY:Book your Dive Session with Kadena Marina!
DESCRIPTION:Dive Season | Starts Saturday\, April 4 \nRegistration begins | March 6 \nSaturdays and Sundays | 8 a.m. – 3 p.m. \nAges 8 and over \nBook your adventure today at Kadena Marina.
URL:https://kadenafss.com/event/book-your-dive-session-with-kadena-marina/2026-04-26
LOCATION:Kadena Marina\, Kadena Marina\, Bldg #3500\, Kadena AB\, Okinawa 904-0000 Japan
CATEGORIES:Fun Events,Marina
ATTACH;FMTTYPE=image/png:https://kadenafss.com/wp-content/uploads/2026/02/Event-Loading.png
END:VEVENT
BEGIN:VEVENT
DTSTART;TZID=Asia/Tokyo:20260426T090000
DTEND;TZID=Asia/Tokyo:20260426T140000
DTSTAMP:20260424T071403
CREATED:20260317T021513Z
LAST-MODIFIED:20260317T021617Z
UID:10033499-1777194000-1777212000@kadenafss.com
SUMMARY:Sunday Brunch - Southern Picnic Food
DESCRIPTION:Join us for Sunday Brunch featuring Southern Picnic Food and the regular brunch classics.
URL:https://kadenafss.com/event/sunday-brunch-southern-picnic-food
LOCATION:The Rocker Club\, Building #622\, The Rocker Club\, Building #622\, Kadena AB\, Okinawa\, 904-0000\, Japan
CATEGORIES:Food Events,The Rocker
ATTACH;FMTTYPE=image/jpeg:https://kadenafss.com/wp-content/uploads/2026/03/The-Rocker-Southern-.jpg
END:VEVENT
BEGIN:VEVENT
DTSTART;TZID=Asia/Tokyo:20260427T070000
DTEND;TZID=Asia/Tokyo:20260427T220000
DTSTAMP:20260424T071403
CREATED:20260316T060126Z
LAST-MODIFIED:20260316T060126Z
UID:10033148-1777273200-1777327200@kadenafss.com
SUMMARY:Salsa Night
DESCRIPTION:Every Monday Night \nTurn up the heat and let the rhythm move you at Salsa Night at The Rocker Club! Join us for an evening of vibrant Latin beats\, energetic dancing\, and an electric atmosphere that will keep you on your feet all night long. Whether you’re a seasoned dancer or just want to learn a few moves\, everyone is welcome on the dance floor. \nFeel the music\, bring your friends\, meet new people\, and dance the night away under the lights. \n🌶️ Great music\n💃 Non-stop dancing
URL:https://kadenafss.com/event/salsa-night/2026-04-27
LOCATION:The Rocker Club\, Building #622\, The Rocker Club\, Building #622\, Kadena AB\, Okinawa\, 904-0000\, Japan
CATEGORIES:Fun Events,Hanabis,The Rocker
ATTACH;FMTTYPE=image/jpeg:https://kadenafss.com/wp-content/uploads/2026/03/Salsa-Night-Web-Event-.jpg
END:VEVENT
BEGIN:VEVENT
DTSTART;TZID=UTC:20260427T140000
DTEND;TZID=UTC:20260427T150000
DTSTAMP:20260424T071403
CREATED:20251219T060019Z
LAST-MODIFIED:20251229T010837Z
UID:10027974-1777298400-1777302000@kadenafss.com
SUMMARY:Power Hour
DESCRIPTION:Monday – Friday •  2 – 3 pm \nAs the new school year begins\, be sure to use the Teen Center’s Power Hour Program! Do homework\, get peer tutoring\, form study groups\, all while earning points for prizes such as gift cards\, snack bar coupons\, and games!
URL:https://kadenafss.com/event/power-hour-2/2026-04-27
CATEGORIES:Fun Events,Teen Center
ATTACH;FMTTYPE=image/png:https://kadenafss.com/wp-content/uploads/2024/08/Power-Hour-.png
END:VEVENT
END:VCALENDAR