BEGIN:VCALENDAR
VERSION:2.0
PRODID:-//Kadena Air Base - ECPv6.15.20//NONSGML v1.0//EN
CALSCALE:GREGORIAN
METHOD:PUBLISH
X-WR-CALNAME:Kadena Air Base
X-ORIGINAL-URL:https://kadenafss.com
X-WR-CALDESC:Events for Kadena Air Base
REFRESH-INTERVAL;VALUE=DURATION:PT1H
X-Robots-Tag:noindex
X-PUBLISHED-TTL:PT1H
BEGIN:VTIMEZONE
TZID:Asia/Tokyo
BEGIN:STANDARD
TZOFFSETFROM:+0900
TZOFFSETTO:+0900
TZNAME:JST
DTSTART:20250101T000000
END:STANDARD
END:VTIMEZONE
BEGIN:VEVENT
DTSTART;TZID=Asia/Tokyo:20260425T210000
DTEND;TZID=Asia/Tokyo:20260426T020000
DTSTAMP:20260426T041212
CREATED:20260316T063300Z
LAST-MODIFIED:20260316T064728Z
UID:10033324-1777150800-1777168800@kadenafss.com
SUMMARY:Live Entertainment at The Rocker Club
DESCRIPTION:There’s nothing like the energy of live music! Join us at The Rocker Club for live entertainment featuring talented performers\, great music\, and a lively atmosphere. \nFridays and Saturdays | 9 p.m. – 2 a.m.
URL:https://kadenafss.com/event/live-entertainment-at-the-rocker-club/2026-04-25
LOCATION:Hanabi’s\, The Rocker\, Hanabi's\, The Rocker\, Building #622\, Kadena AB\, Okinawa\, 904-0000\, Japan
CATEGORIES:Fun Events,The Rocker
ATTACH;FMTTYPE=image/png:https://kadenafss.com/wp-content/uploads/2026/03/Live-Entertainment_TheRockerClub.png
END:VEVENT
BEGIN:VEVENT
DTSTART;TZID=Asia/Tokyo:20260426T071500
DTEND;TZID=Asia/Tokyo:20260426T170000
DTSTAMP:20260426T041212
CREATED:20260318T050458Z
LAST-MODIFIED:20260318T074310Z
UID:10033653-1777187700-1777222800@kadenafss.com
SUMMARY:Lily Festival on Ie Island
DESCRIPTION:$48 | ages 12 and over\n$35 | ages 6 – 11\n$6 | ages 5 and under \nLet Kadena ITT take you to the annual Lily Festival on Ie Island. This day trip includes transportation\, a tour of Ie Island and free time to enjoy the festival. \nItinerary\n7:15 a.m. | Depart for Motobu Port\n9:30 a.m. | Arrive on Ie Island\n9:40 a.m. | Visit the Ernie Pyle Monument\n9:50 a.m. | Explore the Cave of Niya Thiya\n10:30 a.m. | Experience Wajee Point\n11 a.m. | Hike Mount Gusuku (optional)\nNoon | Enjoy the Lily Festival\n3 p.m. | Depart for Kadena ITT\n5 p.m. | Arrive at Kadena ITT
URL:https://kadenafss.com/event/lily-festival-on-ie-island/2026-04-26
LOCATION:Kadena Marina\, Kadena Marina\, Bldg #3500\, Kadena AB\, Okinawa 904-0000 Japan
CATEGORIES:Fun Events,Hot Events,ITT
ATTACH;FMTTYPE=image/jpeg:https://kadenafss.com/wp-content/uploads/2024/04/lily_festival.jpg_65ee5fbb0be583.71084309.jpeg
END:VEVENT
BEGIN:VEVENT
DTSTART;TZID=Asia/Tokyo:20260426T080000
DTEND;TZID=Asia/Tokyo:20260426T150000
DTSTAMP:20260426T041212
CREATED:20260318T045016Z
LAST-MODIFIED:20260318T045016Z
UID:10033547-1777190400-1777215600@kadenafss.com
SUMMARY:Book your Dive Session with Kadena Marina!
DESCRIPTION:Dive Season | Starts Saturday\, April 4 \nRegistration begins | March 6 \nSaturdays and Sundays | 8 a.m. – 3 p.m. \nAges 8 and over \nBook your adventure today at Kadena Marina.
URL:https://kadenafss.com/event/book-your-dive-session-with-kadena-marina/2026-04-26
LOCATION:Kadena Marina\, Kadena Marina\, Bldg #3500\, Kadena AB\, Okinawa 904-0000 Japan
CATEGORIES:Fun Events,Marina
ATTACH;FMTTYPE=image/png:https://kadenafss.com/wp-content/uploads/2026/02/Event-Loading.png
END:VEVENT
BEGIN:VEVENT
DTSTART;TZID=Asia/Tokyo:20260426T090000
DTEND;TZID=Asia/Tokyo:20260426T140000
DTSTAMP:20260426T041212
CREATED:20260317T021513Z
LAST-MODIFIED:20260317T021617Z
UID:10033499-1777194000-1777212000@kadenafss.com
SUMMARY:Sunday Brunch - Southern Picnic Food
DESCRIPTION:Join us for Sunday Brunch featuring Southern Picnic Food and the regular brunch classics.
URL:https://kadenafss.com/event/sunday-brunch-southern-picnic-food
LOCATION:The Rocker Club\, Building #622\, The Rocker Club\, Building #622\, Kadena AB\, Okinawa\, 904-0000\, Japan
CATEGORIES:Food Events,The Rocker
ATTACH;FMTTYPE=image/jpeg:https://kadenafss.com/wp-content/uploads/2026/03/The-Rocker-Southern-.jpg
END:VEVENT
END:VCALENDAR