BEGIN:VCALENDAR
VERSION:2.0
PRODID:-//Kadena Air Base - ECPv6.15.20//NONSGML v1.0//EN
CALSCALE:GREGORIAN
METHOD:PUBLISH
X-WR-CALNAME:Kadena Air Base
X-ORIGINAL-URL:https://kadenafss.com
X-WR-CALDESC:Events for Kadena Air Base
REFRESH-INTERVAL;VALUE=DURATION:PT1H
X-Robots-Tag:noindex
X-PUBLISHED-TTL:PT1H
BEGIN:VTIMEZONE
TZID:Asia/Tokyo
BEGIN:STANDARD
TZOFFSETFROM:+0900
TZOFFSETTO:+0900
TZNAME:JST
DTSTART:20250101T000000
END:STANDARD
END:VTIMEZONE
BEGIN:VTIMEZONE
TZID:UTC
BEGIN:STANDARD
TZOFFSETFROM:+0000
TZOFFSETTO:+0000
TZNAME:UTC
DTSTART:20250101T000000
END:STANDARD
END:VTIMEZONE
BEGIN:VEVENT
DTSTART;TZID=Asia/Tokyo:20260422T080000
DTEND;TZID=Asia/Tokyo:20260422T163000
DTSTAMP:20260422T032524
CREATED:20260317T065033Z
LAST-MODIFIED:20260317T065033Z
UID:10033527-1776844800-1776875400@kadenafss.com
SUMMARY:Department of Labor Employment Track
DESCRIPTION:Part of the congressionally mandated Transition Assistance Program (TAP) for service members preparing for separation or retirement from the military. Open to transitioning service members who have completed the TAP Workshop and their spouses.
URL:https://kadenafss.com/event/department-of-labor-employment-track-2/2026-04-22
LOCATION:Education Center | Rm 115
CATEGORIES:Active Duty, Career and Education Events,M&FRC
ATTACH;FMTTYPE=image/png:https://kadenafss.com/wp-content/uploads/2026/02/Event-Loading.png
END:VEVENT
BEGIN:VEVENT
DTSTART;TZID=Asia/Tokyo:20260422T090000
DTEND;TZID=Asia/Tokyo:20260422T100000
DTSTAMP:20260422T032524
CREATED:20260302T064757Z
LAST-MODIFIED:20260317T060936Z
UID:10033518-1776848400-1776852000@kadenafss.com
SUMMARY:Pre-Deployment Briefing
DESCRIPTION:Open to all members deploying for 30 days or more. Family members are encouraged to attend.
URL:https://kadenafss.com/event/pre-deployment-briefing/2026-04-22
LOCATION:Military & Family Readiness Center\, 575 Gunfighter Ave\, Bldg 180\, Mountain Home AFB\, ID\, 83648\, United States
CATEGORIES:Active Duty, Career and Education Events,M&FRC
ATTACH;FMTTYPE=image/png:https://kadenafss.com/wp-content/uploads/2024/04/untitled_design-2._65a0a4bf5e6051.51386710.png
END:VEVENT
BEGIN:VEVENT
DTSTART;TZID=Asia/Tokyo:20260422T110000
DTEND;TZID=Asia/Tokyo:20260422T120000
DTSTAMP:20260422T032524
CREATED:20260317T051315Z
LAST-MODIFIED:20260317T051315Z
UID:10033507-1776855600-1776859200@kadenafss.com
SUMMARY:EFMP 101
DESCRIPTION:An overview of the Exceptional Family Member Program and the local resources available to support service members and their family. Learn how each EFMP component supports your family. Ideal for newly Q-Coded members and anyone interested in knowing more about EFMP.
URL:https://kadenafss.com/event/efmp-101
LOCATION:Military & Family Readiness Center\, 575 Gunfighter Ave\, Bldg 180\, Mountain Home AFB\, ID\, 83648\, United States
CATEGORIES:Active Duty, Career and Education Events,M&FRC
ATTACH;FMTTYPE=image/png:https://kadenafss.com/wp-content/uploads/2025/09/EFMP.png
END:VEVENT
BEGIN:VEVENT
DTSTART;TZID=UTC:20260422T140000
DTEND;TZID=UTC:20260422T150000
DTSTAMP:20260422T032524
CREATED:20251219T060019Z
LAST-MODIFIED:20251229T010837Z
UID:10027484-1776866400-1776870000@kadenafss.com
SUMMARY:Power Hour
DESCRIPTION:Monday – Friday •  2 – 3 pm \nAs the new school year begins\, be sure to use the Teen Center’s Power Hour Program! Do homework\, get peer tutoring\, form study groups\, all while earning points for prizes such as gift cards\, snack bar coupons\, and games!
URL:https://kadenafss.com/event/power-hour-2/2026-04-22
CATEGORIES:Fun Events,Teen Center
ATTACH;FMTTYPE=image/png:https://kadenafss.com/wp-content/uploads/2024/08/Power-Hour-.png
END:VEVENT
BEGIN:VEVENT
DTSTART;TZID=Asia/Tokyo:20260422T140000
DTEND;TZID=Asia/Tokyo:20260422T150000
DTSTAMP:20260422T032524
CREATED:20260227T073215Z
LAST-MODIFIED:20260330T053023Z
UID:10033796-1776866400-1776870000@kadenafss.com
SUMMARY:Face-to-Face TA Brief for First-Time TA users
DESCRIPTION:Register in AFVEC → Ed Center info banner on right → Ed Center Events
URL:https://kadenafss.com/event/face-to-face-ta-brief-for-first-time-ta-users/2026-04-22
LOCATION:Education Center | Rm 115
CATEGORIES:Active Duty, Career and Education Events,Education
END:VEVENT
BEGIN:VEVENT
DTSTART;TZID=UTC:20260422T160000
DTEND;TZID=UTC:20260422T210000
DTSTAMP:20260422T032524
CREATED:20251219T060951Z
LAST-MODIFIED:20260202T003649Z
UID:10027964-1776873600-1776891600@kadenafss.com
SUMMARY:Wednesdays Kids Night Special
DESCRIPTION:The Rocker Club \nKids Night Special \nWednesdays | 4 – 9 p.m. \nBring the whole family! Children ages 12 and under enjoy special pricing with any adult entrée. Dine-in only. \nFree | Ages 4 and under \n50% off | Ages 5 – 12 \n 
URL:https://kadenafss.com/event/wednesdays-kids-night-special-2/2026-04-22
LOCATION:Kazoku Place\, The Rocker\, Kazoku Place\, The Rocker\, Building #622\, Kadena AB\, Okinawa\, 904-0000\, Japan
CATEGORIES:Food Events,Kazoku,The Rocker
ATTACH;FMTTYPE=image/jpeg:https://kadenafss.com/wp-content/uploads/2025/12/Kids-Eat-Free-DS-1920-x-1016-px.jpg
END:VEVENT
BEGIN:VEVENT
DTSTART;TZID=UTC:20260422T170000
DTEND;TZID=UTC:20260422T183000
DTSTAMP:20260422T032524
CREATED:20251219T060735Z
LAST-MODIFIED:20260318T072127Z
UID:10033693-1776877200-1776882600@kadenafss.com
SUMMARY:Japanese Conversation Classes
DESCRIPTION:Mondays or Wednesdays | 5 – 6:30 p.m. \n$40 registration fee | Includes four classes \nLocation Schilling Community Center\nContact https://www.facebook.com/KadenaCommunityCenter/
URL:https://kadenafss.com/event/japanese-conversation-classes-2/2026-04-22
LOCATION:Schilling Community Center\, Building #455\, Schilling Community Center\, Building #455\, Kadena AB\, Okinawa\, 904-0200\, Japan
CATEGORIES:Active Duty, Career and Education Events,Shilling Community Center
ATTACH;FMTTYPE=image/jpeg:https://kadenafss.com/wp-content/uploads/2025/09/Webpage-Resize.jpg
END:VEVENT
BEGIN:VEVENT
DTSTART;TZID=Asia/Tokyo:20260422T190000
DTEND;TZID=Asia/Tokyo:20260422T220000
DTSTAMP:20260422T032524
CREATED:20260316T061458Z
LAST-MODIFIED:20260317T013713Z
UID:10033206-1776884400-1776895200@kadenafss.com
SUMMARY:Country Line Dancing
DESCRIPTION:Every Wednesday from 7p.m. to 10 p.m. \nGrab your boots and hit the dance floor for Country Line Dancing at The Rocker Club! Whether you’re a seasoned dancer or trying it for the first time\, it’s all about having fun\, learning the steps\, and moving to the rhythm together.
URL:https://kadenafss.com/event/country-line-dancing/2026-04-22
LOCATION:The Rocker Club\, Building #622\, The Rocker Club\, Building #622\, Kadena AB\, Okinawa\, 904-0000\, Japan
CATEGORIES:Fun Events,The Rocker
ATTACH;FMTTYPE=image/png:https://kadenafss.com/wp-content/uploads/2025/09/Country-Line-Dancing-DS-1920-x-1016-px.png
END:VEVENT
END:VCALENDAR